BEGIN:VCALENDAR
VERSION:2.0
PRODID:-//Unitus - ECPv6.15.20//NONSGML v1.0//EN
CALSCALE:GREGORIAN
METHOD:PUBLISH
X-ORIGINAL-URL:https://www.unitus.it
X-WR-CALDESC:Eventi per Unitus
REFRESH-INTERVAL;VALUE=DURATION:PT1H
X-Robots-Tag:noindex
X-PUBLISHED-TTL:PT1H
BEGIN:VTIMEZONE
TZID:Europe/Rome
BEGIN:DAYLIGHT
TZOFFSETFROM:+0100
TZOFFSETTO:+0200
TZNAME:CEST
DTSTART:20250330T010000
END:DAYLIGHT
BEGIN:STANDARD
TZOFFSETFROM:+0200
TZOFFSETTO:+0100
TZNAME:CET
DTSTART:20251026T010000
END:STANDARD
BEGIN:DAYLIGHT
TZOFFSETFROM:+0100
TZOFFSETTO:+0200
TZNAME:CEST
DTSTART:20260329T010000
END:DAYLIGHT
BEGIN:STANDARD
TZOFFSETFROM:+0200
TZOFFSETTO:+0100
TZNAME:CET
DTSTART:20261025T010000
END:STANDARD
BEGIN:DAYLIGHT
TZOFFSETFROM:+0100
TZOFFSETTO:+0200
TZNAME:CEST
DTSTART:20270328T010000
END:DAYLIGHT
BEGIN:STANDARD
TZOFFSETFROM:+0200
TZOFFSETTO:+0100
TZNAME:CET
DTSTART:20271031T010000
END:STANDARD
END:VTIMEZONE
BEGIN:VEVENT
DTSTART;TZID=Europe/Rome:20260312T173000
DTEND;TZID=Europe/Rome:20260312T193000
DTSTAMP:20260423T035135
CREATED:20260306T104547Z
LAST-MODIFIED:20260310T073228Z
UID:10001502-1773336600-1773343800@www.unitus.it
SUMMARY:Una visione solarpunk sull’etica dell’IA
DESCRIPTION:Il solarpunk è un immaginario culturale e narrativo che propone visioni del futuro fondate sulla sostenibilità ecologica\, sulla giustizia sociale e su un uso della tecnologia orientato al bene comune. A partire da questa prospettiva\, l’incontro intende riflettere sul ruolo che le nuove tecnologie – e in particolare l’intelligenza artificiale – possono svolgere nel promuovere e sostenere politiche di tutela della natura e di transizione ecologica. \nIl solarpunk non si limita infatti a immaginare scenari tecnologici alternativi\, ma invita a ripensare il rapporto tra esseri umani\, tecnica e ambiente\, proponendo modelli di innovazione capaci di integrare progresso tecnologico\, responsabilità etica e cura del mondo naturale. Attraverso il confronto con questo immaginario\, l’incontro cercherà dunque di interrogarsi sulle implicazioni morali e di filosofia del diritto dello sviluppo dell’IA e di immaginare forme di sviluppo tecnologico più inclusive\, partecipative e sostenibili\, nelle quali l’innovazione non sia orientata soltanto all’efficienza o alla crescita economica\, ma anche alla promozione di valori etici e di nuove forme di convivenza tra società\, tecnologia e natura. \n  \n  \nProgramma
URL:https://www.unitus.it/evento/una-visione-solarpunk-sulletica-dellia/
LOCATION:Sala Conferenze – Polo bibliotecario\, Via Santa Maria in Gradi\, 4\, Viterbo\, 01100\, Italy
CATEGORIES:Convegno
ATTACH;FMTTYPE=image/png:https://www.unitus.it/wp-content/uploads/2026/03/Screenshot-2026-03-06-alle-11.43.17.png
END:VEVENT
END:VCALENDAR