BEGIN:VCALENDAR
VERSION:2.0
PRODID:-//Unitus - ECPv6.15.20//NONSGML v1.0//EN
CALSCALE:GREGORIAN
METHOD:PUBLISH
X-ORIGINAL-URL:https://www.unitus.it
X-WR-CALDESC:Eventi per Unitus
REFRESH-INTERVAL;VALUE=DURATION:PT1H
X-Robots-Tag:noindex
X-PUBLISHED-TTL:PT1H
BEGIN:VTIMEZONE
TZID:Europe/Rome
BEGIN:DAYLIGHT
TZOFFSETFROM:+0100
TZOFFSETTO:+0200
TZNAME:CEST
DTSTART:20250330T010000
END:DAYLIGHT
BEGIN:STANDARD
TZOFFSETFROM:+0200
TZOFFSETTO:+0100
TZNAME:CET
DTSTART:20251026T010000
END:STANDARD
BEGIN:DAYLIGHT
TZOFFSETFROM:+0100
TZOFFSETTO:+0200
TZNAME:CEST
DTSTART:20260329T010000
END:DAYLIGHT
BEGIN:STANDARD
TZOFFSETFROM:+0200
TZOFFSETTO:+0100
TZNAME:CET
DTSTART:20261025T010000
END:STANDARD
BEGIN:DAYLIGHT
TZOFFSETFROM:+0100
TZOFFSETTO:+0200
TZNAME:CEST
DTSTART:20270328T010000
END:DAYLIGHT
BEGIN:STANDARD
TZOFFSETFROM:+0200
TZOFFSETTO:+0100
TZNAME:CET
DTSTART:20271031T010000
END:STANDARD
END:VTIMEZONE
BEGIN:VEVENT
DTSTART;TZID=Europe/Rome:20260605T100000
DTEND;TZID=Europe/Rome:20260605T120000
DTSTAMP:20260425T040535
CREATED:20260424T105020Z
LAST-MODIFIED:20260424T105020Z
UID:10001605-1780653600-1780660800@www.unitus.it
SUMMARY:Come Diventare un Tecnologo alimentare?
DESCRIPTION:Programma (pdf)
URL:https://www.unitus.it/evento/come-diventare-un-tecnologo-alimentare/
LOCATION:Aula 5 Blocco A1 Agraria\, Via S Camillo de Lellis\, Viterbo
CATEGORIES:Seminario
ATTACH;FMTTYPE=image/png:https://www.unitus.it/wp-content/uploads/2026/04/giugno-5-2026.png
END:VEVENT
END:VCALENDAR