BEGIN:VCALENDAR
VERSION:2.0
PRODID:-//Unitus - ECPv6.15.20//NONSGML v1.0//EN
CALSCALE:GREGORIAN
METHOD:PUBLISH
X-ORIGINAL-URL:https://www.unitus.it
X-WR-CALDESC:Eventi per Unitus
REFRESH-INTERVAL;VALUE=DURATION:PT1H
X-Robots-Tag:noindex
X-PUBLISHED-TTL:PT1H
BEGIN:VTIMEZONE
TZID:Europe/Rome
BEGIN:DAYLIGHT
TZOFFSETFROM:+0100
TZOFFSETTO:+0200
TZNAME:CEST
DTSTART:20250330T010000
END:DAYLIGHT
BEGIN:STANDARD
TZOFFSETFROM:+0200
TZOFFSETTO:+0100
TZNAME:CET
DTSTART:20251026T010000
END:STANDARD
BEGIN:DAYLIGHT
TZOFFSETFROM:+0100
TZOFFSETTO:+0200
TZNAME:CEST
DTSTART:20260329T010000
END:DAYLIGHT
BEGIN:STANDARD
TZOFFSETFROM:+0200
TZOFFSETTO:+0100
TZNAME:CET
DTSTART:20261025T010000
END:STANDARD
BEGIN:DAYLIGHT
TZOFFSETFROM:+0100
TZOFFSETTO:+0200
TZNAME:CEST
DTSTART:20270328T010000
END:DAYLIGHT
BEGIN:STANDARD
TZOFFSETFROM:+0200
TZOFFSETTO:+0100
TZNAME:CET
DTSTART:20271031T010000
END:STANDARD
END:VTIMEZONE
BEGIN:VEVENT
DTSTART;TZID=Europe/Rome:20260525T141500
DTEND;TZID=Europe/Rome:20260525T170000
DTSTAMP:20260421T192046
CREATED:20260421T063222Z
LAST-MODIFIED:20260421T124355Z
UID:10001596-1779718500-1779728400@www.unitus.it
SUMMARY:Incontro Scuola - Unitus
DESCRIPTION:L’Ufficio Orientamento dell’Università degli Studi della Tuscia promuove un incontro rivolto a Dirigenti Scolastiche e Scolastici e a Referenti per l’orientamento\, dedicato alla programmazione condivisa delle attività di collaborazione tra Scuola e Università. \nL’iniziativa\, che si terrà il 25 maggio presso l’Aula Magna del Rettorato (Via Santa Maria in Gradi\, 4) offrirà l’opportunità di pianificare le attività di orientamento in calendario affinché\, già a partire dal mese di settembre e con la ripresa dell’anno scolastico\, possano essere avviate tempestivamente. Sarà inoltre possibile conoscere le proposte di Formazione Scuola-Lavoro dei singoli Dipartimenti e avviare una riflessione congiunta su strategie e modalità di sviluppo dell’orientamento successivamente alla conclusione delle attività finanziate nell’ambito del progetto PNRR – Orientamento attivo “Next Generation” e dei Programmi Operativi Complementari (POC). \nIl programma dettagliato sarà disponibile a breve. \nPer manifestare la propria volontà di aderire è gradita la compilazione del form dedicato\, attraverso il quale sarà inoltre possibile segnalare l’eventuale esigenza di ricevere un link per il collegamento da remoto.
URL:https://www.unitus.it/evento/incontro-scuola-unitus/
LOCATION:Aula Magna – Rettorato\, Via Santa Maria in Gradi 4\, Viterbo\, Viterbo\, 01100\, Italia
CATEGORIES:Conferenza
ATTACH;FMTTYPE=image/jpeg:https://www.unitus.it/wp-content/uploads/2026/03/pexels-caleboquendo-11329860-scaled.jpg
END:VEVENT
END:VCALENDAR