BEGIN:VCALENDAR
VERSION:2.0
PRODID:-//Unitus - ECPv6.15.20//NONSGML v1.0//EN
CALSCALE:GREGORIAN
METHOD:PUBLISH
X-WR-CALNAME:Unitus
X-ORIGINAL-URL:https://www.unitus.it
X-WR-CALDESC:Eventi per Unitus
REFRESH-INTERVAL;VALUE=DURATION:PT1H
X-Robots-Tag:noindex
X-PUBLISHED-TTL:PT1H
BEGIN:VTIMEZONE
TZID:Europe/Rome
BEGIN:DAYLIGHT
TZOFFSETFROM:+0100
TZOFFSETTO:+0200
TZNAME:CEST
DTSTART:20250330T010000
END:DAYLIGHT
BEGIN:STANDARD
TZOFFSETFROM:+0200
TZOFFSETTO:+0100
TZNAME:CET
DTSTART:20251026T010000
END:STANDARD
BEGIN:DAYLIGHT
TZOFFSETFROM:+0100
TZOFFSETTO:+0200
TZNAME:CEST
DTSTART:20260329T010000
END:DAYLIGHT
BEGIN:STANDARD
TZOFFSETFROM:+0200
TZOFFSETTO:+0100
TZNAME:CET
DTSTART:20261025T010000
END:STANDARD
BEGIN:DAYLIGHT
TZOFFSETFROM:+0100
TZOFFSETTO:+0200
TZNAME:CEST
DTSTART:20270328T010000
END:DAYLIGHT
BEGIN:STANDARD
TZOFFSETFROM:+0200
TZOFFSETTO:+0100
TZNAME:CET
DTSTART:20271031T010000
END:STANDARD
END:VTIMEZONE
BEGIN:VEVENT
DTSTART;VALUE=DATE:20260219
DTEND;VALUE=DATE:20260529
DTSTAMP:20260421T091603
CREATED:20260212T123210Z
LAST-MODIFIED:20260414T100433Z
UID:10001450-1771459200-1780012799@www.unitus.it
SUMMARY:Spring DEBates 2026: la quinta edizione della storica rassegna di seminari del DEB si rinnova\, pronta a offrirvi incontri stimolanti e speaker d’eccellenza
DESCRIPTION:Dal 2022\, ogni primavera il Dipartimento di Scienze Ecologiche e Biologiche (DEB) propone un ciclo di seminari che mette al centro il dialogo scientifico. Anche quest’anno tornano gli Spring DEBates\, in una veste completamente rinnovata: docenti e ricercatori nazionali e internazionali si racconteranno e condivideranno le loro ricerche\, idee e prospettive sulle questioni scientifiche più attuali. \nIl ciclo\, coordinato dal Prof. Giovanni Polverino\, rientra nell’ambito delle attività formative del Dottorato in “Ecologia e gestione sostenibile delle risorse ambientali”\, ma la partecipazione è aperta a tutti. Si compone di otto interventi indipendenti e avrà inizio il 19 febbraio\, per concludersi il 28 maggio. I seminari si terranno in modalità mista (in presenza\, presso le aule del DEB e/o online\, in diretta streaming su Zoom) con cadenza quindicinale\, il giovedì pomeriggio\, dalle ore 14:00 alle ore 15:00. \nLa quinta edizione sarà inaugurata dal Prof. Nicolò Colombani\, Professore Associato presso il Dipartimento di Scienze e Ingegneria della Materia\, dell’Ambiente e dell’Urbanistica dell’Università Politecnica delle Marche\, con un intervento dal titolo “Salinity origins and patterns in shallow groundwater bodies of the Po River lowland”. \nA tutti i dottorandi in Ecologia e gestione sostenibile delle risorse ambientali verrà riconosciuto 1 CFU\, a fronte della partecipazione a tutti i seminari.  \nLa partecipazione non richiede registrazione: i link per i seminari online saranno pubblicati sul sito del DEB e sui canali social una settimana prima di ciascun evento. \nÈ possibile consultare il programma completo del ciclo di seminari qui \nScarica qui la locandina del primo seminario. Link per partecipare: https://unitus.zoom.us/j/87184857245 \n\n		\n		\n			\n				\n			\n			\n				\n			\n		\n\n 
URL:https://www.unitus.it/evento/spring-debates-2026-la-quinta-edizione-della-storica-rassegna-di-seminari-del-deb-si-rinnova-pronta-a-offrirvi-incontri-stimolanti-e-speaker-deccellenza/
LOCATION:Viterbo
CATEGORIES:Seminario
ATTACH;FMTTYPE=image/jpeg:https://www.unitus.it/wp-content/uploads/2026/02/20240527_093848-scaled.jpg
END:VEVENT
BEGIN:VEVENT
DTSTART;TZID=Europe/Rome:20260314T080000
DTEND;TZID=Europe/Rome:20260916T170000
DTSTAMP:20260421T091603
CREATED:20260313T083950Z
LAST-MODIFIED:20260313T084453Z
UID:10001511-1773475200-1789578000@www.unitus.it
SUMMARY:SHWA 2026: a Roma e Viterbo la IX edizione della Conferenza internazionale su Sicurezza\, Salute e Benessere nei sistemi agro-alimentari e forestali
DESCRIPTION:Dal 14 al 16 settembre 2026 il Dipartimento di Scienze Agrarie e Forestali dell’Università della Tuscia (DAFNE) organizza\, insieme a INAIL\, la IX SHWA Conference – Safety\, Health and Welfare in Agriculture & Agro-Food Systems\, uno degli appuntamenti internazionali di riferimento dedicati a ricerca\, innovazione e politiche per rendere più sicuri e sostenibili i contesti di lavoro in agricoltura\, agro-industria e foreste. \nL’edizione 2026 sarà per la prima volta itinerante e si svolgerà tra Roma (presso la sede INAIL) e Viterbo (presso le sedi dell’Università della Tuscia e del DAFNE)\, con sessioni parallele\, momenti di confronto con esperti internazionali e attività sul territorio (incluse visite tecniche). \nCall for Abstracts e pubblicazione\nÈ aperta la Call for Abstracts: i contributi selezionati potranno accedere alla pubblicazione negli atti della conferenza (processo di peer-review Springer). \nScadenza abstract: 14 marzo 2026. \nInformazioni e iscrizioni\nDettagli su temi\, invio contributi\, programma\, sedi e registrazione sono disponibili sul sito ufficiale: shwaconference.eu.\nPer contatti: info@shwaconference.eu.
URL:https://www.unitus.it/evento/shwa-2026-a-roma-e-viterbo-la-ix-edizione-della-conferenza-internazionale-su-sicurezza-salute-e-benessere-nei-sistemi-agro-alimentari-e-forestali/
LOCATION:Aula Magna Giovanni Giovannozzi Sermanni\, Via San Camillo de Lellis snc\, VITERBO\, Viterbo\, 01100\, Italy
CATEGORIES:Eventi giornalieri
ATTACH;FMTTYPE=image/jpeg:https://www.unitus.it/wp-content/uploads/2026/03/PAST_EVENTS_01-scaled.jpg
END:VEVENT
BEGIN:VEVENT
DTSTART;VALUE=DATE:20260525
DTEND;VALUE=DATE:20260528
DTSTAMP:20260421T091603
CREATED:20260128T102053Z
LAST-MODIFIED:20260311T092228Z
UID:10001410-1779667200-1779926399@www.unitus.it
SUMMARY:International workshop | Climate\, landscape and human impact in Italy during the Etruscan period
DESCRIPTION:Dal 25 al 27 maggio 2026 il Dipartimento di Scienze della Terra dell’Università di Pisa ospiterà un workshop internazionale sulle interazioni tra le comunità umane e l’ambiente nell’Italia tirrenica centrale durante la prima Età del Ferro (ca. 1000–500 a.C.). L’iniziativa riunisce paleoclimatologi\, paleobotanici\, archeologi e storici per approfondire i rapporti tra le società antiche e il contesto ambientale. \nIl Dipartimento di Scienze Ecologiche e Biologiche (DEB) dell’Università degli Studi della Tuscia partecipa all’evento come partner\, con il coinvolgimento di Gianluca Piovesan\, membro del comitato scientifico\, e di Jordan Palli\, membro del comitato organizzatore. \nLa partecipazione al workshop è gratuita. Gli interessati possono presentare il proprio contributo entro il 13 febbraio 2026; l’accettazione delle proposte sarà comunicata entro il 6 marzo 2026. \nPer ulteriori informazioni e per sottomettere il proprio contributo scientifico\, consultare il sito web ufficiale. \nLOCANDINA
URL:https://www.unitus.it/evento/international-workshop-climate-landscape-and-human-impact-in-italy-during-the-etruscan-period/
LOCATION:Department of Earth Science\, University of Pisa\, Via Santa Maria 53\, Pisa\, 56126\, Italy
CATEGORIES:Convegno,Eventi giornalieri
ATTACH;FMTTYPE=image/png:https://www.unitus.it/wp-content/uploads/2026/01/Screenshot-2026-01-28-111901-e1773220936228.png
END:VEVENT
BEGIN:VEVENT
DTSTART;TZID=Europe/Rome:20260525T140000
DTEND;TZID=Europe/Rome:20260525T170000
DTSTAMP:20260421T091603
CREATED:20260421T063222Z
LAST-MODIFIED:20260421T063451Z
UID:10001596-1779717600-1779728400@www.unitus.it
SUMMARY:Incontro Scuola - Unitus
DESCRIPTION:L’Ufficio Orientamento dell’Università degli Studi della Tuscia promuove un incontro rivolto a Dirigenti Scolastiche e Scolastici e a Referenti per l’orientamento\, dedicato alla programmazione condivisa delle attività di collaborazione tra Scuola e Università. \nL’iniziativa\, che si terrà il 25 maggio presso l’Aula Magna del Rettorato (Via Santa Maria in Gradi\, 4) offrirà l’opportunità di pianificare le attività di orientamento in calendario affinché\, già a partire dal mese di settembre e con la ripresa dell’anno scolastico\, possano essere avviate tempestivamente. Sarà inoltre possibile conoscere le proposte di Formazione Scuola-Lavoro dei singoli Dipartimenti e avviare una riflessione congiunta su strategie e modalità di sviluppo dell’orientamento successivamente alla conclusione delle attività finanziate nell’ambito del progetto PNRR – Orientamento attivo “Next Generation” e dei Programmi Operativi Complementari (POC). \nIl programma dettagliato sarà disponibile a breve. \nPer manifestare la propria volontà di aderire è gradita la compilazione del form dedicato\, attraverso il quale sarà inoltre possibile segnalare l’eventuale esigenza di ricevere un link per il collegamento da remoto.
URL:https://www.unitus.it/evento/incontro-scuola-unitus/
LOCATION:Aula Magna – Rettorato\, Via Santa Maria in Gradi 4\, Viterbo\, Viterbo\, 01100\, Italia
CATEGORIES:Conferenza
ATTACH;FMTTYPE=image/jpeg:https://www.unitus.it/wp-content/uploads/2026/03/pexels-caleboquendo-11329860-scaled.jpg
END:VEVENT
BEGIN:VEVENT
DTSTART;TZID=Europe/Rome:20260527T160000
DTEND;TZID=Europe/Rome:20260530T180000
DTSTAMP:20260421T091603
CREATED:20260413T082332Z
LAST-MODIFIED:20260420T080201Z
UID:10001567-1779897600-1780164000@www.unitus.it
SUMMARY:20th AICW Conference
DESCRIPTION:È ora disponibile online il programma del convegno internazionale \n“COMMON GROUND\, DISTANT SHORES: Prospettive interdisciplinari tra Italia e Canada”\, \n20th AICW Conference. L’evento si terrà a Viterbo\, presso il Dipartimento DISTU – Complesso San Carlo\, dal 27 al 29 maggio 2026. \nL’apertura ufficiale dei lavori è prevista per il 28 maggio presso l’Aula Magna. Il convegno riunirà studiose e studiosi provenienti da diversi ambiti disciplinari\, con l’obiettivo di favorire il dialogo e il confronto tra Italia e Canada su tematiche di interesse comune. \nÈ possibile consultare il programma completo PROGRAM_Conference – Simone Casini \nper info\n\n\nsimone.casini@unitus.it
URL:https://www.unitus.it/evento/20th-aicw-conference/
LOCATION:Aula Magna – Complesso San Carlo
CATEGORIES:Convegno
ATTACH;FMTTYPE=image/jpeg:https://www.unitus.it/wp-content/uploads/2026/04/Cattura3-e1776672113589.jpg
END:VEVENT
END:VCALENDAR