BEGIN:VCALENDAR
VERSION:2.0
PRODID:-//Unitus - ECPv6.15.20//NONSGML v1.0//EN
CALSCALE:GREGORIAN
METHOD:PUBLISH
X-WR-CALNAME:Unitus
X-ORIGINAL-URL:https://www.unitus.it
X-WR-CALDESC:Eventi per Unitus
REFRESH-INTERVAL;VALUE=DURATION:PT1H
X-Robots-Tag:noindex
X-PUBLISHED-TTL:PT1H
BEGIN:VTIMEZONE
TZID:Europe/Rome
BEGIN:DAYLIGHT
TZOFFSETFROM:+0100
TZOFFSETTO:+0200
TZNAME:CEST
DTSTART:20240331T010000
END:DAYLIGHT
BEGIN:STANDARD
TZOFFSETFROM:+0200
TZOFFSETTO:+0100
TZNAME:CET
DTSTART:20241027T010000
END:STANDARD
BEGIN:DAYLIGHT
TZOFFSETFROM:+0100
TZOFFSETTO:+0200
TZNAME:CEST
DTSTART:20250330T010000
END:DAYLIGHT
BEGIN:STANDARD
TZOFFSETFROM:+0200
TZOFFSETTO:+0100
TZNAME:CET
DTSTART:20251026T010000
END:STANDARD
BEGIN:DAYLIGHT
TZOFFSETFROM:+0100
TZOFFSETTO:+0200
TZNAME:CEST
DTSTART:20260329T010000
END:DAYLIGHT
BEGIN:STANDARD
TZOFFSETFROM:+0200
TZOFFSETTO:+0100
TZNAME:CET
DTSTART:20261025T010000
END:STANDARD
END:VTIMEZONE
BEGIN:VEVENT
DTSTART;TZID=Europe/Rome:20250409T150000
DTEND;TZID=Europe/Rome:20251217T170000
DTSTAMP:20260422T034940
CREATED:20250328T101313Z
LAST-MODIFIED:20250328T101313Z
UID:10000933-1744210800-1765990800@www.unitus.it
SUMMARY:Terza Edizione di "Toward Green Horizon": Un Viaggio nel Futuro della Sostenibilità
DESCRIPTION:Il ciclo di webinar “Toward Green Horizon” torna con la sua terza edizione\, pronta a partire il 9 aprile e a proseguire per tutto il 2025. Un’opportunità imperdibile per esplorare temi cruciali nel panorama scientifico e socio-politico attuale\, con un focus su: \n Scienze agrarie e forestali\n Energie rinnovabili\n Sicurezza sul lavoro\n Le tre grandi transizioni: energetica\, digitale ed ecologica \nQuesti argomenti assumono un ruolo strategico\, soprattutto in relazione agli ingenti investimenti previsti dal PNRR. \n Un Percorso di Alta Formazione\nSono in programma 26 seminari\, tenuti da docenti universitari\, funzionari\, ricercatori ed esperti di settore\, che condivideranno il proprio know-how e mostreranno le applicazioni pratiche delle loro ricerche nel mondo del lavoro. Un’opportunità di approfondimento con un approccio multidisciplinare e un alto livello di specializzazione. \n Un’Iniziativa di Prestigio\nIl ciclo di webinar è organizzato nell’ambito del:\n Dottorato in “Engineering for Energy and Environment”\n Accordo Quadro CREA-UNITUS (Consiglio per la ricerca in agricoltura e l’analisi dell’economia agraria e Università degli Studi della Tuscia)\n Progetto MUR Dipartimenti di Eccellenza “D.I.Ver.So” (Digitali\, Intelligenti\, Verdi e Sostenibili) \n Un Hub Digitale per l’Iniziativa\nQuest’anno sarà disponibile una pagina web dedicata  https://seminaricreaunitus.crea.gov.it/ con tutte le informazioni utili per iscriversi e partecipare agli eventi. \n Dove trovare le locandine con i link Zoom? \n\nSui canali social del CREA e dell’Università della Tuscia\nSul sito web dell’iniziativa\nAttraverso il portale della Regione Lazio “Porta Futuro Lazio”\n\n Formazione\, Crediti e Opportunità\n Partecipazione gratuita e aperta a tutti\n Riconoscimento CFP per professionisti: \n\n0\,25 CFP dall’Ordine dei Dottori Agronomi e Forestali di Viterbo\n2 CFP dal Collegio Territoriale dei Periti Agrari di Roma\n2 CFP dal Collegio Nazionale degli Agrotecnici\n\n Validità ai fini della formazione obbligatoria\nIl progetto formativo contribuisce al raggiungimento delle 40 ore annuali di formazione previste dalla Direttiva del Ministro della Pubblica Amministrazione del 16/01/2025. Per ottenere il riconoscimento\, è necessario superare il test di verifica finale. \n Scarica qui il programma completo!
URL:https://www.unitus.it/evento/terza-edizione-di-toward-green-horizon-un-viaggio-nel-futuro-della-sostenibilita/
CATEGORIES:Eventi giornalieri
ATTACH;FMTTYPE=image/png:https://www.unitus.it/wp-content/uploads/2025/03/Logo-TGH.png
END:VEVENT
BEGIN:VEVENT
DTSTART;TZID=Europe/Rome:20251215T103000
DTEND;TZID=Europe/Rome:20251215T133000
DTSTAMP:20260422T034940
CREATED:20251205T090200Z
LAST-MODIFIED:20251205T090200Z
UID:10001369-1765794600-1765805400@www.unitus.it
SUMMARY:INCONTRO TECNICO SULLA PRODUZIONE DI PATATA NELL'ALTO VITERBESE
DESCRIPTION:Il giorno 15 Dicembre 2025\, nella Sala dei Convegni a Grotte di Castro\, l’Università degli Studi della Tuscia (prof. Roberto Mancinelli\, Prof. Gabriele Chilosi) incontra le associazioni di produttori di patate dell’Alto Viterbese per discutere di innovazione in questo settore strategico della produzione agroalimentare regionale
URL:https://www.unitus.it/evento/incontro-tecnico-sulla-produzione-di-patata-nellalto-viterbese/
LOCATION:Grotte di Castro\, Località Salcinella\, Località Salcinella\, Grotte di Castro\, 01025\, Italy
CATEGORIES:Convegno
ATTACH;FMTTYPE=image/png:https://www.unitus.it/wp-content/uploads/2025/12/locandina-convegno-ccorav-scaled.png
END:VEVENT
BEGIN:VEVENT
DTSTART;TZID=Europe/Rome:20251217T130000
DTEND;TZID=Europe/Rome:20251217T180000
DTSTAMP:20260422T034940
CREATED:20251201T082322Z
LAST-MODIFIED:20251216T112330Z
UID:10001362-1765976400-1765994400@www.unitus.it
SUMMARY:Dottorato in Economia Management e Metodi Quantitativi - Workshop Dottorandi del XXXVIII e XXXIX Ciclo - 17 Dicembre 2025
DESCRIPTION:Il giorno 17 DICEMBRE 2025\, orario 13:15 – 18:15\, si svolgerà l’evento di presentazione dei progetti di ricerca dei dottorandi del XXXVIII e XXXIX ciclo presso l’aula 5 DEIM\, via del Paradiso 47. \nLocandina Workshop
URL:https://www.unitus.it/evento/dottorato-in-economia-management-e-metodi-quantitativi-workshop-dottorandi-del-xxxviii-e-xxxix-ciclo-17-dicembre-2025/
CATEGORIES:Convegno
ATTACH;FMTTYPE=image/png:https://www.unitus.it/wp-content/uploads/2025/12/Cattura.png
END:VEVENT
BEGIN:VEVENT
DTSTART;TZID=Europe/Rome:20251217T140000
DTEND;TZID=Europe/Rome:20251217T170000
DTSTAMP:20260422T034940
CREATED:20251028T143111Z
LAST-MODIFIED:20251126T111859Z
UID:10001298-1765980000-1765990800@www.unitus.it
SUMMARY:Test Ingresso L-4 Design
DESCRIPTION:Sede di Viterbo. \nLe iscrizioni sul portale Gomp si chiudono il giorno 15 dicembre alle ore 14:00. \nFascia oraria 14:00 – 17:00. \n> Prenota il tuo test
URL:https://www.unitus.it/evento/test-ingresso-l-4-design-14/
CATEGORIES:Eventi test
END:VEVENT
BEGIN:VEVENT
DTSTART;TZID=Europe/Rome:20251217T140000
DTEND;TZID=Europe/Rome:20251217T170000
DTSTAMP:20260422T034940
CREATED:20251028T143458Z
LAST-MODIFIED:20251126T111929Z
UID:10001300-1765980000-1765990800@www.unitus.it
SUMMARY:Test Ingresso Macroaree Umanistica-Scientifica-Economica
DESCRIPTION:Sede di Viterbo. \nLe iscrizioni sul portale Gomp si chiudono il giorno 15 dicembre alle ore 14:00. \nFascia oraria 14:00 – 17:00. \n> Prenota il tuo test
URL:https://www.unitus.it/evento/test-ingresso-macroaree-umanistica-scientifica-economica-13/
CATEGORIES:Eventi test
END:VEVENT
BEGIN:VEVENT
DTSTART;TZID=Europe/Rome:20251217T140000
DTEND;TZID=Europe/Rome:20251217T170000
DTSTAMP:20260422T034940
CREATED:20251028T144256Z
LAST-MODIFIED:20251126T111954Z
UID:10001302-1765980000-1765990800@www.unitus.it
SUMMARY:Test Ingresso L-9 Ingegneria Industriale
DESCRIPTION:Le iscrizioni sul portale Gomp si chiudono il giorno 15 dicembre alle ore 14.00. \nFascia oraria 14:00 – 17:00. \n> Prenota il tuo test
URL:https://www.unitus.it/evento/test-ingresso-l-9-ingegneria-industriale-12/
CATEGORIES:Eventi test
END:VEVENT
BEGIN:VEVENT
DTSTART;TZID=Europe/Rome:20251217T140000
DTEND;TZID=Europe/Rome:20251217T170000
DTSTAMP:20260422T034940
CREATED:20251126T144700Z
LAST-MODIFIED:20251126T144700Z
UID:10001357-1765980000-1765990800@www.unitus.it
SUMMARY:Test Ingresso L-P01 Tecniche per la Bioedilizia
DESCRIPTION:Le iscrizioni sul portale Gomp si chiudono il giorno 15 dicembre alle ore 14.00. \nFascia oraria del test 14:00 – 17:00. \n> Prenota il tuo test
URL:https://www.unitus.it/evento/test-ingresso-l-p01-tecniche-per-la-bioedilizia-8/
CATEGORIES:Eventi test
END:VEVENT
BEGIN:VEVENT
DTSTART;TZID=Europe/Rome:20251218T143000
DTEND;TZID=Europe/Rome:20251218T153000
DTSTAMP:20260422T034940
CREATED:20251209T101247Z
LAST-MODIFIED:20251211T094819Z
UID:10001370-1766068200-1766071800@www.unitus.it
SUMMARY:Cerimonia di conferimento del premio di laurea “Brigida Palelli” 2025
DESCRIPTION:Il Dipartimento di Scienze Ecologiche e Biologiche (DEB) dell’Università degli studi della Tuscia annuncia la cerimonia di conferimento della II Edizione del Premio di Laurea “Brigida Palelli” per la migliore tesi di laurea magistrale in scienze della vita\, che si terrà il giorno 18 dicembre 2025\, alle ore 14:30\, presso l’Aula 7 del Blocco B del Campus Riello (Largo dell’Università). \nIl riconoscimento\, del valore di 1.000 euro\, è stato istituito per volontà del Sig. Luca Laureti per onorare la memoria della Sig.ra Brigida Palelli\, bibliotecaria presso il Polo tecnico-scientifico dell’Ateneo e studentessa del corso di laurea in Scienze biologiche\, prematuramente scomparsa. Il premio mira a valorizzare l’eccellenza accademica e la ricerca scientifica in ambito biologico\, rispecchiando l’impegno della Sig.ra Palelli verso il sapere e la comunità accademica. \nQuest’anno\, il prestigioso riconoscimento sarà conferito alla dott.ssa Sofia Grimani\, laureata magistrale in Scienze dell’alimentazione e della nutrizione umana\, che si è distinta con una tesi dal titolo “Valutazione nutrizionale ed antiossidante di un alimento funzionale a base di scarto di lavorazione del pomodoro”. La dott.ssa Grimani ha svolto il suo lavoro di ricerca sotto la supervisione della dott.ssa Lara Costantini. \nLa cerimonia sarà introdotta dal Direttore del Dipartimento\, cui seguirà un breve intervento da parte della famiglia della Sig.ra Palelli. Nel corso della cerimonia\, inoltre\, la vincitrice terrà una presentazione di 20 minuti\, illustrando i principali risultati del proprio progetto di tesi e le implicazioni scientifiche del suo lavoro. \nLa cerimonia rappresenta un’importante occasione per celebrare l’eccellenza nella ricerca accademica e il merito degli studenti più brillanti del nostro Ateneo. La partecipazione all’evento è aperta a tutti. \nLOCANDINA \n 
URL:https://www.unitus.it/evento/cerimonia-di-conferimento-del-premio-di-laurea-brigida-palelli-2025/
LOCATION:Aula 7 – Blocco B\, Largo dell'Università\, Viterbo\, 010100\, Italy
CATEGORIES:Cerimonia,Eventi giornalieri
ATTACH;FMTTYPE=image/jpeg:https://www.unitus.it/wp-content/uploads/2025/12/IMG_1774-Copia-scaled.jpg
END:VEVENT
BEGIN:VEVENT
DTSTART;TZID=Europe/Rome:20251219T160000
DTEND;TZID=Europe/Rome:20251219T170000
DTSTAMP:20260422T034940
CREATED:20251203T151312Z
LAST-MODIFIED:20251203T151312Z
UID:10001367-1766160000-1766163600@www.unitus.it
SUMMARY:Presentazione del volume con scritti di Fagliari Zeni Buchicchio\, a cura di Fausto Nicolai e Yuri Strozzieri
DESCRIPTION:Venerdì 19 dicembre\, alle ore 16:00\, presso la Fondazione Carivit\, si terrà la presentazione del libro “Architetti e architetture nell’archivio della Tuscia farnesia. Studi 1979-2019”. \nIl volume raccoglie gli scritti che Fagliari Zeni Buchicchio ha dedicato allo studio dell’architettura del Cinquecento nell’area della Tuscia. L’autore\, scomparso nel 2019\, con le sue ricerche ha dato un contributo fondamentale alla conoscenza dei più importanti complessi monumentali\, in larga parte ancora esistenti\, diffusi sul territorio e di cui ne rappresentano viva testimonianza storica e culturale: dai palazzi Farnese di Caprarola e Gradoli\, a quello di Tiberio Crispo a Bolsena\, alle rocche di Civitavecchia e Civita Castellana\, alle numerose chiese prese in esame\, tra le altre\, Santa Margherita a Montefiascone\, la Madonna del Piano a Capranica\, Santi Giacomo e Cristoforo sull’isola Bisentina insieme agli oratori rinascimentali presenti nello stesso luogo. Il volume si offre come strumento di approfondimento tanto per gli esperti quanto per i lettori più occasionali\, con la finalità di disporre in un unica sede l’insieme complesso e variegato delle ricerche che Fagliari Zeni Buchicchio ha condotto il 1979 e il 2019.
URL:https://www.unitus.it/evento/presentazione-del-volume-con-scritti-di-fagliari-zeni-buchicchio-a-cura-di-fausto-nicolai-e-yuri-strozzieri/
LOCATION:Viterbo\, Viterbo\, 01100\, Italy
CATEGORIES:Conferenza
ATTACH;FMTTYPE=image/jpeg:https://www.unitus.it/wp-content/uploads/2025/12/Locandina-Venerdi-19-dicembre-2025-1-e1764774783675.jpg
END:VEVENT
BEGIN:VEVENT
DTSTART;TZID=Europe/Rome:20251220T160000
DTEND;TZID=Europe/Rome:20251220T180000
DTSTAMP:20260422T034940
CREATED:20251215T075437Z
LAST-MODIFIED:20251215T075531Z
UID:10001374-1766246400-1766253600@www.unitus.it
SUMMARY:I prodotti tipici dell'altro Lazio nella tradizione alimentare: il valore del cibo
DESCRIPTION:Il giorno 20 Dicembre\, alle ore 16:00 si terrà nella Sala del Consiglio a San Lorenzo Nuovo (VT) una Tavola Rotonda per discutere dei prodotti tipici dell’Alto Lazio. L’evento si propone di promuovere le eccellenze dell’Alto Lazio\, intese come patrimonio identitario e culturale. Una tradizione in cui il cibo trascende la funzione nutritiva per integrare valori sociali\, storici e di sostenibilità ambientale.
URL:https://www.unitus.it/evento/i-prodotti-tipici-dellaltro-lazio-nella-tradizione-alimentare-il-valore-del-cibo/
LOCATION:Sala del Consiglio a San Lorenzo Nuovo (VT)\, San Lorenzo Nuovo\, Italia
CATEGORIES:Convegno
ATTACH;FMTTYPE=application/pdf:https://www.unitus.it/wp-content/uploads/2025/12/tavola-rotonda-20-dicembre-2025.pdf
END:VEVENT
END:VCALENDAR