BEGIN:VCALENDAR
VERSION:2.0
PRODID:-//Unitus - ECPv6.15.20//NONSGML v1.0//EN
CALSCALE:GREGORIAN
METHOD:PUBLISH
X-WR-CALNAME:Unitus
X-ORIGINAL-URL:https://www.unitus.it
X-WR-CALDESC:Eventi per Unitus
REFRESH-INTERVAL;VALUE=DURATION:PT1H
X-Robots-Tag:noindex
X-PUBLISHED-TTL:PT1H
BEGIN:VTIMEZONE
TZID:Europe/Rome
BEGIN:DAYLIGHT
TZOFFSETFROM:+0100
TZOFFSETTO:+0200
TZNAME:CEST
DTSTART:20240331T010000
END:DAYLIGHT
BEGIN:STANDARD
TZOFFSETFROM:+0200
TZOFFSETTO:+0100
TZNAME:CET
DTSTART:20241027T010000
END:STANDARD
BEGIN:DAYLIGHT
TZOFFSETFROM:+0100
TZOFFSETTO:+0200
TZNAME:CEST
DTSTART:20250330T010000
END:DAYLIGHT
BEGIN:STANDARD
TZOFFSETFROM:+0200
TZOFFSETTO:+0100
TZNAME:CET
DTSTART:20251026T010000
END:STANDARD
BEGIN:DAYLIGHT
TZOFFSETFROM:+0100
TZOFFSETTO:+0200
TZNAME:CEST
DTSTART:20260329T010000
END:DAYLIGHT
BEGIN:STANDARD
TZOFFSETFROM:+0200
TZOFFSETTO:+0100
TZNAME:CET
DTSTART:20261025T010000
END:STANDARD
END:VTIMEZONE
BEGIN:VEVENT
DTSTART;TZID=Europe/Rome:20250409T150000
DTEND;TZID=Europe/Rome:20251217T170000
DTSTAMP:20260420T063533
CREATED:20250328T101313Z
LAST-MODIFIED:20250328T101313Z
UID:10000933-1744210800-1765990800@www.unitus.it
SUMMARY:Terza Edizione di "Toward Green Horizon": Un Viaggio nel Futuro della Sostenibilità
DESCRIPTION:Il ciclo di webinar “Toward Green Horizon” torna con la sua terza edizione\, pronta a partire il 9 aprile e a proseguire per tutto il 2025. Un’opportunità imperdibile per esplorare temi cruciali nel panorama scientifico e socio-politico attuale\, con un focus su: \n Scienze agrarie e forestali\n Energie rinnovabili\n Sicurezza sul lavoro\n Le tre grandi transizioni: energetica\, digitale ed ecologica \nQuesti argomenti assumono un ruolo strategico\, soprattutto in relazione agli ingenti investimenti previsti dal PNRR. \n Un Percorso di Alta Formazione\nSono in programma 26 seminari\, tenuti da docenti universitari\, funzionari\, ricercatori ed esperti di settore\, che condivideranno il proprio know-how e mostreranno le applicazioni pratiche delle loro ricerche nel mondo del lavoro. Un’opportunità di approfondimento con un approccio multidisciplinare e un alto livello di specializzazione. \n Un’Iniziativa di Prestigio\nIl ciclo di webinar è organizzato nell’ambito del:\n Dottorato in “Engineering for Energy and Environment”\n Accordo Quadro CREA-UNITUS (Consiglio per la ricerca in agricoltura e l’analisi dell’economia agraria e Università degli Studi della Tuscia)\n Progetto MUR Dipartimenti di Eccellenza “D.I.Ver.So” (Digitali\, Intelligenti\, Verdi e Sostenibili) \n Un Hub Digitale per l’Iniziativa\nQuest’anno sarà disponibile una pagina web dedicata  https://seminaricreaunitus.crea.gov.it/ con tutte le informazioni utili per iscriversi e partecipare agli eventi. \n Dove trovare le locandine con i link Zoom? \n\nSui canali social del CREA e dell’Università della Tuscia\nSul sito web dell’iniziativa\nAttraverso il portale della Regione Lazio “Porta Futuro Lazio”\n\n Formazione\, Crediti e Opportunità\n Partecipazione gratuita e aperta a tutti\n Riconoscimento CFP per professionisti: \n\n0\,25 CFP dall’Ordine dei Dottori Agronomi e Forestali di Viterbo\n2 CFP dal Collegio Territoriale dei Periti Agrari di Roma\n2 CFP dal Collegio Nazionale degli Agrotecnici\n\n Validità ai fini della formazione obbligatoria\nIl progetto formativo contribuisce al raggiungimento delle 40 ore annuali di formazione previste dalla Direttiva del Ministro della Pubblica Amministrazione del 16/01/2025. Per ottenere il riconoscimento\, è necessario superare il test di verifica finale. \n Scarica qui il programma completo!
URL:https://www.unitus.it/evento/terza-edizione-di-toward-green-horizon-un-viaggio-nel-futuro-della-sostenibilita/
CATEGORIES:Eventi giornalieri
ATTACH;FMTTYPE=image/png:https://www.unitus.it/wp-content/uploads/2025/03/Logo-TGH.png
END:VEVENT
BEGIN:VEVENT
DTSTART;TZID=Europe/Rome:20251028T151500
DTEND;TZID=Europe/Rome:20251211T173000
DTSTAMP:20260420T063533
CREATED:20251023T060147Z
LAST-MODIFIED:20251023T080520Z
UID:10001288-1761664500-1765474200@www.unitus.it
SUMMARY:Progetto "I Lincei per la scuola" per la formazione degli insegnanti
DESCRIPTION:Locandina- Programma
URL:https://www.unitus.it/evento/progetto-i-lincei-per-la-scuola-per-la-formazione-degli-insegnanti/
LOCATION:Sede San Carlo\, Via San Carlo 32\, Viterbo\, 01100\, Italy
CATEGORIES:Conferenza
ATTACH;FMTTYPE=application/pdf:https://www.unitus.it/wp-content/uploads/2025/10/Lincei-per-la-scuola_Incontri-tra-popoli.pdf
END:VEVENT
BEGIN:VEVENT
DTSTART;TZID=Europe/Rome:20251209T150000
DTEND;TZID=Europe/Rome:20251209T170000
DTSTAMP:20260420T063533
CREATED:20251118T132220Z
LAST-MODIFIED:20251124T092845Z
UID:10001342-1765292400-1765299600@www.unitus.it
SUMMARY:Mediterraneo. Prospettive e linee di ricerca per una formazione interculturale
DESCRIPTION:Il Dipartimento di Scienze giuridiche\, sociali e pedagogiche dell’Università degli Studi della Tuscia promuove il convegno “Mediterraneo. Prospettive e linee di ricerca per una formazione interculturale”\, dedicato al ruolo del Mediterraneo come spazio educativo\, culturale e di cooperazione accademica internazionale. Dopo i saluti della Magnifica Rettrice\, prof.ssa Tiziana Laureti\, del Direttore del Dipartimento di Scienze giuridiche\, sociali e pedagogiche (DIKE)\, prof. Carlo Sotis e della Presidente del Corso di Laurea in Scienze dell’Educazione (L-19)\, prof.ssa Maria Barela\, interverranno\, tra gli altri\, la Prof.ssa Barbara Giovanna Bello\, il Prof. Vicent Martínez Pérez\, la Prof.ssa Rosabel Martínez-Roig\, la Prof.ssa Rosabel Roig-Vila\, la Prof.ssa Micaela Vitaletti e il Prof. Giorgio Crescenza. \nIl convegno si inserisce nelle attività di rafforzamento della cooperazione internazionale dell’Ateneo\, grazie alla partecipazione di studiose e studiosi dell’Universidad de Alicante e alla collaborazione tra gruppi di ricerca impegnati nei campi dell’interculturalità\, delle politiche educative e degli studi mediterranei. L’obiettivo è quello di consolidare un dialogo scientifico transnazionale e promuovere progettualità condivise nel quadro della formazione superiore. \nL’iniziativa si svolgerà esclusivamente in presenza e per gli studenti e le studentesse del Corso di Laurea in Scienze dell’educazione (L-19) la partecipazione sarà riconosciuta nell’ambito del Tirocinio interno – Attività scientifico-culturali. \nLOCANDINA
URL:https://www.unitus.it/evento/mediterraneo-prospettive-e-linee-di-ricerca-per-una-formazione-interculturale/
CATEGORIES:Convegno
ATTACH;FMTTYPE=image/png:https://www.unitus.it/wp-content/uploads/2025/11/LOCANDINA-MEDITERRANEO.png
END:VEVENT
BEGIN:VEVENT
DTSTART;TZID=Europe/Rome:20251209T150000
DTEND;TZID=Europe/Rome:20251209T170000
DTSTAMP:20260420T063533
CREATED:20251202T083637Z
LAST-MODIFIED:20251202T083637Z
UID:10001364-1765292400-1765299600@www.unitus.it
SUMMARY:Serialità\, narrazione\, media. Dalla metropoli all’intelligenza artificiale.
DESCRIPTION:Martedì 9 dicembre\, dalle ore 15:00 alle ore 17:00\, si svolgerà\, presso l’Aula 12 del San Carlo\, il seminario “Serialità\, narrazione\, media. Dalla metropoli all’intelligenza artificiale”. \nIntroduce e coordina Giovanni Fiorentino\, Università della Tuscia. Per il programma dettagliato\, si veda la locandina allegata. \n  \nLocandina e Programma seminario 9 dicembre
URL:https://www.unitus.it/evento/serialita-narrazione-media-dalla-metropoli-allintelligenza-artificiale/
CATEGORIES:Seminario
ATTACH;FMTTYPE=image/jpeg:https://www.unitus.it/wp-content/uploads/2025/12/Copertina-Routledge-e1764664559603.jpg
END:VEVENT
BEGIN:VEVENT
DTSTART;TZID=Europe/Rome:20251211T090000
DTEND;TZID=Europe/Rome:20251211T103000
DTSTAMP:20260420T063533
CREATED:20251202T084248Z
LAST-MODIFIED:20251202T084248Z
UID:10001365-1765443600-1765449000@www.unitus.it
SUMMARY:Presentazione del libro di Simona Rinaldi “Le mostre d'arte. Dal Seicento alle esposizioni digitali”
DESCRIPTION:Giovedì 11 dicembre 2025\, alle ore 9:15\, presso l’Aula 6 del San Carlo (DISTU)\, Giovanni Fiorentino e Rossella Catanese presenteranno il volume di Simona Rinaldi Le mostre d’arte. Dal Seicento alle esposizioni digitali\, Carocci\, Roma 2025. \nscarica la locandina
URL:https://www.unitus.it/evento/presentazione-del-libro-di-simona-rinaldi-le-mostre-darte-dal-seicento-alle-esposizioni-digitali/
CATEGORIES:Conferenza
ATTACH;FMTTYPE=image/jpeg:https://www.unitus.it/wp-content/uploads/2025/12/Copertina-Rinaldi-e1764664997565.jpg
END:VEVENT
BEGIN:VEVENT
DTSTART;TZID=Europe/Rome:20251211T093000
DTEND;TZID=Europe/Rome:20251211T170000
DTSTAMP:20260420T063533
CREATED:20251119T112501Z
LAST-MODIFIED:20251119T112603Z
UID:10001345-1765445400-1765472400@www.unitus.it
SUMMARY:KPMG Studio Associato | Tax Roadshow
DESCRIPTION:Siamo lieti di segnalarvi l’evento Tax Roadshow\, un’iniziativa per esplorare temi fiscali e conoscere da vicino KPMG Studio Associato. \nL’evento si terrà l’11 dicembre 2025 presso gli uffici KPMG di Firenze. \nDurante la giornata\, i partecipanti avranno l’opportunità di vivere una giornata da consulente fiscale\, risolvendo in team un case study ispirato a scenari reali del settore Tax\, con il supporto dei nostri professionisti.\nPotranno inoltre condividere un pranzo di networking e vincere un premio finale! \nL’iniziativa è rivolta a neolaureati/e\, laureandi/e\, studenti/esse iscritti/e all’ultimo anno magistrale di Economia (LM-56/77) o Giurisprudenza (LMG-01). \nQui troverete la locandina con tutte le informazioni utili\, incluse le modalità di candidatura. \nI posti sono limitati e le candidature saranno aperte fino al 27 novembre 2025. \n 
URL:https://www.unitus.it/evento/kpmg-studio-associato-tax-roadshow/
LOCATION:Firenze\, Viale Machiavelli\, 29\, Firenze\, 50125\, Italy
CATEGORIES:Convegno
ATTACH;FMTTYPE=image/png:https://www.unitus.it/wp-content/uploads/2025/11/Screenshot-2025-11-19-alle-12.18.42.png
END:VEVENT
BEGIN:VEVENT
DTSTART;TZID=Europe/Rome:20251211T173000
DTEND;TZID=Europe/Rome:20251211T190000
DTSTAMP:20260420T063533
CREATED:20251202T091148Z
LAST-MODIFIED:20251202T091440Z
UID:10001366-1765474200-1765479600@www.unitus.it
SUMMARY:Presentazione del volume di C. Ramotti “Admnistrative action in the age of algorithmic transformation. From rule-based procedures to principle-guided decision-making”
DESCRIPTION:Nell’ambito del Ciclo di presentazione di volumi recenti su I poteri pubblici: la loro disciplina\, la loro storia (cattedra del prof. Giulio Vesperini)\, si terrà la presentazione del libro di C. Ramotti Admnistrative action in the age of algorithmic transformation. From rule-based procedures to principle-guided decision-making\, Torino\, 2025. \n11 dicembre\, ore 17:30 \nlink meet: https://meet.google.com/jcp-uckc-ric
URL:https://www.unitus.it/evento/presentazione-del-volume-di-c-ramotti-admnistrative-action-in-the-age-of-algorithmic-transformation-from-rule-based-procedures-to-principle-guided-decision-making/
CATEGORIES:Seminario
ATTACH;FMTTYPE=image/png:https://www.unitus.it/wp-content/uploads/2025/12/vesperini_ramotti-scaled-e1764666625761.png
END:VEVENT
BEGIN:VEVENT
DTSTART;TZID=Europe/Rome:20251212T090000
DTEND;TZID=Europe/Rome:20251212T130000
DTSTAMP:20260420T063533
CREATED:20251128T080947Z
LAST-MODIFIED:20251128T103222Z
UID:10001358-1765530000-1765544400@www.unitus.it
SUMMARY:Geologia ambientale nel Lazio
DESCRIPTION:La Società Italiana di Geologia Ambientale (SIGEA-APS)\, in collaborazione con l’Università degli Studi della Tuscia e l’Ordine dei Geologi del Lazio\, organizza la giornata di presentazione del volume Geologia Ambientale nel Lazio – Le dinamiche geologiche del territorio per un modello di gestione sostenibile. \nL’evento patrocinato anche dalla Sezione Italiana della IAH (International Association of Hydrogeologists) e dall’Ordine dei Dottori Agronomi e Forestali della Provincia di Viterbo\, si svolgerà in presenza il giorno 12 dicembre 2025 presso l’Aula Magna del Rettorato dell’Università degli Studi della Tuscia dalle ore 9 alle 13. \n> Qui il programma completo. \nL’incontro sarà un’occasione di confronto e approfondimento sui temi della geologia ambientale e delle buone pratiche per una gestione sostenibile del territorio regionale.\nLa partecipazione è gratuita previa registrazione obbligatoria entro il giorno 8 dicembre 2025 a questo link. \nÈ stato richiesto il riconoscimento dei crediti formativi per i Geologi e per i Dottori Agronomi e Forestali.
URL:https://www.unitus.it/evento/geologia-ambientale-nel-lazio/
CATEGORIES:Convegno
ATTACH;FMTTYPE=image/jpeg:https://www.unitus.it/wp-content/uploads/2025/11/PHOTO-2025-10-20-15-27-32.jpg
END:VEVENT
BEGIN:VEVENT
DTSTART;TZID=Europe/Rome:20251212T093000
DTEND;TZID=Europe/Rome:20251212T180000
DTSTAMP:20260420T063533
CREATED:20251204T113451Z
LAST-MODIFIED:20251204T114158Z
UID:10001368-1765531800-1765562400@www.unitus.it
SUMMARY:Convegno Internazionale "Unus non sufficit orbis"
DESCRIPTION:L’Archivio della Sacra Congregazione “de Propaganda Fide” conserva il manoscritto della “Relazione di Monsignor Urbano Cerri sullo Stato di Propaganda (1678)”\, mai pubblicato in italiano nonostante l’esistenza di edizioni settecentesche in francese e inglese. Diverse copie del documento\, con varianti anche significative\, si trovano in altri fondi archivistici e bibliotecari romani\, rendendo oggi utile una nuova e accurata edizione critica del testo. \nPer valorizzare il manoscritto di Cerri e approfondire il contesto delle missioni cattoliche nel tardo Seicento\, verranno realizzate due iniziative coordinate da un unico comitato scientifico (A. Boccolini\, L. Codignola\, M. C. Giannini\, G. Pizzorusso\, G. Platania\, M. Sanfilippo\, P. Tusor)\, ovvero un’edizione critica della “Relazione” e un convegno internazionale.\nL’incontro scientifico\, promosso dall’Istituto Nazionale di Studi Romani\, di cui l’Unitus sarà partner\, si terrà il 12 dicembre 2025: intitolato “Unus non sufficit orbis”: Roma e le missioni europee nel secondo Seicento\, sarà trasmesso in streaming sul sito dell’Istituto. \nAll’evento parteciperanno studiosi di storia\, storia dell’arte e antropologia di diversi Paesi. \nStreaming dell’evento. \nQui la locandina dell’evento.
URL:https://www.unitus.it/evento/convegno-internazionale-unus-non-sufficit-orbis/
LOCATION:streaming
CATEGORIES:Convegno
ATTACH;FMTTYPE=image/png:https://www.unitus.it/wp-content/uploads/2025/12/Istituto-Nazionale-Studi-Romani.png
END:VEVENT
END:VCALENDAR