BEGIN:VCALENDAR
VERSION:2.0
PRODID:-//Unitus - ECPv6.15.20//NONSGML v1.0//EN
CALSCALE:GREGORIAN
METHOD:PUBLISH
X-ORIGINAL-URL:https://www.unitus.it
X-WR-CALDESC:Eventi per Unitus
REFRESH-INTERVAL;VALUE=DURATION:PT1H
X-Robots-Tag:noindex
X-PUBLISHED-TTL:PT1H
BEGIN:VTIMEZONE
TZID:Europe/Rome
BEGIN:DAYLIGHT
TZOFFSETFROM:+0100
TZOFFSETTO:+0200
TZNAME:CEST
DTSTART:20240331T010000
END:DAYLIGHT
BEGIN:STANDARD
TZOFFSETFROM:+0200
TZOFFSETTO:+0100
TZNAME:CET
DTSTART:20241027T010000
END:STANDARD
BEGIN:DAYLIGHT
TZOFFSETFROM:+0100
TZOFFSETTO:+0200
TZNAME:CEST
DTSTART:20250330T010000
END:DAYLIGHT
BEGIN:STANDARD
TZOFFSETFROM:+0200
TZOFFSETTO:+0100
TZNAME:CET
DTSTART:20251026T010000
END:STANDARD
BEGIN:DAYLIGHT
TZOFFSETFROM:+0100
TZOFFSETTO:+0200
TZNAME:CEST
DTSTART:20260329T010000
END:DAYLIGHT
BEGIN:STANDARD
TZOFFSETFROM:+0200
TZOFFSETTO:+0100
TZNAME:CET
DTSTART:20261025T010000
END:STANDARD
END:VTIMEZONE
BEGIN:VEVENT
DTSTART;TZID=Europe/Rome:20250409T150000
DTEND;TZID=Europe/Rome:20251217T170000
DTSTAMP:20260420T101835
CREATED:20250328T101313Z
LAST-MODIFIED:20250328T101313Z
UID:10000933-1744210800-1765990800@www.unitus.it
SUMMARY:Terza Edizione di "Toward Green Horizon": Un Viaggio nel Futuro della Sostenibilità
DESCRIPTION:Il ciclo di webinar “Toward Green Horizon” torna con la sua terza edizione\, pronta a partire il 9 aprile e a proseguire per tutto il 2025. Un’opportunità imperdibile per esplorare temi cruciali nel panorama scientifico e socio-politico attuale\, con un focus su: \n Scienze agrarie e forestali\n Energie rinnovabili\n Sicurezza sul lavoro\n Le tre grandi transizioni: energetica\, digitale ed ecologica \nQuesti argomenti assumono un ruolo strategico\, soprattutto in relazione agli ingenti investimenti previsti dal PNRR. \n Un Percorso di Alta Formazione\nSono in programma 26 seminari\, tenuti da docenti universitari\, funzionari\, ricercatori ed esperti di settore\, che condivideranno il proprio know-how e mostreranno le applicazioni pratiche delle loro ricerche nel mondo del lavoro. Un’opportunità di approfondimento con un approccio multidisciplinare e un alto livello di specializzazione. \n Un’Iniziativa di Prestigio\nIl ciclo di webinar è organizzato nell’ambito del:\n Dottorato in “Engineering for Energy and Environment”\n Accordo Quadro CREA-UNITUS (Consiglio per la ricerca in agricoltura e l’analisi dell’economia agraria e Università degli Studi della Tuscia)\n Progetto MUR Dipartimenti di Eccellenza “D.I.Ver.So” (Digitali\, Intelligenti\, Verdi e Sostenibili) \n Un Hub Digitale per l’Iniziativa\nQuest’anno sarà disponibile una pagina web dedicata  https://seminaricreaunitus.crea.gov.it/ con tutte le informazioni utili per iscriversi e partecipare agli eventi. \n Dove trovare le locandine con i link Zoom? \n\nSui canali social del CREA e dell’Università della Tuscia\nSul sito web dell’iniziativa\nAttraverso il portale della Regione Lazio “Porta Futuro Lazio”\n\n Formazione\, Crediti e Opportunità\n Partecipazione gratuita e aperta a tutti\n Riconoscimento CFP per professionisti: \n\n0\,25 CFP dall’Ordine dei Dottori Agronomi e Forestali di Viterbo\n2 CFP dal Collegio Territoriale dei Periti Agrari di Roma\n2 CFP dal Collegio Nazionale degli Agrotecnici\n\n Validità ai fini della formazione obbligatoria\nIl progetto formativo contribuisce al raggiungimento delle 40 ore annuali di formazione previste dalla Direttiva del Ministro della Pubblica Amministrazione del 16/01/2025. Per ottenere il riconoscimento\, è necessario superare il test di verifica finale. \n Scarica qui il programma completo!
URL:https://www.unitus.it/evento/terza-edizione-di-toward-green-horizon-un-viaggio-nel-futuro-della-sostenibilita/
CATEGORIES:Eventi giornalieri
ATTACH;FMTTYPE=image/png:https://www.unitus.it/wp-content/uploads/2025/03/Logo-TGH.png
END:VEVENT
BEGIN:VEVENT
DTSTART;TZID=Europe/Rome:20251028T151500
DTEND;TZID=Europe/Rome:20251211T173000
DTSTAMP:20260420T101835
CREATED:20251023T060147Z
LAST-MODIFIED:20251023T080520Z
UID:10001288-1761664500-1765474200@www.unitus.it
SUMMARY:Progetto "I Lincei per la scuola" per la formazione degli insegnanti
DESCRIPTION:Locandina- Programma
URL:https://www.unitus.it/evento/progetto-i-lincei-per-la-scuola-per-la-formazione-degli-insegnanti/
LOCATION:Sede San Carlo\, Via San Carlo 32\, Viterbo\, 01100\, Italy
CATEGORIES:Conferenza
ATTACH;FMTTYPE=application/pdf:https://www.unitus.it/wp-content/uploads/2025/10/Lincei-per-la-scuola_Incontri-tra-popoli.pdf
END:VEVENT
BEGIN:VEVENT
DTSTART;TZID=Europe/Rome:20251201T130000
DTEND;TZID=Europe/Rome:20251201T150000
DTSTAMP:20260420T101835
CREATED:20251126T121012Z
LAST-MODIFIED:20251126T121028Z
UID:10001356-1764594000-1764601200@www.unitus.it
SUMMARY:L’economia spiegata bene… Giornalismo d’autore: dialoghi\, confronti e riflessioni
DESCRIPTION:Ospiti e relatori\n• Antonio Troise\n• Dario Laruffa\n\nIntroduzione e Moderazione\nL’incontro sarà introdotto e moderato dalla Professoressa associata di Politica Economica\, Giuseppina Gianfreda\n\nSaluti Istituzionali\nTiziana Laureti\, Magnifica Rettrice dell’Università degli Studi della Tuscia\nCarlo Sotis\, Direttore del Dipartimento di Scienze Giuridiche\, Sociali e Pedagogiche – DIKE \nLuisa Carbone\, Presidente del corso di laurea in Comunicazione\, Tecnologie e Culture Digitali e Presidente del corso di laurea magistrale in Informazione Digitale.\n\nLunedì 1 dicembre\, dalle 13.00 alle 15.00\, Aula 14\n\nÈ possibile seguire l’evento anche online tramite Zoom al seguente link\n\nLOCANDINA
URL:https://www.unitus.it/evento/183508/
CATEGORIES:Seminario
ATTACH;FMTTYPE=image/png:https://www.unitus.it/wp-content/uploads/2025/11/LOCANDINA.png
END:VEVENT
BEGIN:VEVENT
DTSTART;TZID=Europe/Rome:20251201T160000
DTEND;TZID=Europe/Rome:20251201T180000
DTSTAMP:20260420T101835
CREATED:20251128T102609Z
LAST-MODIFIED:20251128T102609Z
UID:10001361-1764604800-1764612000@www.unitus.it
SUMMARY:Presentazione del volume di Roberto Mattera
DESCRIPTION:Lunedì 1 dicembre – 16.00-18.00\nSala conferenze del polo bibliotecario umanistico sociale\nSanta Maria in Gradi\, Viterbo\nPresentazione del volume di Roberto Mattera\nStato Pontificio\, potere temporale e Catasto gregoriano\nNe discutono con l’autore: \nAnna Maria Isastia – già professoressa di Storia contemporanea\, Sapienza Università di Roma \nAlessandro Sterpa – professore di Diritto pubblico\, Università della Tuscia \nPasquale Lillo – professore di Diritto e Religione\, Università della Tuscia \nGilda Nicolai – professoressa di Archivistica generale\, Università della Tuscia \nlocandina
URL:https://www.unitus.it/evento/presentazione-del-volume-di-roberto-mattera/
LOCATION:Rettorato – Santa Maria in Gradi\, Via Santa Maria in Gradi\, 4\, Viterbo\, 01100
CATEGORIES:Cerimonia
ATTACH;FMTTYPE=application/pdf:https://www.unitus.it/wp-content/uploads/2025/11/LOCANDINA-UNITUS-nicolai-1.pdf
END:VEVENT
BEGIN:VEVENT
DTSTART;TZID=Europe/Rome:20251202T150000
DTEND;TZID=Europe/Rome:20251202T170000
DTSTAMP:20260420T101835
CREATED:20251103T100224Z
LAST-MODIFIED:20251119T100841Z
UID:10001319-1764687600-1764694800@www.unitus.it
SUMMARY:Confutuscia - Il Tè Cinese: Una Foglia\, Una Bevanda\, Una Chiave Culturale
DESCRIPTION:L’Aula Confucio dell’Università degli Studi della Tuscia è lieta di annunciare il seminario di approfondimento culturale intitolato: Il Tè Cinese: Una Foglia\, Una Bevanda\, Una Chiave Culturale\, dedicato al tè come fondamentale chiave d’accesso alla civiltà cinese. Avremo l’onore di ospitare il Dottor Ge\, professionista nel settore enogastronomico\, titolare di Sinoteca\, il quale condurrà i partecipanti in un’esplorazione approfondita della cultura del tè. Il percorso didattico spazierà dalla botanica alle principali tipologie\, affrontando la terminologia tecnica\, le lavorazioni tradizionali e l’approccio degustativo. A conclusione dell’evento formativo\, è prevista una degustazione guidata di tè selezionati (35 partecipanti\, solo su prenotazione). \nÈ inoltre possibile seguire l’evento a distanza tramite Diretta Zoom e Diretta YouTube. \nLocandina in pdf \n  \n 
URL:https://www.unitus.it/evento/confutuscia-il-te-cinese-una-foglia-una-bevanda-una-chiave-culturale/
LOCATION:Aula 12 – San Carlo\, Via San Carlo\, 32\, Viterbo\, 01100\, Italy
CATEGORIES:Seminario
ATTACH;FMTTYPE=image/jpeg:https://www.unitus.it/wp-content/uploads/2025/11/Jun-Ge-te-cinese-2_12_25-def_page-0001-scaled-e1762164120183.jpg
END:VEVENT
BEGIN:VEVENT
DTSTART;TZID=Europe/Rome:20251202T150000
DTEND;TZID=Europe/Rome:20251202T170000
DTSTAMP:20260420T101835
CREATED:20251126T072741Z
LAST-MODIFIED:20251127T105524Z
UID:10001350-1764687600-1764694800@www.unitus.it
SUMMARY:Seminario “Raccontare la guerra: storia\, immagini\, media e lettera”
DESCRIPTION:Martedì 2 dicembre\, dalle ore 15:00 alle ore 17:00\, si svolgerà\, nell’ambito dei “Dialoghi interdisciplinari per Lettere moderne” (L10\, LM14)\, il seminario “Raccontare la guerra: storia\, immagini\, media e lettera”. L’evento si terrà presso l’Aula Magna del San Carlo. \n  \nIntervengono \nSimone Casini\, Francesca De Caprio\, Ela Filippone\, Giovanni Fiorentino\, Catia Papa\, Carlo Serafini. \n 
URL:https://www.unitus.it/evento/seminario-raccontare-la-guerra-storia-immagini-media-e-lettera/
CATEGORIES:Seminario
ATTACH;FMTTYPE=image/png:https://www.unitus.it/wp-content/uploads/2025/11/fiorentino-scaled-e1764142049193.png
END:VEVENT
BEGIN:VEVENT
DTSTART;TZID=Europe/Rome:20251203T110000
DTEND;TZID=Europe/Rome:20251203T130000
DTSTAMP:20260420T101835
CREATED:20251120T103825Z
LAST-MODIFIED:20251128T134205Z
UID:10001346-1764759600-1764766800@www.unitus.it
SUMMARY:DEB | Seminari di Immunologia sui meccanismi immunitari nei tumori
DESCRIPTION:Nell’ambito del corso di Immunologia tenuto dalla Dott.ssa Marialetizia Palomba\, la Dr. Angelica Pace presenterà il seminario “Dal paziente al laboratorio: capire come i tumori cerebrali modulano il sistema immunitario”\, mentre la Dr. Angela Asquino terrà il contributo intitolato “Risposta immunitaria antitumorale: il ruolo dei linfociti T come biomarcatori predittivi e prognostici”. \nL’incontro\, organizzato in collaborazione con Porta Futuro Lazio (PFL)\, offrirà una panoramica sulle principali evidenze sperimentali e sulle prospettive di ricerca del Laboratorio di Immunologia dei Tumori e Terapie Cellulari dell’Università di Roma “La Sapienza”. Il seminario si svolgerà il 3 dicembre 2025 in presenza presso l’Aula 12 del Blocco B a Viterbo e online\, dalle ore 11:00 alle 13:00. \nPer ricevere il link di partecipazione è necessaria la registrazione tramite il portale PFL al seguente indirizzo: https://portafuturolazio.it/stampa-e-media/attivita/scheda-attivita?UID=6b95ee37-8c1f-4284-99f6-93ab4ef0e32f \nLOCANDINA
URL:https://www.unitus.it/evento/deb-seminari-di-immunologia-sui-meccanismi-immunitari-nei-tumori/
LOCATION:Aula 12 – Blocco B\, Via dell'Universita snc\, Viterbo\, 01100\, Italy
CATEGORIES:Seminario
ATTACH;FMTTYPE=image/jpeg:https://www.unitus.it/wp-content/uploads/2025/11/immagine-tumore-per-locandina.jpg
END:VEVENT
BEGIN:VEVENT
DTSTART;TZID=Europe/Rome:20251203T113000
DTEND;TZID=Europe/Rome:20251203T130000
DTSTAMP:20260420T101835
CREATED:20251126T112858Z
LAST-MODIFIED:20251127T145823Z
UID:10001352-1764761400-1764766800@www.unitus.it
SUMMARY:Dalla teoria alla pratica: il valore del tirocinio nella formazione giuridica
DESCRIPTION:Il 3 dicembre 2025\, presso l’Aula Spinelli\,  vi aspettiamo per un evento dedicato al valore dei tirocini nel percorso di studi in Giurisprudenza e Studi europei: presenteremo le opportunità offerte dal corso\, ascolteremo le testimonianze di studenti e studentesse ed enti partner – tra cui quelli nell’ambito della convenzione con il Rotary Club di Viterbo – e assegneremo la borsa di studio intitolata all’ex Prefetto Moscatelli. Un momento pensato per guidarvi nella scelta del tirocinio curriculare che sia più coerente con i vostri interessi.\n\nLOCANDINA
URL:https://www.unitus.it/evento/dalla-teoria-alla-pratica-il-valore-del-tirocinio-nella-formazione-giuridica/
LOCATION:Rettorato – Santa Maria in Gradi\, Via Santa Maria in Gradi\, 4\, Viterbo\, 01100
CATEGORIES:Cerimonia
ATTACH;FMTTYPE=image/jpeg:https://www.unitus.it/wp-content/uploads/2025/11/Evento-3-dicembre-DEF-1-copia-scaled.jpg
END:VEVENT
BEGIN:VEVENT
DTSTART;TZID=Europe/Rome:20251203T143000
DTEND;TZID=Europe/Rome:20251203T153000
DTSTAMP:20260420T101835
CREATED:20251117T162104Z
LAST-MODIFIED:20251117T162104Z
UID:10001338-1764772200-1764775800@www.unitus.it
SUMMARY:Caffè CL.A.N. "Formazione e competenze per la sostenibilità e la transizione green del sistema alimentare"
DESCRIPTION:Con la presente\, siamo lieti di invitarvi al prossimo appuntamento del “Caffè CL.A.N.”\, organizzato con il supporto del Consiglio dell’Ordine Nazionale dei Tecnologi Alimentari (OTAN)\, che si terrà online mercoledì 3 dicembre dalle 14.30 alle 15.30\, avente come titolo e tema: “Formazione e competenze per la sostenibilità e la transizione green del sistema alimentare”.\n \nIl seminario verterà sul sistema delle produzioni alimentari che sta vivendo un’importante evoluzione\, in risposta alle esigenze di sostenibilità ambientale e alla transizione verde sostenuta dalle politiche comunitarie e nazionali. Maggiori dettagli sull’iniziativa sono disponibili nel form di adesione online\, di cui trovate il link a seguire.\n \nL’evento è riservato ai Soci del Cluster e agli iscritti all’Ordine dei Tecnologi Alimentari\, ai quali sarà riconosciuto l’equivalente di un credito formativo.\n\nINTERVERRA’\nProf.ssa Paola Pittia\nProfessore Ordinario in Scienze e Tecnologie Alimentari  presso l’Università di Teramo\, Dipartimento di Bioscienze e Tecnologie Agro-alimentari e Ambientali.\n\nVi invitiamo ad iscrivervi all’appuntamento utilizzando il form disponibile al link di seguito riportato:  \nhttps://forms.gle/3wK6xrbQAhV3QH4s9
URL:https://www.unitus.it/evento/caffe-cl-a-n-formazione-e-competenze-per-la-sostenibilita-e-la-transizione-green-del-sistema-alimentare/
LOCATION:on line
CATEGORIES:Seminario
ATTACH;FMTTYPE=application/pdf:https://www.unitus.it/wp-content/uploads/2025/11/Locandina-CAFFECLAN_OTAN_3DIC_FINAL.pdf
END:VEVENT
BEGIN:VEVENT
DTSTART;TZID=Europe/Rome:20251203T170000
DTEND;TZID=Europe/Rome:20251203T190000
DTSTAMP:20260420T101835
CREATED:20251202T072509Z
LAST-MODIFIED:20251202T072509Z
UID:10001363-1764781200-1764788400@www.unitus.it
SUMMARY:Silenzi che feriscono: Sordità e Violenza in tutte le sue forme
DESCRIPTION:Un incontro dedicato al tema della sordità e della violenza in tutte le sue forme promosso da ENS e Università degli Studi della Tuscia. \nIl 3 dicembre 2025 presso l’Associazione Lo Spiffero\, in Via della Volte Buia 51 a Viterbo\, dalle 17.00 alle 19.00. \nAll’iniziativa prenderà parte Juri Taborri\, referente della Rettrice per le pari opportunità e le relazioni interculturali\, che offrirà un contributo sulle politiche di inclusione e sulle azioni a tutela delle persone sorde\, con particolare attenzione alle situazioni di vulnerabilità. \nProgramma
URL:https://www.unitus.it/evento/silenzi-che-feriscono-sordita-e-violenza-in-tutte-le-sue-forme/
LOCATION:via della volte buia 51\, Via della volte buia 51\, Viterbo\, Viterbo\, 01100\, Italy
CATEGORIES:Conferenza
ATTACH;FMTTYPE=image/jpeg:https://www.unitus.it/wp-content/uploads/2025/12/PHOTO-2025-12-01-14-35-22-1.jpg
END:VEVENT
BEGIN:VEVENT
DTSTART;TZID=Europe/Rome:20251205T103000
DTEND;TZID=Europe/Rome:20251205T120000
DTSTAMP:20260420T101835
CREATED:20251128T095631Z
LAST-MODIFIED:20251203T105710Z
UID:10001359-1764930600-1764936000@www.unitus.it
SUMMARY:Il Sistema di Assicurazione della Qualità e la Comunità Studentesca
DESCRIPTION:L’Università invita la Comunità studentesca a partecipare all’incontro “Il Sistema di Assicurazione della Qualità e la Comunità Studentesca”\, un momento di informazione e confronto dedicato al ruolo degli studenti e delle studentesse all’interno del Sistema di Assicurazione della Qualità (AQ) di Ateneo. \nL’incontro rappresenta un’occasione per approfondire il funzionamento del Sistema AQ\, comprendere il valore della partecipazione studentesca nei processi di valutazione e miglioramento continuo e conoscere gli strumenti\, le attività e i servizi messi a disposizione dall’Ateneo a supporto del percorso universitario. \n5 dicembre 2025\, dalle 10:30 alle 12:00\n! Sospensione della didattica dalle 10:00 alle 12:00 \nLuogo\nAula 1 – Santa Maria in Gradi\n(L’aula sarà comunicata alla chiusura delle prenotazioni) \nÈ previsto il collegamento da remoto per le sedi distaccate. \nL’iniziativa è organizzata dal Presidio di Qualità di Ateneo e dall’Ufficio Assicurazione Qualità\, con la partecipazione dei/delle rappresentanti della Comunità studentesca negli Organi di Ateneo. \nL’incontro si svolgerà esclusivamente in lingua italiana. \nPer gli studenti internazionali\, i contenuti dell’incontro saranno ripresi e presentati durante il Welcome Day\, in programma nel pomeriggio della stessa giornata. \nPrenota qui il tuo posto. \nEN\nThe meeting will be held exclusively in Italian. For international students\, the content will be reviewed and presented during the Welcome Day\, which will take place in the afternoon of the same day.
URL:https://www.unitus.it/evento/il-sistema-di-assicurazione-della-qualita-e-la-comunita-studentesca/
CATEGORIES:Convegno
ATTACH;FMTTYPE=image/png:https://www.unitus.it/wp-content/uploads/2025/11/Il-Sistema-di-Assicurazione-della-Qualita-la-Comunita-Studentesca.png
END:VEVENT
END:VCALENDAR