BEGIN:VCALENDAR
VERSION:2.0
PRODID:-//Unitus - ECPv6.15.20//NONSGML v1.0//EN
CALSCALE:GREGORIAN
METHOD:PUBLISH
X-WR-CALNAME:Unitus
X-ORIGINAL-URL:https://www.unitus.it
X-WR-CALDESC:Eventi per Unitus
REFRESH-INTERVAL;VALUE=DURATION:PT1H
X-Robots-Tag:noindex
X-PUBLISHED-TTL:PT1H
BEGIN:VTIMEZONE
TZID:Europe/Rome
BEGIN:DAYLIGHT
TZOFFSETFROM:+0100
TZOFFSETTO:+0200
TZNAME:CEST
DTSTART:20240331T010000
END:DAYLIGHT
BEGIN:STANDARD
TZOFFSETFROM:+0200
TZOFFSETTO:+0100
TZNAME:CET
DTSTART:20241027T010000
END:STANDARD
BEGIN:DAYLIGHT
TZOFFSETFROM:+0100
TZOFFSETTO:+0200
TZNAME:CEST
DTSTART:20250330T010000
END:DAYLIGHT
BEGIN:STANDARD
TZOFFSETFROM:+0200
TZOFFSETTO:+0100
TZNAME:CET
DTSTART:20251026T010000
END:STANDARD
BEGIN:DAYLIGHT
TZOFFSETFROM:+0100
TZOFFSETTO:+0200
TZNAME:CEST
DTSTART:20260329T010000
END:DAYLIGHT
BEGIN:STANDARD
TZOFFSETFROM:+0200
TZOFFSETTO:+0100
TZNAME:CET
DTSTART:20261025T010000
END:STANDARD
END:VTIMEZONE
BEGIN:VEVENT
DTSTART;TZID=Europe/Rome:20250409T150000
DTEND;TZID=Europe/Rome:20251217T170000
DTSTAMP:20260421T141308
CREATED:20250328T101313Z
LAST-MODIFIED:20250328T101313Z
UID:10000933-1744210800-1765990800@www.unitus.it
SUMMARY:Terza Edizione di "Toward Green Horizon": Un Viaggio nel Futuro della Sostenibilità
DESCRIPTION:Il ciclo di webinar “Toward Green Horizon” torna con la sua terza edizione\, pronta a partire il 9 aprile e a proseguire per tutto il 2025. Un’opportunità imperdibile per esplorare temi cruciali nel panorama scientifico e socio-politico attuale\, con un focus su: \n Scienze agrarie e forestali\n Energie rinnovabili\n Sicurezza sul lavoro\n Le tre grandi transizioni: energetica\, digitale ed ecologica \nQuesti argomenti assumono un ruolo strategico\, soprattutto in relazione agli ingenti investimenti previsti dal PNRR. \n Un Percorso di Alta Formazione\nSono in programma 26 seminari\, tenuti da docenti universitari\, funzionari\, ricercatori ed esperti di settore\, che condivideranno il proprio know-how e mostreranno le applicazioni pratiche delle loro ricerche nel mondo del lavoro. Un’opportunità di approfondimento con un approccio multidisciplinare e un alto livello di specializzazione. \n Un’Iniziativa di Prestigio\nIl ciclo di webinar è organizzato nell’ambito del:\n Dottorato in “Engineering for Energy and Environment”\n Accordo Quadro CREA-UNITUS (Consiglio per la ricerca in agricoltura e l’analisi dell’economia agraria e Università degli Studi della Tuscia)\n Progetto MUR Dipartimenti di Eccellenza “D.I.Ver.So” (Digitali\, Intelligenti\, Verdi e Sostenibili) \n Un Hub Digitale per l’Iniziativa\nQuest’anno sarà disponibile una pagina web dedicata  https://seminaricreaunitus.crea.gov.it/ con tutte le informazioni utili per iscriversi e partecipare agli eventi. \n Dove trovare le locandine con i link Zoom? \n\nSui canali social del CREA e dell’Università della Tuscia\nSul sito web dell’iniziativa\nAttraverso il portale della Regione Lazio “Porta Futuro Lazio”\n\n Formazione\, Crediti e Opportunità\n Partecipazione gratuita e aperta a tutti\n Riconoscimento CFP per professionisti: \n\n0\,25 CFP dall’Ordine dei Dottori Agronomi e Forestali di Viterbo\n2 CFP dal Collegio Territoriale dei Periti Agrari di Roma\n2 CFP dal Collegio Nazionale degli Agrotecnici\n\n Validità ai fini della formazione obbligatoria\nIl progetto formativo contribuisce al raggiungimento delle 40 ore annuali di formazione previste dalla Direttiva del Ministro della Pubblica Amministrazione del 16/01/2025. Per ottenere il riconoscimento\, è necessario superare il test di verifica finale. \n Scarica qui il programma completo!
URL:https://www.unitus.it/evento/terza-edizione-di-toward-green-horizon-un-viaggio-nel-futuro-della-sostenibilita/
LOCATION:Viterbo
CATEGORIES:Eventi giornalieri
ATTACH;FMTTYPE=image/png:https://www.unitus.it/wp-content/uploads/2025/03/Logo-TGH.png
END:VEVENT
BEGIN:VEVENT
DTSTART;TZID=Europe/Rome:20250615T180000
DTEND;TZID=Europe/Rome:20250620T180000
DTSTAMP:20260421T141308
CREATED:20250324T113918Z
LAST-MODIFIED:20250324T114730Z
UID:10000913-1750010400-1750442400@www.unitus.it
SUMMARY:Computer Vision Application in Agriculture\, Forest and Agro-food Systems
DESCRIPTION:La Summer School si propone di affrontare temi cruciali sulle tecniche di computer vision con un focus specifico sulle applicazioni nei settori agricolo\, forestale e agroalimentare. I partecipanti avranno l’opportunità di apprendere e praticare le tecniche di machine learning e di computer vision\, con applicazioni pratiche che includono il monitoraggio della qualità degli alimenti\, la sicurezza sul lavoro e il monitoraggio degli animali e della fauna selvatica. Verranno inoltre esplorate le tecnologie multispettrali e iperspettrali\, fornendo una panoramica completa dell’uso della computer vision in diversi contesti naturali\, ambientali e produttivi. \nLocandina Evento
URL:https://www.unitus.it/evento/computer-vision-application-in-agriculture-forest-and-agro-food-systems-15-20-giugno-2025/
LOCATION:CREA-AA\, Via della Navicella 4\, Roma\, Italy
CATEGORIES:Eventi giornalieri
ATTACH;FMTTYPE=image/png:https://www.unitus.it/wp-content/uploads/2025/03/Computer_vision_black.png
END:VEVENT
BEGIN:VEVENT
DTSTART;TZID=Europe/Rome:20250616T120000
DTEND;TZID=Europe/Rome:20250616T140000
DTSTAMP:20260421T141308
CREATED:20250530T074901Z
LAST-MODIFIED:20250616T065105Z
UID:10001050-1750075200-1750082400@www.unitus.it
SUMMARY:Japan's initiatives for sustainable agrifood systems 16 June 2025
DESCRIPTION:Si terrà il 16 giugno 2025 (12:00-13:30 CEST) presso l’Università della Tuscia a Viterbo il seminario “Japan’s initiatives for sustainable agrifood systems” .\nEsperti del Policy Research Institute giapponese (PRIMAFF) presenteranno strategie innovative come il MIDORI Strategy 2050 per ridurre emissioni\, incrementare agricoltura biologica e promuovere tecnologie smart.\nGli interventi saranno focalizzati su analisi dei profitti nelle risaie eco-compatibili\, coinvolgimento delle comunità locali e miglioramento del consumo di frutta/verdura.\nRelatori: Yukio Uchida\, Juri Hori\, Shiho Tamaki e Atomu Nitta.\nPartecipazione disponibile in presenza (Aula C. Perone Pacifico) o via Zoom: https://shorturl.at/Wkulr.\nInfo: Chiara Grazini (c.grazini@unitus.it) e Luigi Biagini (l.biagini@unitus.it). \n  \nLocandina evento
URL:https://www.unitus.it/evento/japans-initiatives-for-sustainable-agrifood-systems/
LOCATION:Aula Magna – Rettorato\, Via Santa Maria in Gradi 4\, Viterbo\, Viterbo\, 01100\, Italia
CATEGORIES:Eventi giornalieri
ATTACH;FMTTYPE=image/png:https://www.unitus.it/wp-content/uploads/2025/04/sZfUYzAEcUJU1o7-oFKAt.png
END:VEVENT
BEGIN:VEVENT
DTSTART;TZID=Europe/Rome:20250618T100000
DTEND;TZID=Europe/Rome:20250618T120000
DTSTAMP:20260421T141308
CREATED:20250618T095214Z
LAST-MODIFIED:20250618T095214Z
UID:10001123-1750240800-1750248000@www.unitus.it
SUMMARY:DIKE Guest Lectures Series
DESCRIPTION:June 18th\, 2025\, 10:00-12.00 \nEU External Relations: The case of EU-Armenia (EaP) relations\nAula 13 – complesso S. Carlo\, via S. Carlo 32 \nprogramme
URL:https://www.unitus.it/evento/dike-guest-lectures-series/
LOCATION:Aula 13 – Complesso San Carlo\, Via San Carlo 32\, Viterbo
CATEGORIES:Conferenza
ATTACH;FMTTYPE=application/pdf:https://www.unitus.it/wp-content/uploads/2025/06/Copia-di-TEMPLATE-PER-CONDIVISIONE-1-1.pdf
END:VEVENT
BEGIN:VEVENT
DTSTART;TZID=Europe/Rome:20250618T140000
DTEND;TZID=Europe/Rome:20250618T150000
DTSTAMP:20260421T141308
CREATED:20250611T122757Z
LAST-MODIFIED:20250611T122757Z
UID:10001087-1750255200-1750258800@www.unitus.it
SUMMARY:Spring DEBates - ultimo incontro
DESCRIPTION:Modeling salinization processes in coastal aquifers\nSpeaker: Dott. Mattia Gaiolini \nPartecipazione aperta a tutti. \nRiconoscimento di  1 CFU per i dottorandi in Ecologia e gestione sostenibile delle risorse ambientali\, a fronte della partecipazione ad almeno 8 seminari su 10. Per ricevere l’attestato di partecipazione è necessario prenotarsi attraverso Porta Futuro Lazio (PFL) entro le 24 ore antecedenti l’inizio del seminario (il link sarà reso disponibile anche su questa pagina la mattina del seminario). \nRegistrati qui per ricevere il link e l’attestato di partecipazione (entro le ore 00:00 del 18 giugno). \nPer ricevere assistenza durante la prenotazione contattaci qui \nScarica qui la locandina \n 
URL:https://www.unitus.it/evento/spring-debates-ultimo-incontro-2/
LOCATION:online\, Italy
CATEGORIES:Eventi giornalieri,Webinar
ATTACH;FMTTYPE=image/jpeg:https://www.unitus.it/wp-content/uploads/2025/05/stellabn-scaled.jpg
END:VEVENT
BEGIN:VEVENT
DTSTART;TZID=Europe/Rome:20250619T160000
DTEND;TZID=Europe/Rome:20250619T170000
DTSTAMP:20260421T141308
CREATED:20250617T081038Z
LAST-MODIFIED:20250617T081038Z
UID:10001121-1750348800-1750352400@www.unitus.it
SUMMARY:Intervento “equipe psicologica dell’emergenza” ASL | rivolto alla comunità accademica sede di Agraria
DESCRIPTION:Si informa che in data 19 giugno p.v.\, dalle ore 16.00 alle ore 17.00\, presso l’Aula Magna – Rettorato in Santa Maria in Gradi\, si svolgerà un incontro in plenaria di psicoeducazione relativo alle reazioni psicologiche e comportamentali conseguenti all’incendio di Agraria\, finalizzato a fornire indicazioni utili a fronteggiare la\nsintomatologia psicologica emergente dall’evento critico.\nL’incontro è rivolto a tutta la comunità studentesca\, ivi inclusi i dottorandi\, nonché al personale docente e tecnico-amministrativo\, coinvolti nell’incendio della ex Facoltà di Agraria e sarà gestito dal team di Psicologia dell’Emergenza dell’Ospedale Santa Rosa di Viterbo.\nÈ fortemente raccomandata la presenza.\nQualora non sia possibile partecipare in presenza\, sarà possibile partecipare collegandosi online.
URL:https://www.unitus.it/evento/intervento-equipe-psicologica-dellemergenza-asl-rivolto-alla-comunita-accademica-sede-di-agraria/
LOCATION:Aula Magna – Rettorato\, Via Santa Maria in Gradi 4\, Viterbo\, Viterbo\, 01100\, Italia
CATEGORIES:Conferenza
ATTACH;FMTTYPE=image/png:https://www.unitus.it/wp-content/uploads/2025/06/asl-psicologico.png
END:VEVENT
BEGIN:VEVENT
DTSTART;TZID=Europe/Rome:20250619T180000
DTEND;TZID=Europe/Rome:20250619T210000
DTSTAMP:20260421T141308
CREATED:20250606T074123Z
LAST-MODIFIED:20250609T062057Z
UID:10001080-1750356000-1750366800@www.unitus.it
SUMMARY:AperiLIS
DESCRIPTION:Un aperitivo di incontro e integrazione  in cui sarà possibile scoprire la LIS\, la Lingua dei Segni Italiana\, e la cultura sorda. \nDa qualche anno l’ENS SP di Viterbo e l’Università della Tuscia collaborano con  lo scopo di sensibilizzare il territorio sulla sordità e di abbattere le barriere invisibili della comunicazione\, contribuendo a costruire una società più coesa e inclusiva. \nL’evento\, all’interno del progetto Europeo Erasmus+ ISENSE; nasce dalla volontà di valorizzare la comunicazione in tutte le sue forme\, con particolare attenzione alla Lingua dei Segni\, offrendo la possibilità di condividere un momento conviviale degustando uno spritz o una bevanda analcolica\, accompagnati da stuzzichini. Ma l’esperienza andrà oltre il gusto: sarà un’occasione per scoprire e vivere la comunicazione non tramite il tradizionale linguaggio parlato\, ma attraverso segni\, musica\, vibrazioni e giochi. \nL’iniziativa\, a cui sono invitate a partecipare persone sorde e udenti\, vuole essere un’esperienza all’insegna della condivisione in una cornice spensierata e stimolante\, guidata da persone sorde e interpreti\, in cui ci si potrà mettere alla prova scoprendo questa nuova lingua. \nL’evento sarà accessibile a tutti\, sordi e udenti\, in quanto garantito il servizio di traduzione simultanea in ITA/LIS. \nDurante l’evento sarà possibile anche utilizzare gli scenari di realtà virtuale progettati nel progetto ISENSE. \nConsulta il Programma \nRegistra la tua presenza! \n  \nhttps://www.unitus.it/wp-content/uploads/2025/06/VID-20250607-WA0000.mp4\n  \n 
URL:https://www.unitus.it/evento/aperilis/
LOCATION:CHIOSTRO RINASCIMENTALE RETTORATO UNITUS\, Viterbo\, Viterbo\, 01100\, Italy
CATEGORIES:Conferenza
ATTACH;FMTTYPE=application/pdf:https://www.unitus.it/wp-content/uploads/2025/06/AperLIS_invito_g-1-1.pdf
END:VEVENT
END:VCALENDAR