BEGIN:VCALENDAR
VERSION:2.0
PRODID:-//Unitus - ECPv6.15.20//NONSGML v1.0//EN
CALSCALE:GREGORIAN
METHOD:PUBLISH
X-WR-CALNAME:Unitus
X-ORIGINAL-URL:https://www.unitus.it
X-WR-CALDESC:Eventi per Unitus
REFRESH-INTERVAL;VALUE=DURATION:PT1H
X-Robots-Tag:noindex
X-PUBLISHED-TTL:PT1H
BEGIN:VTIMEZONE
TZID:Europe/Rome
BEGIN:DAYLIGHT
TZOFFSETFROM:+0100
TZOFFSETTO:+0200
TZNAME:CEST
DTSTART:20250330T010000
END:DAYLIGHT
BEGIN:STANDARD
TZOFFSETFROM:+0200
TZOFFSETTO:+0100
TZNAME:CET
DTSTART:20251026T010000
END:STANDARD
BEGIN:DAYLIGHT
TZOFFSETFROM:+0100
TZOFFSETTO:+0200
TZNAME:CEST
DTSTART:20260329T010000
END:DAYLIGHT
BEGIN:STANDARD
TZOFFSETFROM:+0200
TZOFFSETTO:+0100
TZNAME:CET
DTSTART:20261025T010000
END:STANDARD
BEGIN:DAYLIGHT
TZOFFSETFROM:+0100
TZOFFSETTO:+0200
TZNAME:CEST
DTSTART:20270328T010000
END:DAYLIGHT
BEGIN:STANDARD
TZOFFSETFROM:+0200
TZOFFSETTO:+0100
TZNAME:CET
DTSTART:20271031T010000
END:STANDARD
END:VTIMEZONE
BEGIN:VEVENT
DTSTART;TZID=Europe/Rome:20260424T100000
DTEND;TZID=Europe/Rome:20260424T180000
DTSTAMP:20260421T035547
CREATED:20260408T124219Z
LAST-MODIFIED:20260416T104920Z
UID:10001551-1777024800-1777053600@www.unitus.it
SUMMARY:CREDITO\, ESG E PATRIMONIO IMMOBILIARE. Rischi\, opportunità e implicazioni per imprese e professionisti
DESCRIPTION:Il ruolo delle tematiche ESG nel credito non è più una prospettiva futura\, ma una trasformazione già in atto che coinvolge attivamente i principali attori dell’economia. Partendo dall’impatto delle normative ESG sulla concessione del credito e sulla gestione del patrimonio immobiliare\, il convegno riunisce accademici\, esponenti del sistema bancario e finanziario\, associazioni imprenditoriali e Ordini professionali\, con l’obiettivo di analizzare le implicazioni concrete in termini di rischio\, accesso ai finanziamenti e valutazione d’impresa. \nDalla teoria alla pratica: la mattinata offre un inquadramento teorico ed empirico dell’integrazione della sostenibilità nei processi di credito\, con il contributo di accademici\, sistema bancario e Associazione Bancaria Italiana\, evidenziando gli impatti sulla valutazione del merito creditizio\, sulle prassi operative e sulle attività professionali. \nNel pomeriggio\, dopo un intervento sui legami tra sostenibilità e rischio di default nelle PMI\, il programma si articola in due tavole rotonde. La prima è dedicata alla dimensione ESG nella disciplina del credito\, con focus sulle sfide della regolamentazione europea e sulle implicazioni operative per il sistema bancario\, con il contributo di esponenti dell’Associazione Bancaria Italiana\, del mondo bancario e della ricerca accademica. La seconda è focalizzata sul ruolo degli strumenti operativi – perizie\, bilanci e valutazioni tecniche – nel determinare l’accesso ai finanziamenti\, con il coinvolgimento degli Ordini professionali e delle associazioni di categoria. \nIl convegno si conclude con una riflessione sulle implicazioni di policy e su come i rischi ESG stanno ridefinendo i criteri di valutazione e concessione del credito. \nProgramma della giornata:\nOre 10:00 – Accrediti  \nOre 10:15 Saluti istituzionali e apertura dei lavori \n\nMagnifica Rettrice – Ch.ma Prof.ssa Tiziana Laureti\nDirettore DEIM – Prof. Stefano Rossi\nComune di Viterbo               \nBanca Lazio Nord\nOrdine dei Dottori Commercialisti e degli Esperti Contabili\nOrdine degli Ingegneri\nUnindustria \n\nOre 11:00-13:00 Prima sessione – ESG nel credito: teoria\, evidenza empirica\, impatti professionali \nModera: Anna Maria D’Arcangelis (Università degli Studi della Tuscia) \n\n11:00\n\nAngelo Peppetti (Responsabile Credito ABI – Supervisore del Comitato Tecnico Strategico ESG) \nCredito e sostenibilità: l’evoluzione dell’integrazione ESG tra prodotti\, valutazione e prassi di mercato \n\n11:25\n\nMassimiliano Meschini (Presidente Commissione Finanza ODCEC Viterbo) \nL’impatto dei fattori ESG sulle professioni contabili: commercialisti\, esperti contabili e revisori legali \n\n11:50\n\nIlaria Baffo e Nader Amir Fares (Università degli Studi della Tuscia) \nMetodologie e indicatori per la valutazione della sostenibilità nei progetti di sviluppo territoriale \n\n12:15\n\nErmanno La Marca  \nOltre la legge? Economicità dell’impresa e fattori ESG \n\n12:40 – Discussione\nCoordina: Alessandra Ortolano (Università degli Studi della Tuscia)\n\n13:00 Light lunch (Chiostro medioevale – Rettorato) \n  \nOre 14:00 – Seconda sessione  \nCostanza Consolandi (Università degli Studi di Siena) \nQuello che i bilanci non dicono. Sostenibilità e rischio di default nelle PMI italiane \n  \nTavole rotonde. Dalla regolamentazione alla pratica operativa \n  \nOre 14:30 – La dimensione ESG nella disciplina del credito: interpretazione e sfide della regolamentazione europea. \nModera: Giulia Scardozzi (Università degli Studi della Tuscia) \nIntervengono:  \n\nSerena Razzi (ABI)\nIlaria Spazza (Banca Lazio Nord)\nFranco Fiordelisi (Università degli Studi Roma Tre)\nGerardo Rescigno (Mediocredito\, AIFIRM)\n\n  \nOre 15:30 – Dall’ESG al credito: perizie\, bilanci e accesso ai finanziamenti \nModera: Fabrizio Rossi (Università degli Studi della Tuscia) \nIntervengono:  \n\nAlessia Fattori (Presidente Ordine degli Ingegneri della provincia di Viterbo)\nFederico Massaini (Dottore Commercialista)\nAndrea De Simone (Confartigianato)\nChiara Cardona (Università degli Studi della Tuscia)\n\n  \nOre 17:00 \nConclusioni e policy implications \nAnna Maria D’Arcangelis (Università degli Studi della Tuscia) \nOre 18:00 \nChiusura dei lavori \n  \nRiconoscimenti crediti: per gli studenti UNITUS in presenza 1 CFU; per i commercialisti 7 CFP; per gli ingegneri 3 CFP \nPer registrarsi al convegno: https://forms.gle/ksZazKXsMs8CPBxB8 \nPer seguire il convegno in diretta streaming: https://unitus.zoom.us/j/86330409840 \nComitato scientifico:  \nAnna Maria D’Arcangelis (Università degli Studi della Tuscia)  \nGiulia Scardozzi (Università degli Studi della Tuscia) \nAngelo Peppetti (ABI) \nFabrizio Rossi (Università degli Studi della Tuscia) \nMassimiliano Meschini (Dottore Commercialista) \nComitato organizzativo:  \nAnna Maria D’Arcangelis (Università degli Studi della Tuscia)  \nGiulia Scardozzi (Università degli Studi della Tuscia) \nAlessandra Ortolano (Università degli Studi della Tuscia) \nEdoardo Lanciano (Università degli Studi di Roma TRE) \nLaura Peppetti (Cultore della materia di Risk Management) \nChiara Cardona (Università degli Studi della Tuscia)
URL:https://www.unitus.it/evento/credito-fattori-esg-e-patrimonio-immobiliare-il-ruolo-dei-professionisti-a-supporto-delle-imprese/
LOCATION:Aula Magna – Rettorato\, Via Santa Maria in Gradi 4\, Viterbo\, Viterbo\, 01100\, Italia
CATEGORIES:Convegno,Webinar
ATTACH;FMTTYPE=image/jpeg:https://www.unitus.it/wp-content/uploads/2026/04/Locandina_noqrcode_1-scaled.jpg
END:VEVENT
END:VCALENDAR