BEGIN:VCALENDAR
VERSION:2.0
PRODID:-//Unitus - ECPv6.15.20//NONSGML v1.0//EN
CALSCALE:GREGORIAN
METHOD:PUBLISH
X-WR-CALNAME:Unitus
X-ORIGINAL-URL:https://www.unitus.it
X-WR-CALDESC:Eventi per Unitus
REFRESH-INTERVAL;VALUE=DURATION:PT1H
X-Robots-Tag:noindex
X-PUBLISHED-TTL:PT1H
BEGIN:VTIMEZONE
TZID:Europe/Rome
BEGIN:DAYLIGHT
TZOFFSETFROM:+0100
TZOFFSETTO:+0200
TZNAME:CEST
DTSTART:20250330T010000
END:DAYLIGHT
BEGIN:STANDARD
TZOFFSETFROM:+0200
TZOFFSETTO:+0100
TZNAME:CET
DTSTART:20251026T010000
END:STANDARD
BEGIN:DAYLIGHT
TZOFFSETFROM:+0100
TZOFFSETTO:+0200
TZNAME:CEST
DTSTART:20260329T010000
END:DAYLIGHT
BEGIN:STANDARD
TZOFFSETFROM:+0200
TZOFFSETTO:+0100
TZNAME:CET
DTSTART:20261025T010000
END:STANDARD
BEGIN:DAYLIGHT
TZOFFSETFROM:+0100
TZOFFSETTO:+0200
TZNAME:CEST
DTSTART:20270328T010000
END:DAYLIGHT
BEGIN:STANDARD
TZOFFSETFROM:+0200
TZOFFSETTO:+0100
TZNAME:CET
DTSTART:20271031T010000
END:STANDARD
END:VTIMEZONE
BEGIN:VEVENT
DTSTART;TZID=Europe/Rome:20260420T140000
DTEND;TZID=Europe/Rome:20260421T153000
DTSTAMP:20260421T232021
CREATED:20260413T084222Z
LAST-MODIFIED:20260420T075817Z
UID:10001568-1776693600-1776785400@www.unitus.it
SUMMARY:Lavori conclusivi del PRIN "Metalinguistic Texts as a Privileged Data Source for the Knowledge of Ancient Languages"
DESCRIPTION:Il 20 e il 21 aprile si terrà il convegno conclusivo del progetto PRIN2020 “Metalinguistic Texts as a Privileged Data Source for the Knowledge of Ancient Languages”. \nAula 6 e Aula 13 \nProgramma: \n20 aprile 2026 (San Carlo\, Aula 6) \n14:00-14:20 – Saluti istituzionali e apertura dei lavori\n14:20-15:00 – Dal dialetto all’italiano: grammatiche e strategie di alfabetizzazione regionale – – Felicia Logozzo\, Università per Stranieri di Siena\n15:00-15:40 – Il capitolo sulla coniugazione nella traduzione armena della Τέχνη γραμματική\n– Giancarlo Schirru\, Università di Napoli “L’Orientale” \n15:40-16:10 -Pausa caffè \n16:10-16:50 – Genderless grammar for a gendered language: il genere grammaticale in Pāṇini – Artemij Keidan\, Sapienza Università di Roma\n16:50-17:30 – La nozione di zeugma nella grammatica e retorica greco-latine – Serena Barchi\, Università degli Studi della Tuscia \n21 aprile 2026 (San Carlo\, Aula 13) \n10:00-10:40 – Da un senso all’altro. Note sul lessico fonetico in Terenziano Mauro Giovanna Marotta\, Università di Pisa\n10:40-11:20 – Influenze medio-indiane in Pāṇini? Considerazioni sul «futuro come passato» in A 3.2.112-114 – Beatrice Grieco\, Sapienza Università di Roma \n11:20-11:50 – Pausa caffè \n11:50-12:30 – Hemacandra\, Nrupatunga e il quinto caso grammaticale (sull’ablativo in apabhraṃśa e kannada antico) – Paolo Milizia\, Università di Napoli “L’Orientale”\n12:30-13:10 – Le preposizioni nella Τέχνη γραμματική armena – Andrea Di Manno\, Università di Napoli “L’Orientale” \n13:10-14:30 – Pausa pranzo \n14:30-15:10 – Ancora su pseudo-lingue\, pseudo-testi e fonti interne vs. esterne del giudeo-romanesco – Luca Lorenzetti\, Università degli Studi della Tuscia \n15:10-15:30 Chiusura dei lavori \nSi veda la locandina allegata. \nLocandina
URL:https://www.unitus.it/evento/lavori-conclusivi-del-prin-metalinguistic-texts-as-a-privileged-data-source-for-the-knowledge-of-ancient-languages/
LOCATION:Dipartimento DISTU – Via San Carlo 32 -VITERBO
CATEGORIES:Seminario
ATTACH;FMTTYPE=image/jpeg:https://www.unitus.it/wp-content/uploads/2026/04/Cattura5-e1776671890904.jpg
END:VEVENT
BEGIN:VEVENT
DTSTART;TZID=Europe/Rome:20260420T143000
DTEND;TZID=Europe/Rome:20260420T170000
DTSTAMP:20260421T232021
CREATED:20260403T110925Z
LAST-MODIFIED:20260413T103104Z
UID:10001549-1776695400-1776704400@www.unitus.it
SUMMARY:Presentazione del libro "La prevenzione patrimoniale non ablativa. Profili dogmatici e limiti costituzionali della prevenzione mite"
DESCRIPTION:Presentazione del libro La prevenzione patrimoniale non ablativa. Profili dogmatici e limiti costituzionali della prevenzione “mite” \nLOCANDINA \n  \nSaluti istituzionali \nProf. Carlo Sotis\, Direttore Dipartimento DIKE\, Professore ordinario di diritto penale\, Università degli Studi della Tuscia \nIntroduce e modera \nDott.ssa Martina Galli\, Ricercatrice di diritto penale\, Università degli Studi della Tuscia \nInterviene \nDott. Mario Arbotti\, Assegnista di ricerca in diritto penale\, Università di Bologna \nDiscute con l’autore \nProf. Vincenzo Mongillo\, Professore ordinario di diritto penale\, Università degli Studi di Roma Unitelma Sapienza \nDott. Emanuele Birritteri\, ricercatore di Diritto penale\, Università degli Studi di Roma Unitelma Sapienza
URL:https://www.unitus.it/evento/presentazione-del-libro-la-prevenzione-patrimoniale-non-ablativa-profili-dogmatici-e-limiti-costituzionali-della-prevenzione-mite/
LOCATION:Aula Magna – Rettorato\, Via Santa Maria in Gradi 4\, Viterbo\, Viterbo\, 01100\, Italia
CATEGORIES:Seminario
ATTACH;FMTTYPE=image/png:https://www.unitus.it/wp-content/uploads/2026/04/La-prevenzione-patrimoniale-non-ablativa.-Profili-dogmatici-e-limiti-costituzionali-della-prevenzione-mite-1-2.png
END:VEVENT
BEGIN:VEVENT
DTSTART;TZID=Europe/Rome:20260421T110000
DTEND;TZID=Europe/Rome:20260421T130000
DTSTAMP:20260421T232021
CREATED:20260324T100407Z
LAST-MODIFIED:20260324T100407Z
UID:10001528-1776769200-1776776400@www.unitus.it
SUMMARY:Seminario permanente “Diritti 4.0. Percorsi interdisciplinari” – I ciclo: “Guerre in codice. Come le intelligenze artificiali resettano la democrazia”
DESCRIPTION:All’interno del Seminario permanente “Diritti 4.0. Percorsi interdisciplinari” – I ciclo\, il 21 aprile 2026\, dalle ore 11.00 alle 13.00\, nella suggestiva cornice dell’Aula Magna\, si terrà una lezione seminariale dedicata alla presentazione del volume “Guerre in codice. Come le intelligenze artificiali resettano la democrazia” (Donzelli\, 2025). \nCon l’autore\, il dott. Michele Mezza\, discuteranno il dott. Gianluca Boccacci\, Presidente di Cyber Actors\, il dott. Alessio Stefanoni e la dott.ssa Giorgia De Mitri (Dottorato in Diritto dei mercati europei e globali. Crisi\, diritti\, regolazione)\, e la prof.ssa Barbara G. Bello. I lavori saranno coordinati dal prof. Fabio Pacini. \nL’autore \nMichele Mezza è stato giornalista per quarant’anni in Rai\, dove ha ideato e sviluppato il progetto RaiNews24. Insegna all’Università Federico II di Napoli\, collabora con Huffington Post e fa parte del comitato di direzione della rivista Filosofia.0. \nPer Donzelli è autore di numerose pubblicazioni\, tra cui: Algoritmi di libertà (2018)\, Il contagio dell’algoritmo (2020)\, Net-war (2022) e Connessi a morte (2024). \nLOCANDINA
URL:https://www.unitus.it/evento/seminario-permanente-diritti-4-0-percorsi-interdisciplinari-i-ciclo-guerre-in-codice-come-le-intelligenze-artificiali-resettano-la-democrazia/
LOCATION:Aula Magna – Rettorato\, Via Santa Maria in Gradi 4\, Viterbo\, Viterbo\, 01100\, Italia
CATEGORIES:Seminario
ATTACH;FMTTYPE=image/png:https://www.unitus.it/wp-content/uploads/2026/03/seminari-diritti-percorsi-interdisciplinari-I-ciclo.png
END:VEVENT
BEGIN:VEVENT
DTSTART;TZID=Europe/Rome:20260421T110000
DTEND;TZID=Europe/Rome:20260421T130000
DTSTAMP:20260421T232021
CREATED:20260417T085924Z
LAST-MODIFIED:20260417T085924Z
UID:10001589-1776769200-1776776400@www.unitus.it
SUMMARY:Guest Lecture: The Civil Justice System in England – Disclosure and Evidence
DESCRIPTION:Guest Lecture: The Civil Justice System in England – Disclosure and Evidence \nGuest Lecture nei corsi di Diritto Processuale Civile (LMG-01) e Digital Evidence and Human Rights (LM-90) \n21.04.2026 – Aula 1\, Santa Maria in Gradi – 11:00 – 13:00 \nMr Keith Uff is a retired lecturer in the University of Birmingham. He is a graduate of Oxford University and a Barrister of Gray’s Inn. His academic interests are the law of Contract and Commercial Law\, and particularly the law of Civil Procedure and Evidence in civil cases. He is a past General Secretary of the International Association of Procedural Law and was a practicing member of the English Bar.
URL:https://www.unitus.it/evento/guest-lecture-the-civil-justice-system-in-england-disclosure-and-evidence/
LOCATION:Aula 1 – Santa Maria in Gradi\, via Santa Maria in Gradi 4\, Viterbo\, Italy
CATEGORIES:Seminario
ATTACH;FMTTYPE=image/png:https://www.unitus.it/wp-content/uploads/2026/04/guest-lecture-The-Civil-Justice-System-in-England-–-Disclosure-and-Evidence.png
END:VEVENT
BEGIN:VEVENT
DTSTART;TZID=Europe/Rome:20260421T140000
DTEND;TZID=Europe/Rome:20260421T160000
DTSTAMP:20260421T232021
CREATED:20260410T084931Z
LAST-MODIFIED:20260410T122342Z
UID:10001559-1776780000-1776787200@www.unitus.it
SUMMARY:Seminario CUSTODI DEL SUOLO – MEDSOILS-CHALLENGE
DESCRIPTION:Il 21 Aprile 2026 alle ore 14:00 presso la Facoltà di Agraria (aula 12\, blocco A3) si terrà una presentazione della \nSoil Monitoring Law \nper presentare le possibilità professionali nella pedologia. \nIn quell’occasione verrà presentato il Master di primo livello sul tema della scienza del suolo in ambiente Mediterraneo. \nIl master si realizza nell’ambito del progetto dal titolo: \nMEDSOILS-CHALLENGE: Increasing skills and competences of the future soil experts to face the challenges of climate change in the Mediterranean areas” \nfinanziato dal programma Erasmus+ KEY ACTION 2: COOPERATION AMONG ORGANISATIONS AND INSTITUTIONS\, Sector: Higher Education (KA220-HED) \n  \nINFO UTILI \n21 Aprile 2026 alle ore 14:00 \nFacoltà di Agraria (aula 12\, blocco A3) \nè possibile seguire l’evento on line a questo  LINK  \noppure utilizzando il QRcode        \nQui il programma dell’evento \n 
URL:https://www.unitus.it/evento/seminario-custodi-del-suolo-medsoils-challenge/
CATEGORIES:Conferenza,Seminario,Terza missione
ATTACH;FMTTYPE=image/png:https://www.unitus.it/wp-content/uploads/2026/04/evento-soil-e1775810958740.png
END:VEVENT
BEGIN:VEVENT
DTSTART;TZID=Europe/Rome:20260421T160000
DTEND;TZID=Europe/Rome:20260421T180000
DTSTAMP:20260421T232022
CREATED:20260415T064457Z
LAST-MODIFIED:20260415T064814Z
UID:10001581-1776787200-1776794400@www.unitus.it
SUMMARY:Incontro con il fotografo Fausto Giaccone
DESCRIPTION:Il 21 aprile alle ore 16  in aula 6 in occasione del Laboratorio di Fotografia organizzato dal Dipartimento Distu rivolto a tutto la comunità studentesca Unitus  interverrà il  fotografo e reporter Fausto Giaccone.
URL:https://www.unitus.it/evento/incontro-con-il-fotografo-fausto-giaccone/
LOCATION:Aula 6 – Complesso San Carlo
CATEGORIES:Seminario
ATTACH;FMTTYPE=image/webp:https://www.unitus.it/wp-content/uploads/2026/04/download.webp
END:VEVENT
BEGIN:VEVENT
DTSTART;TZID=Europe/Rome:20260422T100000
DTEND;TZID=Europe/Rome:20260422T190000
DTSTAMP:20260421T232022
CREATED:20260416T180536Z
LAST-MODIFIED:20260416T180536Z
UID:10001586-1776852000-1776884400@www.unitus.it
SUMMARY:Bruno Trentin. Dall'antifascismo europeo all'Italia Repubblicana
DESCRIPTION:In occasione del Centenario della nascita di Bruno Trentin e dell’ottantesimo della Repubblica\, l’Università della Tuscia\, in collaborazione con CSEI\, Laboratorio di Public History ed Istoreco\, promuove il seminario di studi “Bruno Trentin. Dall’antifascismo europeo all’Italia repubblicana“. La partecipazione al seminario mattina e pomeriggio riconosce 1 CFU agli studenti di L36 e LM62. \nLocandina Trentin
URL:https://www.unitus.it/evento/bruno-trentin-dallantifascismo-europeo-allitalia-repubblicana/
LOCATION:Aula Magna del rettorato dell’Università degli Studi della Tuscia\, Via di Santa Maria in Gradi\, 4\, Viterbo\, 01100\, Italy
CATEGORIES:Seminario
ATTACH;FMTTYPE=image/jpeg:https://www.unitus.it/wp-content/uploads/2026/04/DEIM-NEWS-SITO.jpg
END:VEVENT
BEGIN:VEVENT
DTSTART;TZID=Europe/Rome:20260423T100000
DTEND;TZID=Europe/Rome:20260423T150000
DTSTAMP:20260421T232022
CREATED:20260414T131558Z
LAST-MODIFIED:20260416T145500Z
UID:10001580-1776938400-1776956400@www.unitus.it
SUMMARY:Mascolinità\, genere e ideologie della destra contemporanea
DESCRIPTION:Una giornata di confronto su mascolinità\, genere e culture politiche contemporanee. \nIl 23 aprile l’Università della Tuscia ospita un doppio appuntamento: alle 10:00 la presentazione del volume  di Manolo Farci\, Quel che resta degli uomini. Sulla mascolinità e\, a seguire\, alle 12:00\, il seminario dottorale Manosphere & Alt-right. Genere e ideologie della destra contemporanea con Manolo Farci e Milena Meo. \nDue momenti diversi ma intrecciati\, per riflettere sulle trasformazioni del maschile e sulle forme che assumono oggi identità\, conflitto e discorso pubblico. \n  \nQuel che resta degli uomini. Sulla mascolinità \nLocandina Manosphere & Alt-right
URL:https://www.unitus.it/evento/mascolinita-genere-e-ideologie-della-destra-contemporanea/
LOCATION:Aula 2 SMG – Aula 5 Paradiso\, Viterbo
CATEGORIES:Seminario
ATTACH;FMTTYPE=image/jpeg:https://www.unitus.it/wp-content/uploads/2026/04/DEIM-NEWS-SITO.jpg
END:VEVENT
BEGIN:VEVENT
DTSTART;TZID=Europe/Rome:20260427T110000
DTEND;TZID=Europe/Rome:20260427T170000
DTSTAMP:20260421T232022
CREATED:20260420T074408Z
LAST-MODIFIED:20260420T080045Z
UID:10001594-1777287600-1777309200@www.unitus.it
SUMMARY:Visita guidata alla Roma Lusofona
DESCRIPTION:Lunedì\, 27 aprile\, 2026. Appuntamento: Piazza di Spagna (vicino all’ingresso della metro)\, ore 11.00. \nNell’ambito delle attività della Cattedra Pedro\, avrà luogo il prossimo 27 aprile\, a partire dalle ore 11:00\, una visita di studio a Roma\, alla ricerca delle tracce della presenza lusofona nella città. \nDurante la mattina è prevista la visita all’Ambasciata del Brasile\, nello storico palazzo Doria Pamphilj in Piazza Navona. \nNel pomeriggio\, la visita proseguirà per la Roma lusitana\, partendo da via dei Portoghesi\, con visita alla chiesa nazionale e all’istituto annesso\, e continuando per le vie centrali della città. Si rievocherà la memoria di personaggi storici come l’Ambasciatore Costa Cabral\, essenziale durante l’assedio di Roma da parte dei Piemontesi; Gabriel da Fonseca\, medico dei papi ritratto da Bernini; D. João V e l’Accademia portoghese delle arti\, da cui uscirono le famose carrozze che oggi si trovano nel museo più visitato di Lisbona; il potentissimo cardinale di Alpedrinha\, D. Jorge da Costa; il pittore Domingos António de Sequeira\, che visse qui\, e dopo un grande successo qui è venuto anche a mancare; l’eroina della rivoluzione partenopea\, Leonor Fonseca Pimentel\, tra gli altri. \n  \nLocandina
URL:https://www.unitus.it/evento/visita-guidata-alla-roma-lusofona/
LOCATION:Roma\, Via della Navicella 2\, Roma\, Italy
CATEGORIES:Seminario
ATTACH;FMTTYPE=image/png:https://www.unitus.it/wp-content/uploads/2026/04/Copia-di-DISTU-Locandina-UNITUS-1-2-e1776672036512.png
END:VEVENT
BEGIN:VEVENT
DTSTART;TZID=Europe/Rome:20260428T143000
DTEND;TZID=Europe/Rome:20260428T170000
DTSTAMP:20260421T232022
CREATED:20260414T125559Z
LAST-MODIFIED:20260414T125559Z
UID:10001579-1777386600-1777395600@www.unitus.it
SUMMARY:Seminario Dottorale: «La dimensione cognitiva nella sicurezza contemporanea»
DESCRIPTION:📚 Seminario Dottorale \nLa dimensione cognitiva nella sicurezza contemporanea \nIntroduce e coordina Alessandro Sterpa\nIntervengono Sabrina Magris e Teresa Coratella \n🗓 28 aprile 2026\n🕒 14:30–17:00\n📍 Aula 3\, sede di Santa Maria in Gradi\, Viterbo \n✉️ Per informazioni e prenotazioni: seminaripubblico@unitus.it \nlocandina 28-2 \n  \n 
URL:https://www.unitus.it/evento/seminario-dottorale-la-dimensione-cognitiva-nella-sicurezza-contemporanea/
LOCATION:Aula 3\, Via Santa Maria in Gradi\, 4\, Viterbo\, 01100\, Italy
CATEGORIES:Seminario
ATTACH;FMTTYPE=image/jpeg:https://www.unitus.it/wp-content/uploads/2026/04/DEIM-NEWS-SITO.jpg
END:VEVENT
BEGIN:VEVENT
DTSTART;TZID=Europe/Rome:20260429T080000
DTEND;TZID=Europe/Rome:20260515T170000
DTSTAMP:20260421T232022
CREATED:20260330T134719Z
LAST-MODIFIED:20260330T134719Z
UID:10001536-1777449600-1778864400@www.unitus.it
SUMMARY:Corso di Formazione assaggiatore olio di oliva!
DESCRIPTION:Vuoi imparare a distinguere un olio di eccellenza da uno difettoso e acquisire una competenza professionale\nriconosciuta? Partecipa al Corso di Formazione Ufficiale riconosciuto dalla Regione Lazio! \nQUANDO? Dal 29 aprile al 15 maggio 2026. \nMODALITÀ DIDATTICA: Mista (7 incontri con teoria online e pratica in presenza) per agevolare chi\nlavora o studia\, più 4 date d’esame da concordare. \nCOSA IMPARERAI? Il corso ti fornirà le basi tecnico-scientifiche sulla produzione e sulla composizione\nchimica dell’olio\, addestrandoti nelle tecniche di assaggio per riconoscere pregi\, difetti e tipicità degli oli di\noliva. \nPERCHÉ ISCRIVERSI?\n• Docenti altamente qualificati\n• Riceverai tutto il materiale didattico essenziale\n• Superando le prove\, otterrai l’Attestato di Idoneità Fisiologica\, requisito fondamentale per\nl’iscrizione nell’Elenco Nazionale dei tecnici ed esperti degli oli di oliva vergini ed extravergini.\n• Il corso è aperto a tutti coloro che desiderano una conoscenza specialistica in materia. \nCOSTI E AGEVOLAZIONI:\n• Quota di partecipazione: € 580\,00.\n• Tariffa Ridotta UNITUS: Solo € 480\,00 per studenti\, personale Unitus e loro familiari.\n• Iscrizione confermata con un acconto di € 100\,00 tramite sistema PagoPA. \nCOME PARTECIPARE: Per pre-iscriverti\, compila la scheda di adesione e inviala a:\ndesdiana@unitus.it o serenaferri@unitus.it. \nPER INFORMAZIONI: \nScheda di Adesione \nScheda CORSO \nContattaci ai numeri: 389 2356517 | 328 6463634 anche tramite whatsapp o al\nfisso 0761 357 457.
URL:https://www.unitus.it/evento/corso-di-formazione-assaggiatore-olio-di-oliva/
CATEGORIES:Seminario
ATTACH;FMTTYPE=image/png:https://www.unitus.it/wp-content/uploads/2026/03/1.png
END:VEVENT
BEGIN:VEVENT
DTSTART;TZID=Europe/Rome:20260429T150000
DTEND;TZID=Europe/Rome:20260429T170000
DTSTAMP:20260421T232022
CREATED:20260402T085416Z
LAST-MODIFIED:20260402T085416Z
UID:10001545-1777474800-1777482000@www.unitus.it
SUMMARY:Guest lecture: Between Sustainability and Regulatory Challenges: Cultivated Meat in the EU Internal Market
DESCRIPTION:Guest lecture: Between Sustainability and Regulatory Challenges: Cultivated Meat in the EU Internal Market \n15 pm\, 29.04.2026\, Classroom C and online via ZOOM\, Campus of Santa Maria in Gradi \nGUIDO BELLENGHI (Maastricht Centre for European Law (MCEL)\, Maastricht University University—NL) \nGuido Bellenghi is a PhD researcher in EU law at Maastricht University and currently a visiting researcher at the European University Institute. He is a scientific expert in the Jean Monnet Centre of Excellence on Crises and Emergencies in EU Integration (EmergEU) and a member of the Maastricht Centre for European Law (MCEL) and the Belgian Association for European Law (BEDER). Guido holds a Law Degree from LUISS University and an LL.M. from Maastricht University\, and he also studied law at the London School of Economics and Leiden University. His research is regularly featured in journals specialised in EU law. \nThe lecture falls within the activities of the Jean Monnet Chair “EUSITS” and is part of the course of New frontiers of Sustainability: the Regulatory Architecture of the European Green Deal. \nInquiries: Dr. Marco Bevilacqua\, marco.bevilacqua@unitus.it.
URL:https://www.unitus.it/evento/guest-lecture-between-sustainability-and-regulatory-challenges-cultivated-meat-in-the-eu-internal-market/
LOCATION:Rettorato – Santa Maria in Gradi\, Via Santa Maria in Gradi\, 4\, Viterbo\, 01100
CATEGORIES:Seminario
ATTACH;FMTTYPE=image/png:https://www.unitus.it/wp-content/uploads/2026/04/GUEST-LECTURE-BELLENGHI.png
END:VEVENT
BEGIN:VEVENT
DTSTART;TZID=Europe/Rome:20260505T140000
DTEND;TZID=Europe/Rome:20260505T160000
DTSTAMP:20260421T232022
CREATED:20260413T074306Z
LAST-MODIFIED:20260416T093639Z
UID:10001564-1777989600-1777996800@www.unitus.it
SUMMARY:IA generativa e comprensione  linguistica: I LLM capiscono il linguaggio?
DESCRIPTION:5 maggio 2026 ore 14-16 aula 6 San Carlo \nLezione sull’intelligenza artificiale e sulla capacità degli LLM di comprendere il linguaggio di Gino Roncaglia\, Professore di Editoria digitale\, Filosofia dell’informazione e Digital Humanities presso l’Università di Roma Tre. \n  \n. \n  \nlocandina
URL:https://www.unitus.it/evento/ia-generativa-e-comprensione-linguistica-i-llm-capiscono-il-linguaggio/
LOCATION:Aula 6 – Complesso San Carlo
CATEGORIES:Seminario
ATTACH;FMTTYPE=image/png:https://www.unitus.it/wp-content/uploads/2026/04/Immagine1.png
END:VEVENT
BEGIN:VEVENT
DTSTART;TZID=Europe/Rome:20260507T100000
DTEND;TZID=Europe/Rome:20260507T100000
DTSTAMP:20260421T232022
CREATED:20260402T070616Z
LAST-MODIFIED:20260402T110639Z
UID:10001539-1778148000-1778148000@www.unitus.it
SUMMARY:Seminario "Giornalismo politica\, social: stanno bene insieme?"
DESCRIPTION:Il prossimo appuntamento del ciclo “Comunicazione: strumenti e professioni” che mette al centro il dibattito sul futuro dell’informazione digitale. Protagonista dell’incontro sarà Pietro Forti\, giornalista di Will Media\, con un intervento dal titolo: “Giornalismo\, politica\, social: stanno bene insieme?”. \nUn’analisi critica sul delicato equilibrio tra cronaca\, strategie politiche e algoritmi\, approfondita attraverso il confronto con i docenti Chiara Moroni e Luigi Di Gregorio. \nL’evento è rivolto agli studenti dei corsi L-20 e LM-91\, offrendo uno sguardo privilegiato sulle nuove sfide della professione giornalistica. \nAula 12\, Complesso Santa Maria in Gradi\nGiovedì 7 maggio | Ore 11:00
URL:https://www.unitus.it/evento/seminario-giornalismo-politica-social-stanno-bene-insieme/
LOCATION:Aula 12 – S. Maria in Gradi
CATEGORIES:Seminario
ATTACH;FMTTYPE=image/png:https://www.unitus.it/wp-content/uploads/2026/04/seminario-forti-dipartimento-dike.png
END:VEVENT
END:VCALENDAR