BEGIN:VCALENDAR
VERSION:2.0
PRODID:-//Unitus - ECPv6.15.20//NONSGML v1.0//EN
CALSCALE:GREGORIAN
METHOD:PUBLISH
X-WR-CALNAME:Unitus
X-ORIGINAL-URL:https://www.unitus.it
X-WR-CALDESC:Eventi per Unitus
REFRESH-INTERVAL;VALUE=DURATION:PT1H
X-Robots-Tag:noindex
X-PUBLISHED-TTL:PT1H
BEGIN:VTIMEZONE
TZID:Europe/Rome
BEGIN:DAYLIGHT
TZOFFSETFROM:+0100
TZOFFSETTO:+0200
TZNAME:CEST
DTSTART:20250330T010000
END:DAYLIGHT
BEGIN:STANDARD
TZOFFSETFROM:+0200
TZOFFSETTO:+0100
TZNAME:CET
DTSTART:20251026T010000
END:STANDARD
BEGIN:DAYLIGHT
TZOFFSETFROM:+0100
TZOFFSETTO:+0200
TZNAME:CEST
DTSTART:20260329T010000
END:DAYLIGHT
BEGIN:STANDARD
TZOFFSETFROM:+0200
TZOFFSETTO:+0100
TZNAME:CET
DTSTART:20261025T010000
END:STANDARD
BEGIN:DAYLIGHT
TZOFFSETFROM:+0100
TZOFFSETTO:+0200
TZNAME:CEST
DTSTART:20270328T010000
END:DAYLIGHT
BEGIN:STANDARD
TZOFFSETFROM:+0200
TZOFFSETTO:+0100
TZNAME:CET
DTSTART:20271031T010000
END:STANDARD
END:VTIMEZONE
BEGIN:VEVENT
DTSTART;TZID=Europe/Rome:20260320T160000
DTEND;TZID=Europe/Rome:20260320T190000
DTSTAMP:20260423T055555
CREATED:20260319T090328Z
LAST-MODIFIED:20260319T090730Z
UID:10001523-1774022400-1774033200@www.unitus.it
SUMMARY:Università Svelate 2026
DESCRIPTION:Il 20 marzo l’Università degli Studi della Tuscia partecipa a Università Svelate 2026\, la Giornata Nazionale delle Università promossa dalla Conferenza dei Rettori delle Università Italiane (CRUI). \nPer l’occasione\, tra le tante iniziative promosse\, segnaliamo: \n  \n\ndalle ore 16.00 alle 17.30\n\nLABORATORIO/PUBLIC SPEECH \nDanza d’Inchiostro: Libera il tuo Qi con il Pennello Cinese a cura di: Victoria Almonte Piazza dell’unità d’Italia – anfiteatro* \n  \n\ndalle ore 16.00 alle 17.30\n\nPASSEGGIATA/LABORATORIO \nPassi nel tempo. Dalla torre di porta Faul ai segreti di Colle del Duomo a cura di: Claudia Pelosi\, Anna Maria Vettraino\, Paola Pogliani\, Maria Raffaella Menna\, Marina Micozzi\, Giuseppe Romagnoli\, Marta Materni Parcheggio Valle Faul – Piazza San Lorenzo – Duomo \n  \n\ndalle ore 17.00 alle 18.30\n\nLABORATORIO \nI segreti di Colle del Duomo. Laboratorio di diagnostica dei beni culturali a cura di: Claudia Pelosi\, Anna Maria Vettraino\, Paola Pogliani\, Maria Raffaella Menna\, Marina Micozzi\, Giuseppe Romagnoli\, Marta Materni Piazza San Lorenzo \n  \n\ndalle ore 17.30 alle 19.00\n\nLABORATORIO  \nLa lingua spagnola e il mondo flamenco a cura di: Giovanna Fiordaliso\, Francesca Mannino Piazza dell’unità d’Italia – anfiteatro \n  \n\ndalle ore 17.30 alle 19.00\n\nMOSTRA  \nSveliamo il mondo arabo a cura di: Emanuela De Blasio Chiesa di Santa Maria della Salute \n*in caso di pioggia le attività verranno spostate nella Chiesa di Santa Maria della Salute (a 50 metri) Segui tutte le iniziative dell’Università della Tuscia \n  \n(link: https://www.unitus.it/evento/universita-svelate-2026/) \nScarica il Programma
URL:https://www.unitus.it/evento/universita-svelate-2026-2/
CATEGORIES:Conferenza,Manifestazione
ATTACH;FMTTYPE=image/jpeg:https://www.unitus.it/wp-content/uploads/2026/03/Programma-dettagliato-A4-Uni-Svelate26-1_1-scaled-e1773901497833.jpg
END:VEVENT
END:VCALENDAR