BEGIN:VCALENDAR
VERSION:2.0
PRODID:-//Unitus - ECPv6.15.20//NONSGML v1.0//EN
CALSCALE:GREGORIAN
METHOD:PUBLISH
X-WR-CALNAME:Unitus
X-ORIGINAL-URL:https://www.unitus.it
X-WR-CALDESC:Eventi per Unitus
REFRESH-INTERVAL;VALUE=DURATION:PT1H
X-Robots-Tag:noindex
X-PUBLISHED-TTL:PT1H
BEGIN:VTIMEZONE
TZID:Europe/Rome
BEGIN:DAYLIGHT
TZOFFSETFROM:+0100
TZOFFSETTO:+0200
TZNAME:CEST
DTSTART:20250330T010000
END:DAYLIGHT
BEGIN:STANDARD
TZOFFSETFROM:+0200
TZOFFSETTO:+0100
TZNAME:CET
DTSTART:20251026T010000
END:STANDARD
BEGIN:DAYLIGHT
TZOFFSETFROM:+0100
TZOFFSETTO:+0200
TZNAME:CEST
DTSTART:20260329T010000
END:DAYLIGHT
BEGIN:STANDARD
TZOFFSETFROM:+0200
TZOFFSETTO:+0100
TZNAME:CET
DTSTART:20261025T010000
END:STANDARD
BEGIN:DAYLIGHT
TZOFFSETFROM:+0100
TZOFFSETTO:+0200
TZNAME:CEST
DTSTART:20270328T010000
END:DAYLIGHT
BEGIN:STANDARD
TZOFFSETFROM:+0200
TZOFFSETTO:+0100
TZNAME:CET
DTSTART:20271031T010000
END:STANDARD
END:VTIMEZONE
BEGIN:VEVENT
DTSTART;TZID=Europe/Rome:20260211T110000
DTEND;TZID=Europe/Rome:20260211T130000
DTSTAMP:20260423T042546
CREATED:20260130T073026Z
LAST-MODIFIED:20260130T073026Z
UID:10001417-1770807600-1770814800@www.unitus.it
SUMMARY:Test Ingresso Macroaree Umanistica-Scientifica-Economica
DESCRIPTION:Test in presenza nelle giornate di Open Day \n  \nSede di Viterbo. \nLe iscrizioni sul portale Gomp si chiudono il giorno 11 febbraio 2026 ore 13\,00. \nFascia oraria 11:00 – 13:00. \n> Prenota il tuo test
URL:https://www.unitus.it/evento/test-ingresso-macroaree-umanistica-scientifica-economica-19/
CATEGORIES:Eventi test
END:VEVENT
BEGIN:VEVENT
DTSTART;TZID=Europe/Rome:20260211T110000
DTEND;TZID=Europe/Rome:20260211T130000
DTSTAMP:20260423T042547
CREATED:20260130T073319Z
LAST-MODIFIED:20260130T073319Z
UID:10001419-1770807600-1770814800@www.unitus.it
SUMMARY:Test Ingresso L-4 Design
DESCRIPTION:Test i presenza nelle giornate di Open Day \n  \nSede di Viterbo. \nLe iscrizioni sul portale Gomp si chiudono il giorno 11 febbraio 2026 ore 13\,00. \nFascia oraria 11:00 – 13:00. \n> Prenota il tuo test
URL:https://www.unitus.it/evento/test-ingresso-l-4-design-22/
CATEGORIES:Eventi test
END:VEVENT
BEGIN:VEVENT
DTSTART;TZID=Europe/Rome:20260211T110000
DTEND;TZID=Europe/Rome:20260211T130000
DTSTAMP:20260423T042547
CREATED:20260130T073849Z
LAST-MODIFIED:20260130T073849Z
UID:10001421-1770807600-1770814800@www.unitus.it
SUMMARY:Test Ingresso L-9 Ingegneria Industriale
DESCRIPTION:Test in presenza nelle giornate di Open day \n  \nSede di Viterbo. \nLe iscrizioni sul portale Gomp si chiudono il giorno 11 febbraio 2026 ore 13\,00. \nFascia oraria 11:00 – 13:00. \n> Prenota il tuo test
URL:https://www.unitus.it/evento/test-ingresso-l-9-ingegneria-industriale-20/
CATEGORIES:Eventi test
END:VEVENT
BEGIN:VEVENT
DTSTART;TZID=Europe/Rome:20260211T110000
DTEND;TZID=Europe/Rome:20260211T130000
DTSTAMP:20260423T042547
CREATED:20260130T074334Z
LAST-MODIFIED:20260130T074334Z
UID:10001423-1770807600-1770814800@www.unitus.it
SUMMARY:Test Ingresso L-P01 Tecniche per la Bioedilizia
DESCRIPTION:Test in presenza nelle giornate di open Day \n  \nLe iscrizioni sul portale Gomp si chiudono il giorno 11 febbraio alle ore 11:00. \nFascia oraria del test 11:00 – 13:00. \n> Prenota il tuo test
URL:https://www.unitus.it/evento/test-ingresso-l-p01-tecniche-per-la-bioedilizia-15/
CATEGORIES:Eventi test
END:VEVENT
BEGIN:VEVENT
DTSTART;TZID=Europe/Rome:20260211T113000
DTEND;TZID=Europe/Rome:20260211T133000
DTSTAMP:20260423T042547
CREATED:20260128T133846Z
LAST-MODIFIED:20260128T133846Z
UID:10001413-1770809400-1770816600@www.unitus.it
SUMMARY:Test Ingresso L-P01 Tecniche per la Bioedilizia
DESCRIPTION:Le iscrizioni sul portale Gomp si chiudono il giorno 10 febbraio alle ore 11:00. \nFascia oraria del test 11:30 – 13:30. \n> Prenota il tuo test
URL:https://www.unitus.it/evento/test-ingresso-l-p01-tecniche-per-la-bioedilizia-11/
CATEGORIES:Eventi test
END:VEVENT
BEGIN:VEVENT
DTSTART;TZID=Europe/Rome:20260211T160000
DTEND;TZID=Europe/Rome:20260211T190000
DTSTAMP:20260423T042547
CREATED:20260126T123439Z
LAST-MODIFIED:20260126T123439Z
UID:10001396-1770825600-1770836400@www.unitus.it
SUMMARY:Test Ingresso Macroaree Umanistica-Scientifica-Economica
DESCRIPTION:Sede di Viterbo. \nLe iscrizioni sul portale Gomp si chiudono il giorno 10 febbraio 2026 ore 16\,00. \nFascia oraria 16:00 – 19:00. \n> Prenota il tuo test
URL:https://www.unitus.it/evento/test-ingresso-macroaree-umanistica-scientifica-economica-17/
CATEGORIES:Eventi test
END:VEVENT
BEGIN:VEVENT
DTSTART;TZID=Europe/Rome:20260211T160000
DTEND;TZID=Europe/Rome:20260211T190000
DTSTAMP:20260423T042547
CREATED:20260126T124238Z
LAST-MODIFIED:20260126T124650Z
UID:10001400-1770825600-1770836400@www.unitus.it
SUMMARY:Test Ingresso L-4 Design
DESCRIPTION:Sede di Viterbo. \nLe iscrizioni sul portale Gomp si chiudono il giorno 10 febbraio 2026 ore 16\,00. \nFascia oraria 16:00 – 19:00. \n> Prenota il tuo test
URL:https://www.unitus.it/evento/test-ingresso-l-4-design-18/
CATEGORIES:Eventi test
END:VEVENT
BEGIN:VEVENT
DTSTART;TZID=Europe/Rome:20260211T160000
DTEND;TZID=Europe/Rome:20260211T190000
DTSTAMP:20260423T042547
CREATED:20260126T125008Z
LAST-MODIFIED:20260126T125136Z
UID:10001404-1770825600-1770836400@www.unitus.it
SUMMARY:Test Ingresso L-9 Ingegneria Industriale
DESCRIPTION:Sede di Viterbo. \nLe iscrizioni sul portale Gomp si chiudono il giorno 10 febbraio 2026 ore 16\,00. \nFascia oraria 16:00 – 19:00. \n> Prenota il tuo test
URL:https://www.unitus.it/evento/test-ingresso-l-9-ingegneria-industriale-16/
CATEGORIES:Eventi test
END:VEVENT
BEGIN:VEVENT
DTSTART;TZID=Europe/Rome:20260212T160000
DTEND;TZID=Europe/Rome:20260212T190000
DTSTAMP:20260423T042547
CREATED:20260126T123633Z
LAST-MODIFIED:20260126T123633Z
UID:10001397-1770912000-1770922800@www.unitus.it
SUMMARY:Test Ingresso Macroaree Umanistica-Scientifica-Economica
DESCRIPTION:Sede di Viterbo. \nLe iscrizioni sul portale Gomp si chiudono il giorno 11 febbraio 2026 ore 16\,00. \nFascia oraria 16:00 – 19:00. \n> Prenota il tuo test
URL:https://www.unitus.it/evento/test-ingresso-macroaree-umanistica-scientifica-economica-18/
CATEGORIES:Eventi test
END:VEVENT
BEGIN:VEVENT
DTSTART;TZID=Europe/Rome:20260212T160000
DTEND;TZID=Europe/Rome:20260212T190000
DTSTAMP:20260423T042547
CREATED:20260126T124320Z
LAST-MODIFIED:20260126T124703Z
UID:10001401-1770912000-1770922800@www.unitus.it
SUMMARY:Test Ingresso L-4 Design
DESCRIPTION:Sede di Viterbo. \nLe iscrizioni sul portale Gomp si chiudono il giorno 11 febbraio 2026 ore 16\,00. \nFascia oraria 16:00 – 19:00. \n> Prenota il tuo test
URL:https://www.unitus.it/evento/test-ingresso-l-4-design-19/
CATEGORIES:Eventi test
END:VEVENT
BEGIN:VEVENT
DTSTART;TZID=Europe/Rome:20260212T160000
DTEND;TZID=Europe/Rome:20260212T190000
DTSTAMP:20260423T042547
CREATED:20260126T125442Z
LAST-MODIFIED:20260126T125442Z
UID:10001405-1770912000-1770922800@www.unitus.it
SUMMARY:Test Ingresso L-9 Ingegneria Industriale
DESCRIPTION:Sede di Viterbo. \nLe iscrizioni sul portale Gomp si chiudono il giorno 11 febbraio 2026 ore 16\,00. \nFascia oraria 16:00 – 19:00. \n> Prenota il tuo test
URL:https://www.unitus.it/evento/test-ingresso-l-9-ingegneria-industriale-17/
CATEGORIES:Eventi test
END:VEVENT
BEGIN:VEVENT
DTSTART;TZID=Europe/Rome:20260213T113000
DTEND;TZID=Europe/Rome:20260213T133000
DTSTAMP:20260423T042547
CREATED:20260128T134053Z
LAST-MODIFIED:20260128T134053Z
UID:10001415-1770982200-1770989400@www.unitus.it
SUMMARY:Test Ingresso L-P01 Tecniche per la Bioedilizia
DESCRIPTION:Le iscrizioni sul portale Gomp si chiudono il giorno 12 febbraio alle ore 11:00. \nFascia oraria del test 11:30 – 13:30. \n> Prenota il tuo test
URL:https://www.unitus.it/evento/test-ingresso-l-p01-tecniche-per-la-bioedilizia-13/
CATEGORIES:Eventi test
END:VEVENT
BEGIN:VEVENT
DTSTART;TZID=Europe/Rome:20260213T160000
DTEND;TZID=Europe/Rome:20260213T190000
DTSTAMP:20260423T042547
CREATED:20260126T124402Z
LAST-MODIFIED:20260126T125821Z
UID:10001402-1770998400-1771009200@www.unitus.it
SUMMARY:Test Ingresso L-4 Design
DESCRIPTION:Sede di Viterbo. \nLe iscrizioni sul portale Gomp si chiudono il giorno 12 febbraio 2026 ore 16\,00. \nFascia oraria 16:00 – 19:00. \n> Prenota il tuo test
URL:https://www.unitus.it/evento/test-ingresso-l-4-design-20/
CATEGORIES:Eventi test
END:VEVENT
BEGIN:VEVENT
DTSTART;TZID=Europe/Rome:20260213T160000
DTEND;TZID=Europe/Rome:20260213T190000
DTSTAMP:20260423T042547
CREATED:20260126T130032Z
LAST-MODIFIED:20260126T130032Z
UID:10001407-1770998400-1771009200@www.unitus.it
SUMMARY:Test Ingresso L-9 Ingegneria Industriale
DESCRIPTION:Sede di Viterbo. \nLe iscrizioni sul portale Gomp si chiudono il giorno 12 febbraio 2026 ore 16\,00. \nFascia oraria 16:00 – 19:00. \n> Prenota il tuo test
URL:https://www.unitus.it/evento/test-ingresso-l-9-ingegneria-industriale-19/
CATEGORIES:Eventi test
END:VEVENT
BEGIN:VEVENT
DTSTART;TZID=Europe/Rome:20260213T160000
DTEND;TZID=Europe/Rome:20260213T190000
DTSTAMP:20260423T042547
CREATED:20260126T130149Z
LAST-MODIFIED:20260126T130149Z
UID:10001408-1770998400-1771009200@www.unitus.it
SUMMARY:Test Ingresso Macroaree Umanistica-Scientifica-Economica
DESCRIPTION:Sede di Viterbo. \nLe iscrizioni sul portale Gomp si chiudono il giorno 12 febbraio 2026 ore 16\,00. \nFascia oraria 16:00 – 19:00. \n> Prenota il tuo test
URL:https://www.unitus.it/evento/test-ingresso-macroaree-umanistica-scientifica-economica-20/
CATEGORIES:Eventi test
END:VEVENT
BEGIN:VEVENT
DTSTART;TZID=Europe/Rome:20260318T140000
DTEND;TZID=Europe/Rome:20260318T170000
DTSTAMP:20260423T042547
CREATED:20260219T075844Z
LAST-MODIFIED:20260219T080147Z
UID:10001465-1773842400-1773853200@www.unitus.it
SUMMARY:Test Ingresso Macroaree Umanistica-Scientifica-Economica
DESCRIPTION:Sede di Viterbo. \nLe iscrizioni sul portale Gomp si chiudono il giorno 16 marzo 2026 ore 14.00. \nFascia oraria 14:00 – 17:00. \n> Prenota il tuo test
URL:https://www.unitus.it/evento/test-ingresso-macroaree-umanistica-scientifica-economica-21/
CATEGORIES:Eventi test
END:VEVENT
BEGIN:VEVENT
DTSTART;TZID=Europe/Rome:20260318T140000
DTEND;TZID=Europe/Rome:20260318T170000
DTSTAMP:20260423T042547
CREATED:20260219T080656Z
LAST-MODIFIED:20260219T080656Z
UID:10001468-1773842400-1773853200@www.unitus.it
SUMMARY:Test Ingresso L-4 Design
DESCRIPTION:Sede di Viterbo. \nLe iscrizioni sul portale Gomp si chiudono il giorno 16 marzo 2026 ore 14.00. \nFascia oraria 14:00 – 17:00. \n> Prenota il tuo test
URL:https://www.unitus.it/evento/test-ingresso-l-4-design-23/
CATEGORIES:Eventi test
END:VEVENT
BEGIN:VEVENT
DTSTART;TZID=Europe/Rome:20260318T140000
DTEND;TZID=Europe/Rome:20260318T170000
DTSTAMP:20260423T042547
CREATED:20260219T081225Z
LAST-MODIFIED:20260219T081225Z
UID:10001471-1773842400-1773853200@www.unitus.it
SUMMARY:Test Ingresso L-9 Ingegneria Industriale
DESCRIPTION:  \nLe iscrizioni sul portale Gomp si chiudono il giorno 16 marzo 2026 ore 14.00. \nFascia oraria 14:00 – 17:00. \n> Prenota il tuo test
URL:https://www.unitus.it/evento/test-ingresso-l-9-ingegneria-industriale-21/
CATEGORIES:Eventi test
END:VEVENT
BEGIN:VEVENT
DTSTART;TZID=Europe/Rome:20260415T110000
DTEND;TZID=Europe/Rome:20260415T170000
DTSTAMP:20260423T042547
CREATED:20260410T092127Z
LAST-MODIFIED:20260414T102702Z
UID:10001560-1776250800-1776272400@www.unitus.it
SUMMARY:Test Ingresso L-P01 Tecniche per la Bioedilizia
DESCRIPTION:Le iscrizioni sul portale Gomp si chiudono il giorno 15 aprile alle ore 14.00. \nFascia oraria del test 14:00 – 17:00. \n> Prenota il tuo test
URL:https://www.unitus.it/evento/test-ingresso-l-p01-tecniche-per-la-bioedilizia-16/
CATEGORIES:Eventi test
END:VEVENT
BEGIN:VEVENT
DTSTART;TZID=Europe/Rome:20260415T140000
DTEND;TZID=Europe/Rome:20260415T170000
DTSTAMP:20260423T042547
CREATED:20260219T075952Z
LAST-MODIFIED:20260219T080459Z
UID:10001466-1776261600-1776272400@www.unitus.it
SUMMARY:Test Ingresso Macroaree Umanistica-Scientifica-Economica
DESCRIPTION:Sede di Viterbo. \nLe iscrizioni sul portale Gomp si chiudono il giorno 13 aprile 2026 ore 14.00. \nFascia oraria 14:00 – 17:00. \n> Prenota il tuo test
URL:https://www.unitus.it/evento/test-ingresso-macroaree-umanistica-scientifica-economica-22/
CATEGORIES:Eventi test
END:VEVENT
BEGIN:VEVENT
DTSTART;TZID=Europe/Rome:20260415T140000
DTEND;TZID=Europe/Rome:20260415T170000
DTSTAMP:20260423T042547
CREATED:20260219T080809Z
LAST-MODIFIED:20260219T080809Z
UID:10001469-1776261600-1776272400@www.unitus.it
SUMMARY:Test Ingresso L-4 Design
DESCRIPTION:Sede di Viterbo. \nLe iscrizioni sul portale Gomp si chiudono il giorno 13 aprile 2026 ore 14.00. \nFascia oraria 14:00 – 17:00. \n> Prenota il tuo test
URL:https://www.unitus.it/evento/test-ingresso-l-4-design-24/
CATEGORIES:Eventi test
END:VEVENT
BEGIN:VEVENT
DTSTART;TZID=Europe/Rome:20260415T140000
DTEND;TZID=Europe/Rome:20260415T170000
DTSTAMP:20260423T042547
CREATED:20260219T081424Z
LAST-MODIFIED:20260219T081424Z
UID:10001472-1776261600-1776272400@www.unitus.it
SUMMARY:Test Ingresso L-9 Ingegneria Industriale
DESCRIPTION:Le iscrizioni sul portale Gomp si chiudono il giorno 13 aprile 2026 ore 14.00. \nFascia oraria 14:00 – 17:00. \n> Prenota il tuo test
URL:https://www.unitus.it/evento/test-ingresso-l-9-ingegneria-industriale-22/
CATEGORIES:Eventi test
END:VEVENT
BEGIN:VEVENT
DTSTART;TZID=Europe/Rome:20260513T110000
DTEND;TZID=Europe/Rome:20260513T140000
DTSTAMP:20260423T042547
CREATED:20260414T102855Z
LAST-MODIFIED:20260414T102855Z
UID:10001573-1778670000-1778680800@www.unitus.it
SUMMARY:Test Ingresso L-P01 Tecniche per la Bioedilizia
DESCRIPTION:Le iscrizioni sul portale Gomp si chiudono il giorno 11 maggio ore 11\,00. \nFascia oraria del test 11:00 – 14:00. \n> Prenota il tuo test
URL:https://www.unitus.it/evento/test-ingresso-l-p01-tecniche-per-la-bioedilizia-17/
CATEGORIES:Eventi test
END:VEVENT
BEGIN:VEVENT
DTSTART;TZID=Europe/Rome:20260513T140000
DTEND;TZID=Europe/Rome:20260513T170000
DTSTAMP:20260423T042547
CREATED:20260219T080127Z
LAST-MODIFIED:20260219T080127Z
UID:10001467-1778680800-1778691600@www.unitus.it
SUMMARY:Test Ingresso Macroaree Umanistica-Scientifica-Economica
DESCRIPTION:Sede di Viterbo. \nLe iscrizioni sul portale Gomp si chiudono il giorno 11 maggio 2026 ore 14.00. \nFascia oraria 14:00 – 17:00. \n> Prenota il tuo test
URL:https://www.unitus.it/evento/test-ingresso-macroaree-umanistica-scientifica-economica-23/
CATEGORIES:Eventi test
END:VEVENT
BEGIN:VEVENT
DTSTART;TZID=Europe/Rome:20260513T140000
DTEND;TZID=Europe/Rome:20260513T170000
DTSTAMP:20260423T042547
CREATED:20260219T080934Z
LAST-MODIFIED:20260219T080934Z
UID:10001470-1778680800-1778691600@www.unitus.it
SUMMARY:Test Ingresso L-4 Design
DESCRIPTION:Sede di Viterbo. \nLe iscrizioni sul portale Gomp si chiudono il giorno 11 maggio 2026 ore 14.00. \nFascia oraria 14:00 – 17:00. \n> Prenota il tuo test
URL:https://www.unitus.it/evento/test-ingresso-l-4-design-25/
CATEGORIES:Eventi test
END:VEVENT
BEGIN:VEVENT
DTSTART;TZID=Europe/Rome:20260513T140000
DTEND;TZID=Europe/Rome:20260513T170000
DTSTAMP:20260423T042547
CREATED:20260219T081534Z
LAST-MODIFIED:20260219T082752Z
UID:10001473-1778680800-1778691600@www.unitus.it
SUMMARY:Test Ingresso L-9 Ingegneria Industriale
DESCRIPTION:Le iscrizioni sul portale Gomp si chiudono il giorno 11 maggio 2026 ore 14.00. \nFascia oraria 14:00 – 17:00. \n> Prenota il tuo test
URL:https://www.unitus.it/evento/test-ingresso-l-9-ingegneria-industriale-23/
CATEGORIES:Eventi test
END:VEVENT
BEGIN:VEVENT
DTSTART;TZID=Europe/Rome:20260617T110000
DTEND;TZID=Europe/Rome:20260617T140000
DTSTAMP:20260423T042547
CREATED:20260414T103141Z
LAST-MODIFIED:20260414T103141Z
UID:10001574-1781694000-1781704800@www.unitus.it
SUMMARY:Test Ingresso L-P01 Tecniche per la Bioedilizia
DESCRIPTION:Le iscrizioni sul portale Gomp si chiudono il giorno 15 giugno ore 11\,00. \nFascia oraria del test 11:00 – 14:00. \n> Prenota il tuo test
URL:https://www.unitus.it/evento/test-ingresso-l-p01-tecniche-per-la-bioedilizia-18/
CATEGORIES:Eventi test
END:VEVENT
BEGIN:VEVENT
DTSTART;TZID=Europe/Rome:20260617T140000
DTEND;TZID=Europe/Rome:20260617T170000
DTSTAMP:20260423T042547
CREATED:20260220T073436Z
LAST-MODIFIED:20260220T073436Z
UID:10001474-1781704800-1781715600@www.unitus.it
SUMMARY:Test Ingresso Macroaree Umanistica-Scientifica-Economica
DESCRIPTION:Sede di Viterbo. \nLe iscrizioni sul portale Gomp si chiudono il giorno 15 giugno 2026 ore 14.00. \nFascia oraria 14:00 – 17:00. \n> Prenota il tuo test
URL:https://www.unitus.it/evento/test-ingresso-macroaree-umanistica-scientifica-economica-24/
CATEGORIES:Eventi test
END:VEVENT
BEGIN:VEVENT
DTSTART;TZID=Europe/Rome:20260617T140000
DTEND;TZID=Europe/Rome:20260617T170000
DTSTAMP:20260423T042547
CREATED:20260220T085214Z
LAST-MODIFIED:20260220T085214Z
UID:10001476-1781704800-1781715600@www.unitus.it
SUMMARY:Test Ingresso L-4 Design
DESCRIPTION:Sede di Viterbo. \nLe iscrizioni sul portale Gomp si chiudono il giorno 15 giugno 2026 ore 14.00. \nFascia oraria 14:00 – 17:00. \n> Prenota il tuo test
URL:https://www.unitus.it/evento/test-ingresso-l-4-design-26/
CATEGORIES:Eventi test
END:VEVENT
BEGIN:VEVENT
DTSTART;TZID=Europe/Rome:20260617T140000
DTEND;TZID=Europe/Rome:20260617T170000
DTSTAMP:20260423T042547
CREATED:20260220T085655Z
LAST-MODIFIED:20260220T090437Z
UID:10001478-1781704800-1781715600@www.unitus.it
SUMMARY:Test Ingresso L-9 Ingegneria Industriale
DESCRIPTION:Le iscrizioni sul portale Gomp si chiudono il giorno 15 giugno 2026 ore 14.00. \nFascia oraria 14:00 – 17:00. \n> Prenota il tuo test
URL:https://www.unitus.it/evento/test-ingresso-l-9-ingegneria-industriale-24/
CATEGORIES:Eventi test
END:VEVENT
END:VCALENDAR