BEGIN:VCALENDAR
VERSION:2.0
PRODID:-//Unitus - ECPv6.15.20//NONSGML v1.0//EN
CALSCALE:GREGORIAN
METHOD:PUBLISH
X-ORIGINAL-URL:https://www.unitus.it
X-WR-CALDESC:Eventi per Unitus
REFRESH-INTERVAL;VALUE=DURATION:PT1H
X-Robots-Tag:noindex
X-PUBLISHED-TTL:PT1H
BEGIN:VTIMEZONE
TZID:Europe/Rome
BEGIN:DAYLIGHT
TZOFFSETFROM:+0100
TZOFFSETTO:+0200
TZNAME:CEST
DTSTART:20250330T010000
END:DAYLIGHT
BEGIN:STANDARD
TZOFFSETFROM:+0200
TZOFFSETTO:+0100
TZNAME:CET
DTSTART:20251026T010000
END:STANDARD
BEGIN:DAYLIGHT
TZOFFSETFROM:+0100
TZOFFSETTO:+0200
TZNAME:CEST
DTSTART:20260329T010000
END:DAYLIGHT
BEGIN:STANDARD
TZOFFSETFROM:+0200
TZOFFSETTO:+0100
TZNAME:CET
DTSTART:20261025T010000
END:STANDARD
BEGIN:DAYLIGHT
TZOFFSETFROM:+0100
TZOFFSETTO:+0200
TZNAME:CEST
DTSTART:20270328T010000
END:DAYLIGHT
BEGIN:STANDARD
TZOFFSETFROM:+0200
TZOFFSETTO:+0100
TZNAME:CET
DTSTART:20271031T010000
END:STANDARD
END:VTIMEZONE
BEGIN:VEVENT
DTSTART;TZID=Europe/Rome:20260213T113000
DTEND;TZID=Europe/Rome:20260213T133000
DTSTAMP:20260423T023639
CREATED:20260128T134053Z
LAST-MODIFIED:20260128T134053Z
UID:10001415-1770982200-1770989400@www.unitus.it
SUMMARY:Test Ingresso L-P01 Tecniche per la Bioedilizia
DESCRIPTION:Le iscrizioni sul portale Gomp si chiudono il giorno 12 febbraio alle ore 11:00. \nFascia oraria del test 11:30 – 13:30. \n> Prenota il tuo test
URL:https://www.unitus.it/evento/test-ingresso-l-p01-tecniche-per-la-bioedilizia-13/
CATEGORIES:Eventi test
END:VEVENT
BEGIN:VEVENT
DTSTART;TZID=Europe/Rome:20260213T160000
DTEND;TZID=Europe/Rome:20260213T190000
DTSTAMP:20260423T023639
CREATED:20260126T124402Z
LAST-MODIFIED:20260126T125821Z
UID:10001402-1770998400-1771009200@www.unitus.it
SUMMARY:Test Ingresso L-4 Design
DESCRIPTION:Sede di Viterbo. \nLe iscrizioni sul portale Gomp si chiudono il giorno 12 febbraio 2026 ore 16\,00. \nFascia oraria 16:00 – 19:00. \n> Prenota il tuo test
URL:https://www.unitus.it/evento/test-ingresso-l-4-design-20/
CATEGORIES:Eventi test
END:VEVENT
BEGIN:VEVENT
DTSTART;TZID=Europe/Rome:20260213T160000
DTEND;TZID=Europe/Rome:20260213T190000
DTSTAMP:20260423T023639
CREATED:20260126T130032Z
LAST-MODIFIED:20260126T130032Z
UID:10001407-1770998400-1771009200@www.unitus.it
SUMMARY:Test Ingresso L-9 Ingegneria Industriale
DESCRIPTION:Sede di Viterbo. \nLe iscrizioni sul portale Gomp si chiudono il giorno 12 febbraio 2026 ore 16\,00. \nFascia oraria 16:00 – 19:00. \n> Prenota il tuo test
URL:https://www.unitus.it/evento/test-ingresso-l-9-ingegneria-industriale-19/
CATEGORIES:Eventi test
END:VEVENT
BEGIN:VEVENT
DTSTART;TZID=Europe/Rome:20260213T160000
DTEND;TZID=Europe/Rome:20260213T190000
DTSTAMP:20260423T023639
CREATED:20260126T130149Z
LAST-MODIFIED:20260126T130149Z
UID:10001408-1770998400-1771009200@www.unitus.it
SUMMARY:Test Ingresso Macroaree Umanistica-Scientifica-Economica
DESCRIPTION:Sede di Viterbo. \nLe iscrizioni sul portale Gomp si chiudono il giorno 12 febbraio 2026 ore 16\,00. \nFascia oraria 16:00 – 19:00. \n> Prenota il tuo test
URL:https://www.unitus.it/evento/test-ingresso-macroaree-umanistica-scientifica-economica-20/
CATEGORIES:Eventi test
END:VEVENT
END:VCALENDAR