BEGIN:VCALENDAR
VERSION:2.0
PRODID:-//Unitus - ECPv6.15.20//NONSGML v1.0//EN
CALSCALE:GREGORIAN
METHOD:PUBLISH
X-WR-CALNAME:Unitus
X-ORIGINAL-URL:https://www.unitus.it
X-WR-CALDESC:Eventi per Unitus
REFRESH-INTERVAL;VALUE=DURATION:PT1H
X-Robots-Tag:noindex
X-PUBLISHED-TTL:PT1H
BEGIN:VTIMEZONE
TZID:Europe/Rome
BEGIN:DAYLIGHT
TZOFFSETFROM:+0100
TZOFFSETTO:+0200
TZNAME:CEST
DTSTART:20250330T010000
END:DAYLIGHT
BEGIN:STANDARD
TZOFFSETFROM:+0200
TZOFFSETTO:+0100
TZNAME:CET
DTSTART:20251026T010000
END:STANDARD
BEGIN:DAYLIGHT
TZOFFSETFROM:+0100
TZOFFSETTO:+0200
TZNAME:CEST
DTSTART:20260329T010000
END:DAYLIGHT
BEGIN:STANDARD
TZOFFSETFROM:+0200
TZOFFSETTO:+0100
TZNAME:CET
DTSTART:20261025T010000
END:STANDARD
BEGIN:DAYLIGHT
TZOFFSETFROM:+0100
TZOFFSETTO:+0200
TZNAME:CEST
DTSTART:20270328T010000
END:DAYLIGHT
BEGIN:STANDARD
TZOFFSETFROM:+0200
TZOFFSETTO:+0100
TZNAME:CET
DTSTART:20271031T010000
END:STANDARD
END:VTIMEZONE
BEGIN:VEVENT
DTSTART;TZID=Europe/Rome:20260212T160000
DTEND;TZID=Europe/Rome:20260212T190000
DTSTAMP:20260423T023334
CREATED:20260126T123633Z
LAST-MODIFIED:20260126T123633Z
UID:10001397-1770912000-1770922800@www.unitus.it
SUMMARY:Test Ingresso Macroaree Umanistica-Scientifica-Economica
DESCRIPTION:Sede di Viterbo. \nLe iscrizioni sul portale Gomp si chiudono il giorno 11 febbraio 2026 ore 16\,00. \nFascia oraria 16:00 – 19:00. \n> Prenota il tuo test
URL:https://www.unitus.it/evento/test-ingresso-macroaree-umanistica-scientifica-economica-18/
CATEGORIES:Eventi test
END:VEVENT
BEGIN:VEVENT
DTSTART;TZID=Europe/Rome:20260212T160000
DTEND;TZID=Europe/Rome:20260212T190000
DTSTAMP:20260423T023334
CREATED:20260126T124320Z
LAST-MODIFIED:20260126T124703Z
UID:10001401-1770912000-1770922800@www.unitus.it
SUMMARY:Test Ingresso L-4 Design
DESCRIPTION:Sede di Viterbo. \nLe iscrizioni sul portale Gomp si chiudono il giorno 11 febbraio 2026 ore 16\,00. \nFascia oraria 16:00 – 19:00. \n> Prenota il tuo test
URL:https://www.unitus.it/evento/test-ingresso-l-4-design-19/
CATEGORIES:Eventi test
END:VEVENT
BEGIN:VEVENT
DTSTART;TZID=Europe/Rome:20260212T160000
DTEND;TZID=Europe/Rome:20260212T190000
DTSTAMP:20260423T023334
CREATED:20260126T125442Z
LAST-MODIFIED:20260126T125442Z
UID:10001405-1770912000-1770922800@www.unitus.it
SUMMARY:Test Ingresso L-9 Ingegneria Industriale
DESCRIPTION:Sede di Viterbo. \nLe iscrizioni sul portale Gomp si chiudono il giorno 11 febbraio 2026 ore 16\,00. \nFascia oraria 16:00 – 19:00. \n> Prenota il tuo test
URL:https://www.unitus.it/evento/test-ingresso-l-9-ingegneria-industriale-17/
CATEGORIES:Eventi test
END:VEVENT
END:VCALENDAR