BEGIN:VCALENDAR
VERSION:2.0
PRODID:-//Unitus - ECPv6.15.20//NONSGML v1.0//EN
CALSCALE:GREGORIAN
METHOD:PUBLISH
X-WR-CALNAME:Unitus
X-ORIGINAL-URL:https://www.unitus.it
X-WR-CALDESC:Eventi per Unitus
REFRESH-INTERVAL;VALUE=DURATION:PT1H
X-Robots-Tag:noindex
X-PUBLISHED-TTL:PT1H
BEGIN:VTIMEZONE
TZID:Europe/Rome
BEGIN:DAYLIGHT
TZOFFSETFROM:+0100
TZOFFSETTO:+0200
TZNAME:CEST
DTSTART:20240331T010000
END:DAYLIGHT
BEGIN:STANDARD
TZOFFSETFROM:+0200
TZOFFSETTO:+0100
TZNAME:CET
DTSTART:20241027T010000
END:STANDARD
BEGIN:DAYLIGHT
TZOFFSETFROM:+0100
TZOFFSETTO:+0200
TZNAME:CEST
DTSTART:20250330T010000
END:DAYLIGHT
BEGIN:STANDARD
TZOFFSETFROM:+0200
TZOFFSETTO:+0100
TZNAME:CET
DTSTART:20251026T010000
END:STANDARD
BEGIN:DAYLIGHT
TZOFFSETFROM:+0100
TZOFFSETTO:+0200
TZNAME:CEST
DTSTART:20260329T010000
END:DAYLIGHT
BEGIN:STANDARD
TZOFFSETFROM:+0200
TZOFFSETTO:+0100
TZNAME:CET
DTSTART:20261025T010000
END:STANDARD
END:VTIMEZONE
BEGIN:VEVENT
DTSTART;TZID=Europe/Rome:20251113T080000
DTEND;TZID=Europe/Rome:20251114T170000
DTSTAMP:20260423T224901
CREATED:20250523T060926Z
LAST-MODIFIED:20250523T061358Z
UID:10001042-1763020800-1763139600@www.unitus.it
SUMMARY:Conference for the New Generation of Forest Researchers – ForX 2025
DESCRIPTION:The Programme Co-ordinating Centre of ICP Forests is happy to forward the following invitation: \nThe Croatian Forestry Institute is organizing a conference for early-career forest researchers titled: Conference for the New Generation of Forest Researchers (ForX). \nWe invite all researchers at the start of their careers whose work relates to forests\, trees\, and associated ecosystems — engineers\, research associates\, assistants\, senior assistants\, postdoctoral fellows\, and other early-career colleagues. \nThe conference will take place on November 13–14\, 2025 at the Hotel Princess\, Jastrebarsko\, Croatia. \nOrganizers of the conference are: Croatian Forest Research Institute\, Faculty of Forestry and Wood Technology\, University of Zagreb\, Academy of Forestry Sciences\, Croatian Forestry Society\, Croatian Chamber of Forestry and Wood Technology Engineers and Croatian forests Ltd. \nTopics covered by the conference are \n\nForest Ecosystems and Environmental Pressures\nSustainable Management of Natural Resources\nModern Technologies and Innovations in Forestry\nUrban Forestry and Cities of Tomorrow\nOut-of-the-box Forestry\n\nThe registration fee details\, as well as the call for abstract submissions\, will be announced soon! \nFor more info please send an e-mail to forx@sumins.hr or visit https://www.sumins.hr/en/forx/.\n\n\n\nVisit ICP Forests at: http://icp-forests.net/?xg_source=msg_mes_network \n 
URL:https://www.unitus.it/evento/conference-for-the-new-generation-of-forest-researchers-forx-2025/
LOCATION:Hotel Princess\, Jastrebarsko\, Croatia\, Croatia (Local Name: Hrvatska)
CATEGORIES:Conference,Conferenza
ATTACH;FMTTYPE=image/png:https://www.unitus.it/wp-content/uploads/2025/05/Hopple-Dave-Harp-2.png
END:VEVENT
END:VCALENDAR