BEGIN:VCALENDAR
VERSION:2.0
PRODID:-//Unitus - ECPv6.15.20//NONSGML v1.0//EN
CALSCALE:GREGORIAN
METHOD:PUBLISH
X-WR-CALNAME:Unitus
X-ORIGINAL-URL:https://www.unitus.it
X-WR-CALDESC:Eventi per Unitus
REFRESH-INTERVAL;VALUE=DURATION:PT1H
X-Robots-Tag:noindex
X-PUBLISHED-TTL:PT1H
BEGIN:VTIMEZONE
TZID:Europe/Rome
BEGIN:DAYLIGHT
TZOFFSETFROM:+0100
TZOFFSETTO:+0200
TZNAME:CEST
DTSTART:20230326T010000
END:DAYLIGHT
BEGIN:STANDARD
TZOFFSETFROM:+0200
TZOFFSETTO:+0100
TZNAME:CET
DTSTART:20231029T010000
END:STANDARD
BEGIN:DAYLIGHT
TZOFFSETFROM:+0100
TZOFFSETTO:+0200
TZNAME:CEST
DTSTART:20240331T010000
END:DAYLIGHT
BEGIN:STANDARD
TZOFFSETFROM:+0200
TZOFFSETTO:+0100
TZNAME:CET
DTSTART:20241027T010000
END:STANDARD
BEGIN:DAYLIGHT
TZOFFSETFROM:+0100
TZOFFSETTO:+0200
TZNAME:CEST
DTSTART:20250330T010000
END:DAYLIGHT
BEGIN:STANDARD
TZOFFSETFROM:+0200
TZOFFSETTO:+0100
TZNAME:CET
DTSTART:20251026T010000
END:STANDARD
BEGIN:DAYLIGHT
TZOFFSETFROM:+0100
TZOFFSETTO:+0200
TZNAME:CEST
DTSTART:20260329T010000
END:DAYLIGHT
BEGIN:STANDARD
TZOFFSETFROM:+0200
TZOFFSETTO:+0100
TZNAME:CET
DTSTART:20261025T010000
END:STANDARD
BEGIN:DAYLIGHT
TZOFFSETFROM:+0100
TZOFFSETTO:+0200
TZNAME:CEST
DTSTART:20270328T010000
END:DAYLIGHT
BEGIN:STANDARD
TZOFFSETFROM:+0200
TZOFFSETTO:+0100
TZNAME:CET
DTSTART:20271031T010000
END:STANDARD
END:VTIMEZONE
BEGIN:VEVENT
DTSTART;TZID=Europe/Rome:20260401T100000
DTEND;TZID=Europe/Rome:20260401T130000
DTSTAMP:20260420T005752
CREATED:20260330T105421Z
LAST-MODIFIED:20260330T111708Z
UID:10001535-1775037600-1775048400@www.unitus.it
SUMMARY:Le parole della Repubblica - 1 aprile 2026 - Aula Magna Rettorato
DESCRIPTION:Si porta a conoscenza dell’evento Deim-Unituscia “Le Parole della Repubblica” con Rettrice e Direttore \nAd ottant’anni dalla nascita della Repubblica e dai lavori della Costituente \nLocandina evento e programma \n 
URL:https://www.unitus.it/evento/le-parole-della-repubblica-1-aprile-2026-aula-magna-rettorato/
LOCATION:Aula Magna – Rettorato\, Via Santa Maria in Gradi 4\, Viterbo\, Viterbo\, 01100\, Italia
CATEGORIES:Cerimonia,Eventi giornalieri
ATTACH;FMTTYPE=image/png:https://www.unitus.it/wp-content/uploads/2026/03/Cattura_Repubblica.png
END:VEVENT
BEGIN:VEVENT
DTSTART;TZID=Europe/Rome:20251218T143000
DTEND;TZID=Europe/Rome:20251218T153000
DTSTAMP:20260420T005752
CREATED:20251209T101247Z
LAST-MODIFIED:20251211T094819Z
UID:10001370-1766068200-1766071800@www.unitus.it
SUMMARY:Cerimonia di conferimento del premio di laurea “Brigida Palelli” 2025
DESCRIPTION:Il Dipartimento di Scienze Ecologiche e Biologiche (DEB) dell’Università degli studi della Tuscia annuncia la cerimonia di conferimento della II Edizione del Premio di Laurea “Brigida Palelli” per la migliore tesi di laurea magistrale in scienze della vita\, che si terrà il giorno 18 dicembre 2025\, alle ore 14:30\, presso l’Aula 7 del Blocco B del Campus Riello (Largo dell’Università). \nIl riconoscimento\, del valore di 1.000 euro\, è stato istituito per volontà del Sig. Luca Laureti per onorare la memoria della Sig.ra Brigida Palelli\, bibliotecaria presso il Polo tecnico-scientifico dell’Ateneo e studentessa del corso di laurea in Scienze biologiche\, prematuramente scomparsa. Il premio mira a valorizzare l’eccellenza accademica e la ricerca scientifica in ambito biologico\, rispecchiando l’impegno della Sig.ra Palelli verso il sapere e la comunità accademica. \nQuest’anno\, il prestigioso riconoscimento sarà conferito alla dott.ssa Sofia Grimani\, laureata magistrale in Scienze dell’alimentazione e della nutrizione umana\, che si è distinta con una tesi dal titolo “Valutazione nutrizionale ed antiossidante di un alimento funzionale a base di scarto di lavorazione del pomodoro”. La dott.ssa Grimani ha svolto il suo lavoro di ricerca sotto la supervisione della dott.ssa Lara Costantini. \nLa cerimonia sarà introdotta dal Direttore del Dipartimento\, cui seguirà un breve intervento da parte della famiglia della Sig.ra Palelli. Nel corso della cerimonia\, inoltre\, la vincitrice terrà una presentazione di 20 minuti\, illustrando i principali risultati del proprio progetto di tesi e le implicazioni scientifiche del suo lavoro. \nLa cerimonia rappresenta un’importante occasione per celebrare l’eccellenza nella ricerca accademica e il merito degli studenti più brillanti del nostro Ateneo. La partecipazione all’evento è aperta a tutti. \nLOCANDINA \n 
URL:https://www.unitus.it/evento/cerimonia-di-conferimento-del-premio-di-laurea-brigida-palelli-2025/
LOCATION:Aula 7 – Blocco B\, Largo dell'Università\, Viterbo\, 010100\, Italy
CATEGORIES:Cerimonia,Eventi giornalieri
ATTACH;FMTTYPE=image/jpeg:https://www.unitus.it/wp-content/uploads/2025/12/IMG_1774-Copia-scaled.jpg
END:VEVENT
BEGIN:VEVENT
DTSTART;TZID=Europe/Rome:20251203T113000
DTEND;TZID=Europe/Rome:20251203T130000
DTSTAMP:20260420T005752
CREATED:20251126T112858Z
LAST-MODIFIED:20251127T145823Z
UID:10001352-1764761400-1764766800@www.unitus.it
SUMMARY:Dalla teoria alla pratica: il valore del tirocinio nella formazione giuridica
DESCRIPTION:Il 3 dicembre 2025\, presso l’Aula Spinelli\,  vi aspettiamo per un evento dedicato al valore dei tirocini nel percorso di studi in Giurisprudenza e Studi europei: presenteremo le opportunità offerte dal corso\, ascolteremo le testimonianze di studenti e studentesse ed enti partner – tra cui quelli nell’ambito della convenzione con il Rotary Club di Viterbo – e assegneremo la borsa di studio intitolata all’ex Prefetto Moscatelli. Un momento pensato per guidarvi nella scelta del tirocinio curriculare che sia più coerente con i vostri interessi.\n\nLOCANDINA
URL:https://www.unitus.it/evento/dalla-teoria-alla-pratica-il-valore-del-tirocinio-nella-formazione-giuridica/
LOCATION:Rettorato – Santa Maria in Gradi\, Via Santa Maria in Gradi\, 4\, Viterbo\, 01100
CATEGORIES:Cerimonia
ATTACH;FMTTYPE=image/jpeg:https://www.unitus.it/wp-content/uploads/2025/11/Evento-3-dicembre-DEF-1-copia-scaled.jpg
END:VEVENT
BEGIN:VEVENT
DTSTART;TZID=Europe/Rome:20251201T160000
DTEND;TZID=Europe/Rome:20251201T180000
DTSTAMP:20260420T005752
CREATED:20251128T102609Z
LAST-MODIFIED:20251128T102609Z
UID:10001361-1764604800-1764612000@www.unitus.it
SUMMARY:Presentazione del volume di Roberto Mattera
DESCRIPTION:Lunedì 1 dicembre – 16.00-18.00\nSala conferenze del polo bibliotecario umanistico sociale\nSanta Maria in Gradi\, Viterbo\nPresentazione del volume di Roberto Mattera\nStato Pontificio\, potere temporale e Catasto gregoriano\nNe discutono con l’autore: \nAnna Maria Isastia – già professoressa di Storia contemporanea\, Sapienza Università di Roma \nAlessandro Sterpa – professore di Diritto pubblico\, Università della Tuscia \nPasquale Lillo – professore di Diritto e Religione\, Università della Tuscia \nGilda Nicolai – professoressa di Archivistica generale\, Università della Tuscia \nlocandina
URL:https://www.unitus.it/evento/presentazione-del-volume-di-roberto-mattera/
LOCATION:Rettorato – Santa Maria in Gradi\, Via Santa Maria in Gradi\, 4\, Viterbo\, 01100
CATEGORIES:Cerimonia
ATTACH;FMTTYPE=application/pdf:https://www.unitus.it/wp-content/uploads/2025/11/LOCANDINA-UNITUS-nicolai-1.pdf
END:VEVENT
BEGIN:VEVENT
DTSTART;TZID=Europe/Rome:20251125T150000
DTEND;TZID=Europe/Rome:20251125T180000
DTSTAMP:20260420T005752
CREATED:20251117T110417Z
LAST-MODIFIED:20251117T110417Z
UID:10001336-1764082800-1764093600@www.unitus.it
SUMMARY:Unitus per la Giornata internazionale per l'eliminazione della violenza contro le donne
DESCRIPTION:Nel pomeriggio del 25 novembre\, alla presenza della Magnifica Rettrice\, l’Università degli Studi della Tuscia ospiterà due momenti dedicati a commemorare la Giornata internazionale per l’eliminazione della violenza contro le donne. \nAlle ore 15 si svolgerà\, nel corridoio delle Monofore del Rettorato\, la Digital Exhibition dal titolo “Women Who Move: A Tribute to Women’s Strength on 25/11”\, che accoglie i progetti fotografici di cinque fotografi professionisti\, il cui filo conduttore è una indagine visiva sulle diverse espressioni della forza e della resilienza delle donne migranti. La mostra fotografica\, curata da Sonia Melchiorre e Daniela Vitiello\, è stata realizzata con il patrocinio del CUG e il supporto del progetto CoSME (PRIN 2/2022). \nA seguire\, nel cortile Mahsa Amini del Rettorato\, avrà luogo la seconda edizione di “Paint it Red”\, flash mob organizzato delle associazioni studentesche UNITUS con il coordinamento di Sonia Melchiorre. Il flash mob vuole far riflettere sulla pericolosità della manipolazione affettiva (gaslighting) e riconoscere alle donne che vivono in questa condizione la dignità di essere viste e aiutate. Chiunque voglia potrà contribuire con un paio di scarpe usate che verranno spruzzate di vernice rosse e successivamente collocate come “pietre di inciampo” in centro città e nel campus universitario.
URL:https://www.unitus.it/evento/unitus-per-la-giornata-internazionale-per-leliminazione-della-violenza-contro-le-donne/
LOCATION:Rettorato – Santa Maria in Gradi\, Via Santa Maria in Gradi\, 4\, Viterbo\, 01100
CATEGORIES:Cerimonia
ATTACH;FMTTYPE=image/jpeg:https://www.unitus.it/wp-content/uploads/2025/11/pexels-castorlystock-3682290-scaled.jpg
END:VEVENT
BEGIN:VEVENT
DTSTART;TZID=Europe/Rome:20251125T103000
DTEND;TZID=Europe/Rome:20251125T130000
DTSTAMP:20260420T005752
CREATED:20251117T095217Z
LAST-MODIFIED:20251124T114701Z
UID:10001335-1764066600-1764075600@www.unitus.it
SUMMARY:Clementine Antiviolenza
DESCRIPTION:L’Università degli Studi della Tuscia\, in collaborazione con Confagricoltura Donna\, promuove una giornata dedicata alla sensibilizzazione e al sostegno delle iniziative contro la violenza sulle donne attraverso la tradizionale vendita delle clementine\, il cui ricavato sarà devoluto al Centro Antiviolenza dell’Ateneo. \nL’appuntamento è fissato per martedì 25 novembre alle ore 10.30 nel Chiostro Rinascimentale dell’Ateneo\, l’iniziativa rappresenta un momento di partecipazione e di impegno condiviso\, aperto a tutta la comunità universitaria. \nTutta la comunità accademica è invitata a prendere parte all’iniziativa e a contribuire a un gesto simbolico ma concreto in occasione della Giornata internazionale per l’eliminazione della violenza contro le donne. \nLocandina
URL:https://www.unitus.it/evento/182163/
LOCATION:CHIOSTRO RINASCIMENTALE RETTORATO UNITUS\, Viterbo\, Viterbo\, 01100\, Italy
CATEGORIES:Cerimonia
ATTACH;FMTTYPE=image/jpeg:https://www.unitus.it/wp-content/uploads/2025/11/pexels-mccutcheon-3835804-1-scaled.jpg
END:VEVENT
BEGIN:VEVENT
DTSTART;TZID=Europe/Rome:20251103T173000
DTEND;TZID=Europe/Rome:20251103T190000
DTSTAMP:20260420T005752
CREATED:20251015T111643Z
LAST-MODIFIED:20251015T111643Z
UID:10001281-1762191000-1762196400@www.unitus.it
SUMMARY:Cerimonia di insediamento della Magnifica Rettrice Tiziana Laureti
DESCRIPTION:Lunedì 3 novembre 2025 presso l’Auditorium del Rettorato “Carlo Azeglio Ciampi”\, si terrà la Cerimonia di insediamento della Magnifica Rettrice Prof.ssa Tiziana Laureti per il mandato 2025–2031 e il passaggio di consegne\, con il saluto del Magnifico Rettore\, Prof. Stefano Ubertini. \nLa partecipazione all’evento è esclusivamente riservata ai membri della comunità accademica. \nProgramma
URL:https://www.unitus.it/evento/cerimonia-di-insediamento-della-magnifica-rettrice-tiziana-laureti/
LOCATION:Auditorium di Santa Maria in Gradi\, Via Santa Maria in Gradi\, 4\, Viterbo\, 01100\, Italy
CATEGORIES:Cerimonia
ATTACH;FMTTYPE=image/jpeg:https://www.unitus.it/wp-content/uploads/2025/10/Insediamento-Rettrice-nov-2025_1.jpg
END:VEVENT
BEGIN:VEVENT
DTSTART;TZID=Europe/Rome:20251103T110000
DTEND;TZID=Europe/Rome:20251103T120000
DTSTAMP:20260420T005752
CREATED:20251024T122442Z
LAST-MODIFIED:20251024T123209Z
UID:10001293-1762167600-1762171200@www.unitus.it
SUMMARY:Premio di Studio per Merito in Scienze Biologiche – I edizione (A.A. 2024-2025)
DESCRIPTION:Il Dipartimento di Scienze Ecologiche e Biologiche (DEB) dell’Università degli studi della Tuscia è lieto di annunciare i vincitori della prima edizione del Premio di Studio per Merito\, istituito nell’ambito del Corso di Laurea in Scienze Biologiche (L-13) per valorizzare l’impegno e i risultati accademici degli studenti più meritevoli. \nIl riconoscimento\, del valore di 500 euro ciascuno\, è destinato iscritti al secondo anno nell’a.a. 2024-2025\, che si sono distinti per dedizione\, costanza e risultati eccellenti nel loro percorso accademico in Scienze Biologiche. \nI vincitori della prima edizione sono Eleonora Roticiani e Matteo Zaccaria. La cerimonia di conferimento dei premi si terrà lunedì 3 novembre 2025 alle ore 11:00\, presso l’Aula 5 (piano 2\, blocco B\, Campus Riello) del Dipartimento di Scienze Ecologiche e Biologiche. \nLa cerimonia si aprirà con l’intervento della prof.ssa Sara Rinalducci\, presidente del Corso di Laurea in Scienze Biologiche e della commissione di valutazione del bando. A seguire prenderanno la parola le prof.sse Laura Bertini e Roberta Meschini\, referenti per l’orientamento e membri della commissione. La mattinata si concluderà con il conferimento dei premi ai vincitori. \nCon questa iniziativa\, il Dipartimento intende promuovere e valorizzare l’eccellenza accademica\, sostenendo gli studenti nel loro percorso formativo e di crescita professionale nel campo delle Scienze Biologiche. \nLOCANDINA
URL:https://www.unitus.it/evento/premio-di-studio-per-merito-in-scienze-biologiche-i-edizione-a-a-2024-2025/
LOCATION:Viterbo
CATEGORIES:Cerimonia,Eventi giornalieri
ATTACH;FMTTYPE=image/jpeg:https://www.unitus.it/wp-content/uploads/2025/10/dna-163466_1280.jpg
END:VEVENT
BEGIN:VEVENT
DTSTART;TZID=Europe/Rome:20251012T080000
DTEND;TZID=Europe/Rome:20251012T170000
DTSTAMP:20260420T005752
CREATED:20251006T094508Z
LAST-MODIFIED:20251007T064436Z
UID:10001264-1760256000-1760288400@www.unitus.it
SUMMARY:StraViterbo
DESCRIPTION:Torna l’appuntamento con la gara solidale di Prato Giardino\, che coinvolge l’intera città di Viterbo con l’obiettivo di raccogliere fondi a favore di Viterbo con Amore. \nL’edizione 2025 sarà dedicata al 7° Memorial del Maresciallo Daniele Ferrante\, allievo della Scuola Sottufficiali dell’Esercito\, prematuramente scomparso. \nL’evento\, organizzato dagli allievi Marescialli della Scuola\, prevede due percorsi: una 5 km goliardica e una 10 km competitiva. \nLocandina
URL:https://www.unitus.it/evento/straviterbo/
LOCATION:Prato Giardino\, Via di Prato Giardino\, Viterbo\, 01100
CATEGORIES:Cerimonia
ATTACH;FMTTYPE=image/jpeg:https://www.unitus.it/wp-content/uploads/2025/10/pexels-ketut-subiyanto-5037293-scaled.jpg
END:VEVENT
BEGIN:VEVENT
DTSTART;TZID=Europe/Rome:20250724T083000
DTEND;TZID=Europe/Rome:20250724T090000
DTSTAMP:20260420T005752
CREATED:20250701T124547Z
LAST-MODIFIED:20250701T133505Z
UID:10001131-1753345800-1753347600@www.unitus.it
SUMMARY:Cerimonia di consegna Premi di Studio Biotecnologie Industriali per la Salute e il Benessere (LM-8)
DESCRIPTION:Il 24 luglio 2025 alle ore 8:30 presso l’aula F1 si terrà la cerimonia di consegna dei premi di studio del corso di laurea di Biotecnologie Industriali per la Salute e il Benessere (LM-8). La cerimonia rappresenterà un momento speciale per premiare gli studenti che si sono distinti per il loro merito accademico. Questo riconoscimento vuole essere un incoraggiamento a guardare con fiducia al futuro e un incentivo a proseguire con impegno nel percorso verso l’eccellenza.
URL:https://www.unitus.it/evento/cerimonia-di-consegna-premi-di-studio-biotecnologie-industriali-per-la-salute-e-il-benessere-lm-8/
LOCATION:Aula F1\, Riello\, Viterbo\, Seleziona uno Stato:\, 01100\, Italy
CATEGORIES:Cerimonia,Eventi giornalieri
ATTACH;FMTTYPE=image/jpeg:https://www.unitus.it/wp-content/uploads/2025/07/Unknown.jpeg
END:VEVENT
BEGIN:VEVENT
DTSTART;TZID=Europe/Rome:20250429T100000
DTEND;TZID=Europe/Rome:20250429T120000
DTSTAMP:20260420T005752
CREATED:20250331T092213Z
LAST-MODIFIED:20250417T122012Z
UID:10000937-1745920800-1745928000@www.unitus.it
SUMMARY:Presentazione libro "Riflessioni sulla storia recente della Costituzione italiana"
DESCRIPTION:Martedì 29 aprile\, presso l’Aula 3 di Santa Maria in Gradi\, verrà presentato il libro “Riflessioni sulla storia recente della Costituzione italiana” di Federico Sorrentino e Michele Francaviglia. Ne discutono insieme agli autori Giovanni Guzzetta (Università degli Studi di Roma Tor Vergata) e Nicola Lupo (LUISS Guido Carli).\nModeratori dell’evento Alessandro Sterpa (Università degli Studi della Tuscia) e Nicola Viceconte (Università degli Studi della Tuscia) \n  \n \n  \nLocandina
URL:https://www.unitus.it/evento/presentazione-libro-riflessioni-sulla-storia-recente-della-costituzione-italiana/
LOCATION:Viterbo
CATEGORIES:Cerimonia,Eventi giornalieri
ATTACH;FMTTYPE=image/png:https://www.unitus.it/wp-content/uploads/2025/03/Cattura_29_aprile_Menicocci.png
END:VEVENT
BEGIN:VEVENT
DTSTART;TZID=Europe/Rome:20250328T110000
DTEND;TZID=Europe/Rome:20250328T140000
DTSTAMP:20260420T005752
CREATED:20250321T111930Z
LAST-MODIFIED:20250321T111930Z
UID:10000847-1743159600-1743170400@www.unitus.it
SUMMARY:Seminario: Università di Agraria in Brasile: Educazione\, Innovazione e Tecnologia
DESCRIPTION:Il giorno 28/3/2025 alle ore 11 presso l’aula 5 del blocco A1 (ex agraria) si terrà il seminario del Prof. André Belico de Vasconcelos\, visiting professor dell’Università di Uberaba (Brasile)\, dal  titolo Università di Agraria in Brasile: Educazione\, Innovazione e Tecnologia. Siete tutti invitati a partecipare. \nProgramma \n 
URL:https://www.unitus.it/evento/seminario-universita-di-agraria-in-brasile-educazione-innovazione-e-tecnologia/
LOCATION:Aula 5 blocco A1 (ex agraria)\, Via San Camillo De Lellis\, Viterbo\, 01100\, Italy
CATEGORIES:Cerimonia
ATTACH;FMTTYPE=image/png:https://www.unitus.it/wp-content/uploads/2025/03/seminario.png
END:VEVENT
BEGIN:VEVENT
DTSTART;TZID=Europe/Rome:20250325T110000
DTEND;TZID=Europe/Rome:20250325T130000
DTSTAMP:20260420T005752
CREATED:20250314T122723Z
LAST-MODIFIED:20250314T122723Z
UID:10000823-1742900400-1742907600@www.unitus.it
SUMMARY:Inaugurazione dell’a.a 24-25 | Giurisprudenza e Studi europei
DESCRIPTION:Inaugurazione dell’anno accademico 2024-2025 del Corso di laurea unificato in Giurisprudenza e Studi europei\nIl prossimo 25 marzo\, a partire dalle ore 11:00\, nell’Aula Magna del Complesso del San Carlo\, avrà luogo l’inaugurazione dell’anno accademico 2024-2025 del Corso di Laurea unificato in Giurisprudenza e Studi europei\, Dipartimento di Scienze giuridiche\, sociali e pedagogiche (DIKE)\, Università degli Studi della Tuscia. La cerimonia inaugurale sarà aperta dai saluti istituzionali del Prof. Alvaro Marucci\, pro-rettore dell’Università degli Studi della Tuscia\, del Prof. Carlo Sotis\, Direttore del DIKE\, del Prof. Luca Lorenzetti\, Direttore del DISTU e del Presidente del Corso di laurea unificato\, Prof. Alberto Spinosa. La lectio magistralis\, dal titolo “Dialoghi tra culture giuridiche in prospettiva storica: tradizioni\, traduzioni\, tradimenti”\, sarà tenuta dal Prof. Ricardo Marcelo Fonseca\, già Rettore della Universidade Federal do Paraná (UFPR)\, Brasile. L’iniziativa è patrocinata dall’Associazione “Amici di Giurisprudenza” e dal Tavolo tecnico permanente “Scuola – Università – Ordini Professionali” del Tribunale ordinario di Viterbo\, con il contributo finanziario e organizzativo del progetto POT “Vale Plus”. \nVi aspettiamo! \nQui il programma dell’evento.
URL:https://www.unitus.it/evento/inaugurazione-della-a-24-25-giurisprudenza-e-studi-europei/
LOCATION:Aula Magna – Complesso San Carlo
CATEGORIES:Cerimonia
ATTACH;FMTTYPE=image/png:https://www.unitus.it/wp-content/uploads/2025/03/Screenshot-2025-03-14-132648.png
END:VEVENT
BEGIN:VEVENT
DTSTART;TZID=Europe/Rome:20250313T100000
DTEND;TZID=Europe/Rome:20250313T123000
DTSTAMP:20260420T005752
CREATED:20250303T093606Z
LAST-MODIFIED:20250303T093606Z
UID:10000810-1741860000-1741869000@www.unitus.it
SUMMARY:Walter Tosto: un viaggio di innovazione e successo
DESCRIPTION:Dalle radici locali all’impegno internazionale nel settore nucleare \nQui il programma dell’evento
URL:https://www.unitus.it/evento/walter-tosto-un-viaggio-di-innovazione-e-successo/
LOCATION:Aula Magna – Rettorato\, Via Santa Maria in Gradi 4\, Viterbo\, Viterbo\, 01100\, Italia
CATEGORIES:Cerimonia
ATTACH;FMTTYPE=image/png:https://www.unitus.it/wp-content/uploads/2025/03/Luca-Tosto.png
END:VEVENT
BEGIN:VEVENT
DTSTART;TZID=Europe/Rome:20250306T110000
DTEND;TZID=Europe/Rome:20250306T130000
DTSTAMP:20260420T005752
CREATED:20250228T105746Z
LAST-MODIFIED:20250228T110050Z
UID:10000544-1741258800-1741266000@www.unitus.it
SUMMARY:Inaugurazione dell'Anno Accademico e Laurea honoris causa a Don Mazzi
DESCRIPTION:Alle 11 prenderà il via presso il Teatro dell’Unione di Viterbo la cerimonia di inaugurazione dell’anno accademico\, con il corteo accademico e gli interventi della comunità universitaria\, che offriranno una riflessione sul ruolo e sulle prospettive dell’Ateneo. Il Rettore pronuncerà poi il discorso inaugurale\, segnando ufficialmente l’apertura dell’anno accademico. \nA mezzogiorno seguirà un momento solenne: il conferimento della laurea honoris causa in Informazione Digitale a Don Antonio Mazzi\, riconoscimento per il suo impegno nella comunicazione e nell’educazione. Dopo la laudatio\, il protagonista dell’evento terrà una lectio magistralis\, condividendo la sua esperienza e la sua visione. \nQui il programma completo della cerimonia.
URL:https://www.unitus.it/evento/inaugurazione-a-a/
LOCATION:Teatro dell’Unione Viterbo\, P.za Giuseppe Verdi\, Viterbo\, 01100\, Italy
CATEGORIES:Cerimonia
ATTACH;FMTTYPE=image/png:https://www.unitus.it/wp-content/uploads/2023/12/Logo-1.png
END:VEVENT
BEGIN:VEVENT
DTSTART;TZID=Europe/Rome:20241220T170000
DTEND;TZID=Europe/Rome:20241220T190000
DTSTAMP:20260420T005752
CREATED:20241209T114758Z
LAST-MODIFIED:20241210T103012Z
UID:10000472-1734714000-1734721200@www.unitus.it
SUMMARY:Concerto di Natale
DESCRIPTION:In occasione del prossimo Natale\, l’Università degli Studi della Tuscia ospiterà un Concerto di musiche tradizionali natalizie provenienti da diversi Paesi e di origine popolare afro-americana\, ispirate a temi evangelici sviluppatisi in America nel XIX secolo (Gospel). \nL’evento si terrà venerdì 20 dicembre 2024\, alle ore 17\, presso l’Auditorium di Santa Maria in Gradi\, con la partecipazione del rinomato Amazing Grace Gospel Choir\, diretto dal poliedrico artista Timothy Martin. \nNato in Pennsylvania\, Timothy Martin è attore\, cantante e Direttore musicale con oltre 30 anni di esperienza. Diplomato all’Oberlin Conservatory of Music e al Curtis Institute of Music\, ha studiato recitazione con Herbert Berghof agli HB Studios di New York\, dedicando la sua carriera alle arti dello spettacolo in ambiti quali teatro\, opera\, concerti\, televisione e cinema. \nUn’occasione unica per immergersi nella magia del Natale attraverso la musica! 🎶 \nScopri il programma completo!
URL:https://www.unitus.it/evento/concerto-di-natale/
LOCATION:Auditorium\, Via Santa Maria in gradi 4\, Viterbo\, Viterbo\, 01100\, Italia
CATEGORIES:Cerimonia
ATTACH;FMTTYPE=image/jpeg:https://www.unitus.it/wp-content/uploads/2024/12/pexels-elly-fairytale-5859765-scaled.jpg
END:VEVENT
BEGIN:VEVENT
DTSTART;TZID=Europe/Rome:20241206T100000
DTEND;TZID=Europe/Rome:20241206T120000
DTSTAMP:20260420T005752
CREATED:20241204T081814Z
LAST-MODIFIED:20241204T081917Z
UID:10000456-1733479200-1733486400@www.unitus.it
SUMMARY:Il palazzo papale di Viterbo e il Colle del Duomo
DESCRIPTION:Locandina e programma convegno
URL:https://www.unitus.it/evento/il-palazzo-papale-di-viterbo-e-il-colle-del-duomo/
LOCATION:Viterbo\, Viterbo\, 01100\, Italy
CATEGORIES:Cerimonia,Conferenza
ATTACH;FMTTYPE=image/jpeg:https://www.unitus.it/wp-content/uploads/2024/12/Locandina-e-programma-convegno-6-dicembre-1-1_page-0001.jpg
END:VEVENT
BEGIN:VEVENT
DTSTART;TZID=Europe/Rome:20241125T100000
DTEND;TZID=Europe/Rome:20241125T130000
DTSTAMP:20260420T005752
CREATED:20241114T134848Z
LAST-MODIFIED:20241121T085006Z
UID:10000429-1732528800-1732539600@www.unitus.it
SUMMARY:Giornata internazionale per l'eliminazione della violenza sulle donne
DESCRIPTION:La Presidente del CUG – Comitato Unico di Garanzia di Ateneo\, Prof.ssa Sonia Maria Melchiorre\, sollecita la partecipazione alla Giornata internazionale per l’eliminazione della violenza sulle donne che si terrà il 25 novembre p.v.\n\nL’Università degli Studi della Tuscia ricorderà\, alla presenza della famiglia e delle autorità locali\, Silvia Tabacchi\, laureata Unitus vittima di femminicidio.\nSarà presente l’opera “Amor ti parla” dell’artista Daniela Lai presso la sede del Centro Antiviolenza Unitus.
URL:https://www.unitus.it/evento/giornata-internazionale-per-leliminazione-della-violenza-sulle-donne/
LOCATION:Rettorato – Santa Maria in Gradi\, Via Santa Maria in Gradi\, 4\, Viterbo\, 01100
CATEGORIES:Cerimonia
ATTACH;FMTTYPE=image/png:https://www.unitus.it/wp-content/uploads/2024/11/GiornataEliminazioneViolenzaDonne.png
END:VEVENT
BEGIN:VEVENT
DTSTART;TZID=Europe/Rome:20241023T150000
DTEND;TZID=Europe/Rome:20241023T180000
DTSTAMP:20260420T005752
CREATED:20241010T085704Z
LAST-MODIFIED:20241017T130107Z
UID:10000101-1729695600-1729706400@www.unitus.it
SUMMARY:Cerimonia di conferimento del dottorato a Corrado Augias
DESCRIPTION:Siamo lieti di invitarvi alla cerimonia di conferimento del titolo di dottore di ricerca honoris causa in “Società in mutamento: politiche\, diritti e sicurezza” a  Corrado Augias\, che si terrà il  23 ottobre 2024\,  alle  ore 15:00\, presso  l’Auditorium  del complesso del rettorato\, via Santa Maria in Gradi\, n. 4. \nIl Rettore  Stefano Ubertini  conferirà il titolo a Corrado Augias in ragione del contributo alla cultura\, all’innovazione nel giornalismo\, nei media e nella letteratura e per le  analisi dei processi di cambiamento sociale e istituzionale del nostro Paese. \nSarà un’importante occasione per tutta la comunità accademica. \nPer prenotarsi scrivere a seminaripubblico@unitus.it. \nLe studentesse e gli studenti  potranno fare richiesta di riconoscimento dei CFU come da deliberazioni dei rispettivi consigli di corsi di studi.
URL:https://www.unitus.it/evento/cerimonia-di-conferimento-del-dottorato-a-corrado-augias/
LOCATION:Viterbo
CATEGORIES:Cerimonia
ATTACH;FMTTYPE=image/png:https://www.unitus.it/wp-content/uploads/2024/10/Invito-1.png
END:VEVENT
BEGIN:VEVENT
DTSTART;TZID=Europe/Rome:20240618T103000
DTEND;TZID=Europe/Rome:20240618T130000
DTSTAMP:20260420T005752
CREATED:20240520T111153Z
LAST-MODIFIED:20240520T111153Z
UID:10000006-1718706600-1718715600@www.unitus.it
SUMMARY:Convocazione Conferenza di Ateneo
DESCRIPTION:A tutto il personale di Ateneo\nA tutta la comunità studentesca\nSi trasmette la convocazione della Conferenza di Ateneo dedicata al tema: “Sistema Assicurazione Qualità” che si terrà martedì 18 giugno 2024 alle ore 10.30 presso l’Auditorium del Rettorato – complesso S. Maria in Gradi.\n\n\n\nLa Conferenza sarà trasmessa in diretta streaming attraverso la piattaforma zoom.
URL:https://www.unitus.it/evento/convocazione-conferenza-di-ateneo/
LOCATION:Auditorium\, Via Santa Maria in gradi 4\, Viterbo\, Viterbo\, 01100\, Italia
CATEGORIES:Cerimonia
ATTACH;FMTTYPE=image/png:https://www.unitus.it/wp-content/uploads/2023/10/Invito-Conferenza-di-ateneo-18-giugno-2024.png
END:VEVENT
BEGIN:VEVENT
DTSTART;TZID=Europe/Rome:20240530T100000
DTEND;TZID=Europe/Rome:20240530T130000
DTSTAMP:20260420T005752
CREATED:20240524T124051Z
LAST-MODIFIED:20240524T124051Z
UID:10000016-1717063200-1717074000@www.unitus.it
SUMMARY:Cerimonia di consegna del Diploma di Laurea di I e II livello  30 maggio 2024
DESCRIPTION:Il 30 Maggio 2024\, nella splendida cornice della Piazza San Lorenzo\, si terrà la Cerimonia di consegna del Diploma di Laurea di I e II livello. \nL’evento\, presieduto dal Magnifico Rettore e alla presenza dei Direttori di Dipartimento\, sarà un momento di incontro e condivisione per celebrare insieme il conseguimento dell’importante traguardo raggiunto dalle nostre Laureate e dai nostri Laureati. \nLa Cerimonia\, che inizierà alle ore 10.00\, sarà aperta da un intervento del Magnifico Rettore Prof. Stefano Ubertini\, seguito da saluti istituzionali delle Autorità del Territorio. L’evento proseguirà con un discorso della Professoressa Gilda Nicolai\, Presidente WeUnitus Alumni Association\, seguito dalle testimonianze di due rappresentanti delle Laureate e dei Laureati. Interverrà inoltre l’illustre attore\, regista e scrittore Piermaria Cecchini\, nativo di Viterbo. Successivamente\, le Laureate e i Laureati riceveranno dal Magnifico Rettore la Pergamena di Laurea. La Cerimonia si concluderà con i festeggiamenti ed il tradizionale lancio del tocco in Piazza San Lorenzo. \nConsulta il Programma completo della Cerimonia di Consegna del Diploma di Laurea!
URL:https://www.unitus.it/evento/cerimonia-di-consegna-del-diploma-di-laurea-di-i-e-ii-livello-30-maggio-2024/
LOCATION:Piazza San Lorenzo\, Piazza San Lorenzo\, Viterbo\, 01100\, Italia
CATEGORIES:Cerimonia
ATTACH;FMTTYPE=image/jpeg:https://www.unitus.it/wp-content/uploads/2024/05/DSC_0059-scaled.jpg
END:VEVENT
END:VCALENDAR