BEGIN:VCALENDAR
VERSION:2.0
PRODID:-//Unitus - ECPv6.15.20//NONSGML v1.0//EN
CALSCALE:GREGORIAN
METHOD:PUBLISH
X-ORIGINAL-URL:https://www.unitus.it
X-WR-CALDESC:Eventi per Unitus
REFRESH-INTERVAL;VALUE=DURATION:PT1H
X-Robots-Tag:noindex
X-PUBLISHED-TTL:PT1H
BEGIN:VTIMEZONE
TZID:Europe/Rome
BEGIN:DAYLIGHT
TZOFFSETFROM:+0100
TZOFFSETTO:+0200
TZNAME:CEST
DTSTART:20240331T010000
END:DAYLIGHT
BEGIN:STANDARD
TZOFFSETFROM:+0200
TZOFFSETTO:+0100
TZNAME:CET
DTSTART:20241027T010000
END:STANDARD
BEGIN:DAYLIGHT
TZOFFSETFROM:+0100
TZOFFSETTO:+0200
TZNAME:CEST
DTSTART:20250330T010000
END:DAYLIGHT
BEGIN:STANDARD
TZOFFSETFROM:+0200
TZOFFSETTO:+0100
TZNAME:CET
DTSTART:20251026T010000
END:STANDARD
BEGIN:DAYLIGHT
TZOFFSETFROM:+0100
TZOFFSETTO:+0200
TZNAME:CEST
DTSTART:20260329T010000
END:DAYLIGHT
BEGIN:STANDARD
TZOFFSETFROM:+0200
TZOFFSETTO:+0100
TZNAME:CET
DTSTART:20261025T010000
END:STANDARD
END:VTIMEZONE
BEGIN:VEVENT
DTSTART;VALUE=DATE:20250402
DTEND;VALUE=DATE:20250612
DTSTAMP:20260421T232257
CREATED:20250324T094531Z
LAST-MODIFIED:20250408T204020Z
UID:10000849-1743552000-1749686399@www.unitus.it
SUMMARY:Tornano gli Spring DEBates: al via la quarta edizione del ciclo di seminari tenuto dai giovani ricercatori e ricercatrici del DEB
DESCRIPTION:Anche quest’anno tornano gli Spring DEBates\, un format consolidato del Dipartimento di Scienze Ecologiche e Biologiche (DEB) da ormai quattro anni\, che vede come protagonisti docenti\, assegnisti e ricercatori dell’Università degli Studi della Tuscia. \nIl ciclo di seminari\, coordinato dal dott. Giovanni Polverino e patrocinato da Porta Futuro Lazio (PFL)\, rientra nell’ambito delle attività formative del Dottorato in “Ecologia e gestione sostenibile delle risorse ambientali” ma la partecipazione è aperta a tutti. si compone di dieci interventi e avrà inizio il 2 aprile\, per concludersi l’11 giugno. I seminari si terranno online\, con cadenza settimanale\, ogni mercoledì dalle ore 14:00 alle ore 15:00 e saranno trasmessi in diretta streaming sulla piattaforma Google Meet. \nA inaugurare la nuova edizione sarà Bianca Melita Palmas\, assegnista di ricerca\, con un seminario dal titolo: “Effetti dei “Forever Chemicals” sul comportamento animale negli ecosistemi acquatici: due casi di studio”. Registrati qui \nA tutti i dottorandi in Ecologia e gestione sostenibile delle risorse ambientali verrà riconosciuto 1 CFU\, a fronte della partecipazione ad almeno 8 seminari su 10. Per ricevere l’attestato di partecipazione è necessario prenotarsi attraverso Porta Futuro Lazio (PFL) entro le 24 ore antecedenti l’inizio del seminario (il link sarà reso disponibile anche su questa pagina la mattina del seminario). \nLa partecipazione è aperta a tutta la comunità e rappresenta un’occasione unica per approfondire le proprie conoscenze individuali sugli ultimi argomenti topics in ambito scientifico. \nÈ possibile consultare il programma completo del ciclo di seminari qui \nPer ricevere assistenza durante la prenotazione contattaci qui \n  \nLINK PER PARTECIPARE AL SEMINARIO:  https://meet.google.com/cms-yrnq-cai \n  \n 
URL:https://www.unitus.it/evento/tornano-gli-spring-debates-al-via-la-quarta-edizione-del-ciclo-di-seminari-tenuto-dai-giovani-ricercatori-e-ricercatrici-del-deb/
LOCATION:online\, Italy
CATEGORIES:Eventi ricorrenti,Webinar
ATTACH;FMTTYPE=image/jpeg:https://www.unitus.it/wp-content/uploads/2024/01/DEB_SPRING-DEBATES-1-scaled.jpg
END:VEVENT
BEGIN:VEVENT
DTSTART;TZID=Europe/Rome:20250409T110000
DTEND;TZID=Europe/Rome:20250516T170000
DTSTAMP:20260421T232257
CREATED:20250306T135454Z
LAST-MODIFIED:20250306T135454Z
UID:10000815-1744196400-1747414800@www.unitus.it
SUMMARY:Diritto e comunicazione
DESCRIPTION:Le lezioni del modulo “Diritto e comunicazione” tenuto dal Prof. Alessandro Sterpa\, inserito all’interno dei corsi di Diritto di Internet e dei Social (LMG-01) e Regolazione giuridica e sociale delle nuove tecnologie (L-36)\, grazie ad esponenti del mondo della comunicazione e studiosi affronta i maggiori profili giuridici e sociali della rete Internet e dei social media. \nLe lezioni sono aperte a tutti gli studenti Unitus interessati ai temi trattati. \n  \nLocandina
URL:https://www.unitus.it/evento/diritto-e-comunicazione/
LOCATION:Polo San Carlo\, Via San Carlo\, 32\, Viterbo\, 01100\, Italia
CATEGORIES:Seminario
ATTACH;FMTTYPE=image/jpeg:https://www.unitus.it/wp-content/uploads/2025/03/pexels-sora-shimazaki-5668473-scaled.jpg
END:VEVENT
BEGIN:VEVENT
DTSTART;TZID=Europe/Rome:20250409T150000
DTEND;TZID=Europe/Rome:20251217T170000
DTSTAMP:20260421T232257
CREATED:20250328T101313Z
LAST-MODIFIED:20250328T101313Z
UID:10000933-1744210800-1765990800@www.unitus.it
SUMMARY:Terza Edizione di "Toward Green Horizon": Un Viaggio nel Futuro della Sostenibilità
DESCRIPTION:Il ciclo di webinar “Toward Green Horizon” torna con la sua terza edizione\, pronta a partire il 9 aprile e a proseguire per tutto il 2025. Un’opportunità imperdibile per esplorare temi cruciali nel panorama scientifico e socio-politico attuale\, con un focus su: \n Scienze agrarie e forestali\n Energie rinnovabili\n Sicurezza sul lavoro\n Le tre grandi transizioni: energetica\, digitale ed ecologica \nQuesti argomenti assumono un ruolo strategico\, soprattutto in relazione agli ingenti investimenti previsti dal PNRR. \n Un Percorso di Alta Formazione\nSono in programma 26 seminari\, tenuti da docenti universitari\, funzionari\, ricercatori ed esperti di settore\, che condivideranno il proprio know-how e mostreranno le applicazioni pratiche delle loro ricerche nel mondo del lavoro. Un’opportunità di approfondimento con un approccio multidisciplinare e un alto livello di specializzazione. \n Un’Iniziativa di Prestigio\nIl ciclo di webinar è organizzato nell’ambito del:\n Dottorato in “Engineering for Energy and Environment”\n Accordo Quadro CREA-UNITUS (Consiglio per la ricerca in agricoltura e l’analisi dell’economia agraria e Università degli Studi della Tuscia)\n Progetto MUR Dipartimenti di Eccellenza “D.I.Ver.So” (Digitali\, Intelligenti\, Verdi e Sostenibili) \n Un Hub Digitale per l’Iniziativa\nQuest’anno sarà disponibile una pagina web dedicata  https://seminaricreaunitus.crea.gov.it/ con tutte le informazioni utili per iscriversi e partecipare agli eventi. \n Dove trovare le locandine con i link Zoom? \n\nSui canali social del CREA e dell’Università della Tuscia\nSul sito web dell’iniziativa\nAttraverso il portale della Regione Lazio “Porta Futuro Lazio”\n\n Formazione\, Crediti e Opportunità\n Partecipazione gratuita e aperta a tutti\n Riconoscimento CFP per professionisti: \n\n0\,25 CFP dall’Ordine dei Dottori Agronomi e Forestali di Viterbo\n2 CFP dal Collegio Territoriale dei Periti Agrari di Roma\n2 CFP dal Collegio Nazionale degli Agrotecnici\n\n Validità ai fini della formazione obbligatoria\nIl progetto formativo contribuisce al raggiungimento delle 40 ore annuali di formazione previste dalla Direttiva del Ministro della Pubblica Amministrazione del 16/01/2025. Per ottenere il riconoscimento\, è necessario superare il test di verifica finale. \n Scarica qui il programma completo!
URL:https://www.unitus.it/evento/terza-edizione-di-toward-green-horizon-un-viaggio-nel-futuro-della-sostenibilita/
CATEGORIES:Eventi giornalieri
ATTACH;FMTTYPE=image/png:https://www.unitus.it/wp-content/uploads/2025/03/Logo-TGH.png
END:VEVENT
BEGIN:VEVENT
DTSTART;VALUE=DATE:20250503
DTEND;VALUE=DATE:20250601
DTSTAMP:20260421T232257
CREATED:20250505T060709Z
LAST-MODIFIED:20250505T060956Z
UID:10000996-1746230400-1748735999@www.unitus.it
SUMMARY:UNITUS SPEAKER’S CORNER "L’università parla alla città"
DESCRIPTION:L’università della Tuscia va in vetrina e porta in piazza progetti\, ricerche e visioni per il futuro del pianeta e della società che lo abita.\nProfessori\, studiosi\, imprenditori\, esperti e studenti universitari condivideranno le loro esperienze\, parlando di ciò che “bolle in pentola”\, direttamente dalla vetrina dell’info-point Unitus\, in piazza del Plebiscito a Viterbo. \nNel piccolo corner all’angolo tra via Cavour e piazza del Comune\, l’Università incontrerà gli attori di un progetto continuo sul futuro del paese e del pianeta\, svelando in che modo l’Ateneo viterbese e la sua comunità stiano lavorando ad una prospettiva migliore per la vita di ognuno di noi. Produzione\, Energia\, Trasporti\, Impresa\, Lavoro\, Edilizia e Relazioni\, questi\, e tanti altri\, i temi che dal 3 maggio\, fino alla fine del mese\, saranno toccati nelle micro-interviste condotte da Radio Unitus dietro al vetro di Unitus Speaker’s Corner. \nCome se ci trovassimo all’angolo nord-orientale di Hyde Park a Londra\, questa volta a parlare nella nostra città saranno i docenti e gli studenti\, le aziende e i partners delle attività di ricerca e di sviluppo dei corsi di Laurea in Design\, Ingegneria Industriale\, Tecniche per la Bioedilizia ed Economia Aziendale del Dipartimento DEIM. Un vivace laboratorio creativo da cui scaturiscono idee e al cui interno nascono visioni e soluzioni per un futuro più sostenibile e a portata d’essere umano. \nDesign | sabato 3 maggio dalle ore 16:00: “Perché il design italiano è così apprezzato nel mondo?!”. E poi: quanto vale il suo indotto?… e in che modo può diventare strategico per il futuro della nostra produzione e per il made in Italy? \nIngegneria | 10 maggio \n Tecniche per la Bio-Edilizia | 24 maggio \nEconomia Aziendale | 31 maggio \nL’occasione sarà buona per scoprire come cambiano le professioni e i mestieri in rapporto alle trasformazioni in corso (transizione energetica e digitale in primis) e ricevere informazioni sui corsi di laurea\, prendendo parte ai buffet offerti e alla consegna dei gadget degli eventi.\nSi ricorda che i test di ingresso per l’iscrizione ai corsi di laurea dell’Università della Tuscia sono già aperti. Tutti i test si svolgono on-line\, sono gratuiti e ripetibili: la prossima data disponibile è quella del 21 maggio! \n  \nLocandina evento PDF
URL:https://www.unitus.it/evento/165761/
CATEGORIES:Conferenza
ATTACH;FMTTYPE=image/jpeg:https://www.unitus.it/wp-content/uploads/2025/05/UNITUS_SPKRS_locandina-scaled.jpg
END:VEVENT
BEGIN:VEVENT
DTSTART;TZID=Europe/Rome:20250510T143000
DTEND;TZID=Europe/Rome:20250510T160000
DTSTAMP:20260421T232257
CREATED:20250507T112252Z
LAST-MODIFIED:20250507T112252Z
UID:10001006-1746887400-1746892800@www.unitus.it
SUMMARY:Internazionale Kids e verde urbano
DESCRIPTION:Dal 9 all’11 maggio Reggio Emilia diventa la patria della quinta edizione di Internazionale Kids\, il primo festival di giornalismo per bambini promosso dall’omonimo mensile che porta in Italia il meglio della stampa internazionale per lettrici e lettori trai 7 e i 13 anni. \nL’ambiente sarà tra i protagonisti di questa edizione\, grazie alla presenza dell’European Forest Institute (EFI)\, organizzazione internazionale di ricerca che promuove la diffusione di informazioni scientifiche sulle foreste. Suo il compito di curare l’incontro ‘Superpoteri verdi’ che si svolgerà sabato 10 maggio\, alle 14.30 il palazzo dei Musei\, durante il quale Livia Podestà\, responsabile della comunicazione di EFI Biocities e il Dott. Gabriele Antoniella\, docente del Corso “Urban Forestry” della LM 73 “Forestry and Environmental Sciences”\, dialogheranno sul ruolo vitale che gli alberi hanno sull’ambiente\, sulle città e sulla vita di chi le abita. Dei loro superpoteri\, insomma. \nEcco perché\, spiega il Dott. Gabriele Antoniella “è fondamentale spiegare anche ai più piccoli l’importanza della gestione del verde anche in città”\, puntando l’attenzione sulla necessità di creare “una cogestione con la comunità” perché è “fondamentale la collaborazione tra gli amministratori e la cittadinanza”. Senza dimenticare\, spiega “la memoria delle piante: quello che facciamo a un albero oggi\, se lo ricorderà tra 50 anni”. Focus\, quindi\, anche sui modi “in cui non si trattano gli alberi”: ad esempio\, è da evitare “la capitozzatura\, che indebolisce la pianta” ed è necessario “affidare la gestione del verde ad esperti con competenze specifiche”. \nMa come declinare questi aspetti per un pubblico di giovanissimi? Uno dei temi affrontati\, dicono Podestà e Antoniella sarà quello della “giustizia sociale\, la cosiddetta ‘tree equity’: di solito chi ha accesso a spazi verdi vicino a casa ha un reddito maggiore. Nelle aree più ricche c’è anche più verde”. Compito dell’European Forest Institute sarà\, quindi\, quello di spiegare ai bimbi l’importanza del verde come bene comune\, del rispetto degli alberi\, mostrando\, ad esempio\, immagini del ‘prima’ e del ‘dopo’ interventi di forestazione urbana. Anche perché\, dice Podestà\, “le città saranno sempre più sottoposte a fide globali e l’educazione all’ecologia è fondamentale”. \nLocandina evento
URL:https://www.unitus.it/evento/internazionale-kids-e-verde-urbano/
LOCATION:Palazzo dei Musei\, Portico dei Marmi\, Reggio Emilia\, Italy
CATEGORIES:Seminario
ATTACH;FMTTYPE=image/jpeg:https://www.unitus.it/wp-content/uploads/2025/05/277851-md.jpg
END:VEVENT
END:VCALENDAR