BEGIN:VCALENDAR
VERSION:2.0
PRODID:-//Unitus - ECPv6.15.20//NONSGML v1.0//EN
CALSCALE:GREGORIAN
METHOD:PUBLISH
X-WR-CALNAME:Unitus
X-ORIGINAL-URL:https://www.unitus.it
X-WR-CALDESC:Eventi per Unitus
REFRESH-INTERVAL;VALUE=DURATION:PT1H
X-Robots-Tag:noindex
X-PUBLISHED-TTL:PT1H
BEGIN:VTIMEZONE
TZID:Europe/Rome
BEGIN:DAYLIGHT
TZOFFSETFROM:+0100
TZOFFSETTO:+0200
TZNAME:CEST
DTSTART:20240331T010000
END:DAYLIGHT
BEGIN:STANDARD
TZOFFSETFROM:+0200
TZOFFSETTO:+0100
TZNAME:CET
DTSTART:20241027T010000
END:STANDARD
BEGIN:DAYLIGHT
TZOFFSETFROM:+0100
TZOFFSETTO:+0200
TZNAME:CEST
DTSTART:20250330T010000
END:DAYLIGHT
BEGIN:STANDARD
TZOFFSETFROM:+0200
TZOFFSETTO:+0100
TZNAME:CET
DTSTART:20251026T010000
END:STANDARD
BEGIN:DAYLIGHT
TZOFFSETFROM:+0100
TZOFFSETTO:+0200
TZNAME:CEST
DTSTART:20260329T010000
END:DAYLIGHT
BEGIN:STANDARD
TZOFFSETFROM:+0200
TZOFFSETTO:+0100
TZNAME:CET
DTSTART:20261025T010000
END:STANDARD
END:VTIMEZONE
BEGIN:VEVENT
DTSTART;TZID=Europe/Rome:20250214T170000
DTEND;TZID=Europe/Rome:20250328T170000
DTSTAMP:20260421T035553
CREATED:20250120T103359Z
LAST-MODIFIED:20250120T103450Z
UID:10000491-1739552400-1743181200@www.unitus.it
SUMMARY:La democrazia tra forma e sostanza
DESCRIPTION:Sono aperte le iscrizioni alla Scuola di sensibilizzazione socio-politica “Mario Fani”\, spazio di approfondimento e confronto sui temi della cittadinanza per giovani dai 17 ai 30 anni.\nTema di fondo sarà “La democrazia tra forma e sostanza”: partendo dalla Costituzione Italiana si andranno a toccare principi fondamentali (il lavoro\, l’uguaglianza\, la pace) e le forme partecipative disegnate dalla nostra Carta fondamentale.\nSi comincia il 14 febbraio e si termina il 28 marzo: sette appuntamenti gratuiti\, ogni venerdì pomeriggio\, da costruire insieme.\nAi partecipanti saranno riconosciuti crediti formativi.\n\n\nL’iniziativa\, promossa dalla Diocesi di Viterbo\, ha come partner l’Università degli Studi della Tuscia\, l’Istituto Universitario “Progetto Uomo” di Montefiascone e l’Istituto Filosofico-Teologico “San Pietro” di Viterbo.\n\nLocandina\n\n\n\nQui il modulo online per le iscrizioni https://forms.office.com/e/bkj5nUKB7D\nPer ogni altra informazione si può scrivere a scuolamariofani@diocesiviterbo.it
URL:https://www.unitus.it/evento/la-democrazia-tra-forma-e-sostanza/
CATEGORIES:Conferenza
ATTACH;FMTTYPE=image/png:https://www.unitus.it/wp-content/uploads/2025/01/Screenshot-2025-01-19-alle-16.36.24.png
END:VEVENT
BEGIN:VEVENT
DTSTART;TZID=Europe/Rome:20250320T150000
DTEND;TZID=Europe/Rome:20250321T200000
DTSTAMP:20260421T035553
CREATED:20250314T081208Z
LAST-MODIFIED:20250314T081208Z
UID:10000822-1742482800-1742587200@www.unitus.it
SUMMARY:Convegno internazionale "Aphra Behn. Tra pagina e teatro"
DESCRIPTION:Nelle giornate del 20 e 21 marzo si terrà il convegno internazionale “Aphra Behn. Tra pagina e teatro”\, organizzato dalla Fondazione Teatro Due e dall’Università di Parma con il patrocinio di prestigiose istituzioni internazionali quali: Università degli Studi della Tuscia – Dipartimento di studi linguistico-letterari\, storico-filosofici e giuridici; University of Oxford – The Oxford Research Centre in the Humanities; University of Cambridge – Lucy Cavendish College; American Society for Eighteenth-Century Studies; Canadian Society for Eighteenth–Century Studies (CSECS); Women’s Studies Group; AIA – Associazione Italiana di Anglistica. \nEsperti di rilievo internazionale si riuniranno per esplorare la figura e l’opera della drammaturga e scrittrice inglese Aphra Behn\, personalità affascinante e controversa del Seicento.\nUn’occasione preziosa per approfondire la complessità di una scrittura sempre in bilico fra teatro e pagina stampata\, nonché per rileggere una fase storica cruciale attraverso la lente dell’opera di Aphra Behn. \n\nLink: https://www.teatrodue.org/aphra-behn-tra-pagina-e-teatro/?lang=en \n\nProgramma
URL:https://www.unitus.it/evento/convegno-internazionale-aphra-behn-tra-pagina-e-teatro/
LOCATION:Parma\, Parma
CATEGORIES:Convegno
ATTACH;FMTTYPE=image/png:https://www.unitus.it/wp-content/uploads/2025/03/AphraBehn.png
END:VEVENT
BEGIN:VEVENT
DTSTART;TZID=Europe/Rome:20250321T150000
DTEND;TZID=Europe/Rome:20250321T170000
DTSTAMP:20260421T035553
CREATED:20250319T142652Z
LAST-MODIFIED:20250319T144140Z
UID:10000837-1742569200-1742576400@www.unitus.it
SUMMARY:La governance dell’acqua e dei servizi idrici. Stato dell’arte e prospettive a 30 anni dalla legge Galli
DESCRIPTION:Presso l’Aula Magna del Rettorato dell’Università\, venerdì 21 marzo\, alle ore 15\, avrà luogo un incontro pubblico alla presenza di docenti universitari\, amministratori ed esperti\, che dialogheranno sullo stato dell’arte e sulle possibili prospettive future del settore idrico in Italia. \nLa c.d. legge Galli (legge n. 36 del 1994) ha segnato\, poco più di 30 anni fa\, un punto di svolta nella gestione delle risorse idriche nel nostro paese\, nel tentativo di dotare di efficienza ed efficacia l’azione delle amministrazioni coinvolte a vario titolo in materia. Nel tempo la legge ha subito diverse modifiche e oggi le sue norme sono ricomprese all’interno del c.d. codice dell’ambiente (d.lgs. n. 152 del 2006).\nLa regolazione attuale si è poi arricchita\, per volontà del legislatore (d.l. n. 201 del 2011)\, dell’intervento dell’Autorità di regolazione per energia reti e ambiente (ARERA)\, che da oltre dieci anni\, in qualità di regolatore del settore\, definisce le cornici tariffarie applicabili agli utenti finali\, in un continuo confronto con soggetti pubblici e società concessionarie.\nL’evento è stato organizzato nell’ambito del corso di “Legislazione forestale e ambientale” (DAFNE\, prof. a contratto Gabriele Sabato) in svolgimento in questo secondo semestre\, in collaborazione con il corso di dottorato in “Società in mutamento. Politiche\, diritti e sicurezza” (DEIM\, prof. associato Alessandro Sterpa). \n  \nProgramma
URL:https://www.unitus.it/evento/la-governance-dellacqua-e-dei-servizi-idrici-stato-dellarte-e-prospettive-a-30-anni-dalla-legge-galli/
LOCATION:Aula Magna – Rettorato\, Via Santa Maria in Gradi 4\, Viterbo\, Viterbo\, 01100\, Italia
CATEGORIES:Conferenza
ATTACH;FMTTYPE=image/jpeg:https://www.unitus.it/wp-content/uploads/2024/08/2150951243.jpg
END:VEVENT
END:VCALENDAR