BEGIN:VCALENDAR
VERSION:2.0
PRODID:-//Unitus - ECPv6.15.20//NONSGML v1.0//EN
CALSCALE:GREGORIAN
METHOD:PUBLISH
X-WR-CALNAME:Unitus
X-ORIGINAL-URL:https://www.unitus.it/en/
X-WR-CALDESC:Events for Unitus
REFRESH-INTERVAL;VALUE=DURATION:PT1H
X-Robots-Tag:noindex
X-PUBLISHED-TTL:PT1H
BEGIN:VTIMEZONE
TZID:Europe/Rome
BEGIN:DAYLIGHT
TZOFFSETFROM:+0100
TZOFFSETTO:+0200
TZNAME:CEST
DTSTART:20240331T010000
END:DAYLIGHT
BEGIN:STANDARD
TZOFFSETFROM:+0200
TZOFFSETTO:+0100
TZNAME:CET
DTSTART:20241027T010000
END:STANDARD
BEGIN:DAYLIGHT
TZOFFSETFROM:+0100
TZOFFSETTO:+0200
TZNAME:CEST
DTSTART:20250330T010000
END:DAYLIGHT
BEGIN:STANDARD
TZOFFSETFROM:+0200
TZOFFSETTO:+0100
TZNAME:CET
DTSTART:20251026T010000
END:STANDARD
BEGIN:DAYLIGHT
TZOFFSETFROM:+0100
TZOFFSETTO:+0200
TZNAME:CEST
DTSTART:20260329T010000
END:DAYLIGHT
BEGIN:STANDARD
TZOFFSETFROM:+0200
TZOFFSETTO:+0100
TZNAME:CET
DTSTART:20261025T010000
END:STANDARD
END:VTIMEZONE
BEGIN:VEVENT
DTSTART;TZID=Europe/Rome:20250409T150000
DTEND;TZID=Europe/Rome:20251217T170000
DTSTAMP:20260421T162023
CREATED:20250328T101313Z
LAST-MODIFIED:20250328T101517Z
UID:10000934-1744210800-1765990800@www.unitus.it
SUMMARY:Third Edition of "Toward Green Horizon": A Journey into the Future of Sustainability
DESCRIPTION:The third edition of the webinar series “Toward Green Horizon” is set to begin on April 9 and will continue throughout 2025. This is a unique opportunity to delve into key scientific and socio-political topics\, focusing on: \n Agricultural and forestry sciences\n Renewable energy\n Workplace safety\n The three major transitions: energy\, digital\, and ecological \nThese areas are of strategic importance\, especially considering the significant investments planned under the PNRR (National Recovery and Resilience Plan). \n A High-Level Training Path\nA total of 26 seminars will be held by university professors\, officials\, researchers\, and industry experts. They will share their expertise and demonstrate how their research can be applied in the job market\, ensuring a multidisciplinary approach and a high level of specialization. \n A Prestigious Initiative\nThis webinar series is organized within the framework of:\n The Ph.D. program in “Engineering for Energy and Environment”\n The Framework Agreement between CREA (Council for Agricultural Research and Economics) and the University of Tuscia\n The MUR Excellence Departments Project “D.I.Ver.So“ (Digital\, Intelligent\, Green\, and Sustainable) \n A Digital Hub for the Initiative\nThis year\, a dedicated webpage  https://seminaricreaunitus.crea.gov.it/ will be available\, providing all the necessary information on how to register and participate in the events. \n Where to find the event posters with Zoom registration links? \n\nOn the social media channels of CREA and the University of Tuscia\nOn the initiative’s official website\nThrough the Lazio Region platform “Porta Futuro Lazio”\n\n Training\, Credits\, and Opportunities\n Free participation\, open to everyone\n Professional training credits (CFP) for professionals: \n\n0.25 CFP from the Order of Agronomists and Foresters of Viterbo\n2 CFP from the Territorial College of Agricultural Experts of Rome\n2 CFP from the National College of Agrotechnicians\n\n Recognized as part of mandatory training requirements\nThis training program contributes to fulfilling the 40-hour annual training goal established by the Directive of the Minister for Public Administration (01/16/2025). To receive certification\, participants must pass the final assessment test. \n Download the full program here!
URL:https://www.unitus.it/en/evento/third-edition-of-toward-green-horizon-a-journey-into-the-future-of-sustainability/
CATEGORIES:Eventi giornalieri
ATTACH;FMTTYPE=image/png:https://www.unitus.it/wp-content/uploads/2025/03/Logo-TGH.png
END:VEVENT
BEGIN:VEVENT
DTSTART;VALUE=DATE:20251003
DTEND;VALUE=DATE:20251026
DTSTAMP:20260421T162023
CREATED:20250828T065658Z
LAST-MODIFIED:20250828T070102Z
UID:10001189-1759449600-1761436799@www.unitus.it
SUMMARY:Artificial Intelligence Workshops
DESCRIPTION:The initiatives promoted by Regione Lazio and Lazio Innova to foster digital skills and innovation continue.On October 3\, 2025\, the workshop “AI Overview: Exploring the Potential of Artificial Intelligence” will take place\, both in person at the FabLabs in Viterbo and Rieti\, and online.On October 25\, 2025\, the online workshop “Generative AI: Practical Applications for Promotion and Communication” will be held\, focusing on the use of AI in business and creative processes. \nThe workshops are open to all interested students. \n  \nProgramme
URL:https://www.unitus.it/en/evento/workshop-sullintelligenza-artificiale-nei-fablab-del-lazio/
CATEGORIES:Convegno
ATTACH;FMTTYPE=image/jpeg:https://www.unitus.it/wp-content/uploads/2025/08/pexels-tara-winstead-8386440-1-scaled.jpg
END:VEVENT
BEGIN:VEVENT
DTSTART;TZID=Europe/Rome:20251023T170000
DTEND;TZID=Europe/Rome:20251023T180000
DTSTAMP:20260421T162023
CREATED:20251020T125721Z
LAST-MODIFIED:20251020T131036Z
UID:10001283-1761238800-1761242400@www.unitus.it
SUMMARY:“Ethical and Scientific Aspects” | first meeting of the series “Environment and Society”
DESCRIPTION:On October 23\, 2025\, at 5:00 p.m.\, the “Environment and Society – Protection and Enhancement of Urban and Coastal Landscapes” series will open at the Cittadella “Semi di Pace” in Tarquinia. The initiative is promoted by Semi di Pace ODV\, Demos 23\, Assolidi\, the Società Tarquiniense d’Arte e Storia\, the cultural association La Lestra\, and Unicoop Tirreno – Sezione Soci Etruria. \nThe program aims to foster a shared reflection on the protection of the Tarquinia landscape—between the coast and the urban center—and on the value of the territory as a common good\, to be preserved and enhanced through knowledge and participation. \nThe first meeting\, entitled “Ethical and Scientific Aspects” will feature Giuseppe Nascetti\, Professor Emeritus of Ecology\, and Gianluca Piovesan\, Full Professor in the Degree Course in Natural and Environmental Sciences\, both from the Department of Ecological and Biological Sciences (DEB) at the University of Tuscia. \nIn their talks\, the two professors will contribute to the discussion on landscape protection by exploring the relationship between scientific knowledge\, ethical responsibility\, and the sustainable management of natural resources. They will focus in particular on the value of Tarquinia’s coastal and urban landscapes\, and on conservation strategies that integrate biodiversity\, local identity\, and quality of life. \nThe event will serve as a moment of dialogue between research\, civic engagement\, and local institutions\, in line with the DEB’s commitment to promoting the University’s Third Mission. \nBROCHURE
URL:https://www.unitus.it/en/evento/aspetti-etici-e-scientifici-primo-incontro-del-ciclo-ambiente-e-societa/
CATEGORIES:Eventi giornalieri
ATTACH;FMTTYPE=image/jpeg:https://www.unitus.it/wp-content/uploads/2025/10/royce-fonseca-9eNSO5ZqNgo-unsplash-scaled.jpg
END:VEVENT
BEGIN:VEVENT
DTSTART;TZID=Europe/Rome:20251025T160000
DTEND;TZID=Europe/Rome:20251025T180000
DTSTAMP:20260421T162023
CREATED:20251013T105507Z
LAST-MODIFIED:20251013T110609Z
UID:10001275-1761408000-1761415200@www.unitus.it
SUMMARY:DEB | The Montagu’s Harrier: A Twenty-Year Research Journey
DESCRIPTION:We would like to inform our students about the public meeting “Montagu’s Harrier\, a story spanning twenty years!”\, organized by LIPU BirdLife Italy – Montagu’s Harrier Study and Conservation Group (GSCA). The event will take place on Saturday\, October 25\, at 4:00 PM at the Church of Santa Maria della Salute\, via della Pescheria\, Viterbo. \nThis event represents an important opportunity for outreach and discussion focused on the protection of the Montagu’s Harrier\, one of the most emblematic species of Italian avifauna\, and to present the research and conservation activities carried out over the past twenty years. \nProf. David Costantini\, a professor of our Department\, will participate in the meeting. Other speakers will include Luciano Proietti (President of Archeotuscia)\, Alessandro Polinori (President of LIPU BirdLife Italy)\, Marco Gustin (LIPU Species and Research)\, Martina Colopardi (veterinarian\, GSCA)\, Richard Thompson (liaison with LIPU UK)\, Enzo Calevi (LIPU Viterbo delegate and GSCA coordinator)\, and Martina Anfuso (liaison with LIPU UK). \nFor information: viterbo@lipu.it  \nBROCHURE
URL:https://www.unitus.it/en/evento/deb-albanella-minore-un-racconto-lungo-ventanni/
CATEGORIES:Convegno,Eventi giornalieri
ATTACH;FMTTYPE=image/jpeg:https://www.unitus.it/wp-content/uploads/2025/10/Picture1.jpg
END:VEVENT
END:VCALENDAR