BEGIN:VCALENDAR
VERSION:2.0
PRODID:-//Unitus - ECPv6.15.20//NONSGML v1.0//EN
CALSCALE:GREGORIAN
METHOD:PUBLISH
X-WR-CALNAME:Unitus
X-ORIGINAL-URL:https://www.unitus.it/en/
X-WR-CALDESC:Events for Unitus
REFRESH-INTERVAL;VALUE=DURATION:PT1H
X-Robots-Tag:noindex
X-PUBLISHED-TTL:PT1H
BEGIN:VTIMEZONE
TZID:Europe/Rome
BEGIN:DAYLIGHT
TZOFFSETFROM:+0100
TZOFFSETTO:+0200
TZNAME:CEST
DTSTART:20240331T010000
END:DAYLIGHT
BEGIN:STANDARD
TZOFFSETFROM:+0200
TZOFFSETTO:+0100
TZNAME:CET
DTSTART:20241027T010000
END:STANDARD
BEGIN:DAYLIGHT
TZOFFSETFROM:+0100
TZOFFSETTO:+0200
TZNAME:CEST
DTSTART:20250330T010000
END:DAYLIGHT
BEGIN:STANDARD
TZOFFSETFROM:+0200
TZOFFSETTO:+0100
TZNAME:CET
DTSTART:20251026T010000
END:STANDARD
BEGIN:DAYLIGHT
TZOFFSETFROM:+0100
TZOFFSETTO:+0200
TZNAME:CEST
DTSTART:20260329T010000
END:DAYLIGHT
BEGIN:STANDARD
TZOFFSETFROM:+0200
TZOFFSETTO:+0100
TZNAME:CET
DTSTART:20261025T010000
END:STANDARD
END:VTIMEZONE
BEGIN:VEVENT
DTSTART;VALUE=DATE:20250210
DTEND;VALUE=DATE:20250312
DTSTAMP:20260423T054215
CREATED:20241008T120143Z
LAST-MODIFIED:20241010T075908Z
UID:10000097-1739170800-1741698000@www.unitus.it
SUMMARY:MARIFUNDIVE 2025 | International workshop in "Marine Fungi: Diversity and Applications"
DESCRIPTION:We would like to inform you about the opportunity to apply for the selection process for this international workshop\, suitable for students\, young researchers\, or anyone working in the field of marine fungi research. The workshop has been organized as part of the PRIN 2022 project “Mycoseas“\, with Prof. Massimiliano Fenice as the scientific coordinator.
URL:https://www.unitus.it/en/evento/marifundive-2025-international-workshop-in-marine-fungi-diversity-and-applications/
LOCATION:Museo Darwin-Dohrn\, Villa Comunale\, Napoli\, 80121\, Italy
CATEGORIES:Conferenza,Workshops
ATTACH;FMTTYPE=image/jpeg:https://www.unitus.it/wp-content/uploads/2024/10/PRIN-Immagine-3.jpg
END:VEVENT
BEGIN:VEVENT
DTSTART;TZID=Europe/Rome:20250212T093000
DTEND;TZID=Europe/Rome:20250212T190000
DTSTAMP:20260423T054215
CREATED:20250121T110838Z
LAST-MODIFIED:20250205T140918Z
UID:10000495-1739352600-1739386800@www.unitus.it
SUMMARY:Mens Rea among Behavior Biologists\, Education\, and Culture
DESCRIPTION:On the occasion of Darwin Day and the International Day of Women and Girls in Science\, the Sacco Roberta Law Firm is organizing an in-person conference\, free of charge\, at the Hotel San Giorgio in Civitavecchia (Viale Garibaldi\, 34)\, on February 12\, 2025. \nThe event will be divided into two sessions: the first\, dedicated to Darwin Day\, will take place from 9:30 AM to 1:00 PM\, while the second\, focused on the role of women in science\, will run from 4:00 PM to 7:00 PM. Among the speakers will be Prof. Claudio Carere\, a faculty member of the Department of Ecological Sciences (DEB) at the University of Tuscia. \nDuring the morning session\, the II Women in Science Award will be presented in Civitavecchia to Dr. Maria Letizia Palomba\, a researcher at DEB\, in recognition of her significant contributions to scientific research. \nDownload the event flyer here.
URL:https://www.unitus.it/en/evento/mens-rea-among-behavior-biologists-education-and-culture/
LOCATION:Hotel San Giorgio\, Viale Garibaldi 34\, Civitavecchia\, 00053\, Italy
CATEGORIES:Conference
ATTACH;FMTTYPE=image/jpeg:https://www.unitus.it/wp-content/uploads/2025/01/3796344-scaled.jpg
END:VEVENT
BEGIN:VEVENT
DTSTART;TZID=Europe/Rome:20250226T090000
DTEND;TZID=Europe/Rome:20250226T110000
DTSTAMP:20260423T054215
CREATED:20250221T082114Z
LAST-MODIFIED:20250221T082934Z
UID:10000533-1740560400-1740567600@www.unitus.it
SUMMARY:Seminar: Areas of Scientific Activity of the Research Lab for Vehicle\, Agricultural\, and Forestry Machinery Design  02/26/2025
DESCRIPTION:On February 26 at 9:00 AM\, the seminar “Areas of Scientific Activity of the Research Lab for Vehicle\, Agricultural\, and Forestry Machinery Design” will be held in the “aula blu” of the Department of Agriculture and Forest Sciences. The event will provide an overview of the research activities conducted at the Institute of Machine Design\, Faculty of Mechanical Engineering\, Poznan University of Technology\, featuring discussions on advanced topics related to the design and optimization of vehicles\, agricultural\, and forestry machinery. \nProfessor Grzegorz Ślaski will present studies on adaptive and semi-active suspension control for vehicle dynamics\, longitudinal dynamics simulation for vehicles with automatic transmissions\, and energy consumption modeling of electric vehicles under varying traffic conditions. Professor Łukasz Gierz will explore the application of the Discrete Element Method (DEM) in the design of agricultural and forestry machines and the use of neural networks for seed identification and moisture content analysis. Dr. Mikołaj Spadło will discuss simulations and fatigue life tests of machinery under random loads\, as well as challenges in automating vibration tests of battery packs for electric vehicles. Finally\, Dr. Wiktor Łykowski will present a numerical DEM analysis on the effects of dosing unit inclination on the seeding rate of granular materials. \nThis seminar represents a valuable opportunity to gain insights into innovative methodologies aimed at improving efficiency\, safety\, and sustainability in the transportation and agricultural & forestry mechanization sectors. \n 
URL:https://www.unitus.it/en/evento/seminar-areas-of-scientific-activity-of-the-research-lab-for-vehicle-agricultural-and-forestry-machinery-design-02-26-2025/
LOCATION:Aula Blu “Perone Pacifico”\, Via San Camillo de Lellis\, Viterbo\, Italia
ATTACH;FMTTYPE=image/png:https://www.unitus.it/wp-content/uploads/2025/02/Immagine.png
END:VEVENT
BEGIN:VEVENT
DTSTART;TZID=Europe/Rome:20250306T110000
DTEND;TZID=Europe/Rome:20250306T130000
DTSTAMP:20260423T054215
CREATED:20250228T105746Z
LAST-MODIFIED:20250228T110249Z
UID:10000545-1741258800-1741266000@www.unitus.it
SUMMARY:Inauguration of the Academic Year and Honorary Degree for Don Mazzi
DESCRIPTION:At 11 a.m.\, the academic year inauguration ceremony will take place at the Teatro dell’Unione in Viterbo\, featuring the traditional academic procession and speeches from the university community\, reflecting on the institution’s role and future prospects. The Rector will then deliver the inaugural address\, officially opening the new academic year. \nAt noon\, the ceremony will continue with a special moment: the conferral of an honorary degree in Digital Information to Don Antonio Mazzi\, recognizing his dedication to communication and education. Following the laudatio\, he will deliver a *lectio magistralis*\, sharing his insights and experiences. \nHere is the full program of the ceremony.
URL:https://www.unitus.it/en/evento/inauguration-of-the-academic-year-and-honorary-degree-for-don-mazzi/
LOCATION:Teatro dell’Unione Viterbo\, P.za Giuseppe Verdi\, Viterbo\, 01100\, Italy
ATTACH;FMTTYPE=image/png:https://www.unitus.it/wp-content/uploads/2023/12/Logo-1.png
END:VEVENT
BEGIN:VEVENT
DTSTART;TZID=Europe/Rome:20250324T100000
DTEND;TZID=Europe/Rome:20250324T120000
DTSTAMP:20260423T054215
CREATED:20250320T070846Z
LAST-MODIFIED:20250320T125940Z
UID:10000845-1742810400-1742817600@www.unitus.it
SUMMARY:On Air per la Comunità: Dieci Anni di Radio Unitus
DESCRIPTION:To celebrate the tenth anniversary of our university radio\, the seminar “On Air for the Community: Ten Years of Radio Unitus” will take place on March 24\, starting at 10:00 AM at the Aula Magna of the University of Tuscia. \nThe event will be an opportunity for discussion on the role of university radio as a tool for communication\, community-building\, and cultural growth\, with the participation of professionals from the radio industry who will share their experiences and perspectives. \nProgram
URL:https://www.unitus.it/en/evento/on-air-per-la-comunita-dieci-anni-di-radio-unitus/
LOCATION:Aula Magna – Rettorato\, Via Santa Maria in Gradi 4\, Viterbo\, Viterbo\, 01100\, Italia
CATEGORIES:Conferenza
ATTACH;FMTTYPE=image/png:https://www.unitus.it/wp-content/uploads/2025/03/Immagine-2025-03-20-080822.png
END:VEVENT
BEGIN:VEVENT
DTSTART;TZID=Europe/Rome:20250325T080000
DTEND;TZID=Europe/Rome:20250325T170000
DTSTAMP:20260423T054215
CREATED:20250225T082254Z
LAST-MODIFIED:20250324T124545Z
UID:10000846-1742889600-1742922000@www.unitus.it
SUMMARY:Visita Unitus 2025
DESCRIPTION:On March 25\, the University of Tuscia opens its doors for a visit dedicated to those who wish to learn more about our facilities\, degree programs\, and academic community. It’s an opportunity to explore classrooms\, laboratories\, and services\, and to meet faculty members\, tutors\, and technical-administrative staff\, who will be ready to answer your questions. \n  \n  \nLearn more!
URL:https://www.unitus.it/en/evento/visita-unitus-2025/
LOCATION:Viterbo
CATEGORIES:Conference
ATTACH;FMTTYPE=image/png:https://www.unitus.it/wp-content/uploads/2025/02/Open-Day-Universitaly.png
END:VEVENT
BEGIN:VEVENT
DTSTART;TZID=Europe/Rome:20250326T090000
DTEND;TZID=Europe/Rome:20250409T150000
DTSTAMP:20260423T054215
CREATED:20250303T093302Z
LAST-MODIFIED:20250409T090558Z
UID:10000955-1742979600-1744210800@www.unitus.it
SUMMARY:Theatre for Inclusion Workshop
DESCRIPTION:The University Inclusion Committee is pleased to announce the first edition of the Theatre for Inclusion Workshop. \nThe 30-hour workshop will take place at the ArchLab and the Exhibition Hall of Santa Maria in Gradi on the following dates: March 26\, 27\, 28 – April 8 and 9\, from 9:00 AM to 3:00 PM. It will be led by Dr. Francesca Aloi\, under the scientific coordination of the Rector’s Delegate for Inclusion\, Dr. Martina Galli\, and the project’s proponent\, Prof. Daniela Vitiello. \nThis theatrical practice does not use traditional scripts but instead focuses on the lived experiences of the participants. The aim is to stimulate social change and develop a critical awareness of the themes addressed. Through the Theatre for Inclusion Workshop\, the student body\, academic community\, and local citizens will have the opportunity to critically reflect on society and develop concrete strategies for addressing various challenges that may affect their personal and professional growth. \nThe first phase of the workshop will provide a theoretical introduction to Augusto Boal’s Theatre methodology and include practical experimentation with his games and exercises. These aim to foster a safe space\, stimulate expressiveness\, and encourage discussion on relevant social issues. \nIn the second phase\, participants will explore various theatrical techniques\, including Image Theatre and Newspaper Theatre. The latter uses theatrical language to highlight media distortions and manipulations. Drawing on real articles and news items\, the technique helps reveal what lies between the lines\, allowing participants to explore and represent topics such as human rights\, international migration\, gender equality\, cultural diversity\, disability\, and neurodiversity\, among others. \nRegistration is now open (free course)\nMaximum 30 participants \nFor more information and registration:\n📧 laboratorioinclusione@unitus.it \nPorta Futuro  \nScientific Committee:\nMartina Galli and Daniela Vitiello \nTrainer: Francesca Aloi \nPoster\nInformation
URL:https://www.unitus.it/en/evento/theatre-for-inclusion-workshop/
LOCATION:Viterbo
CATEGORIES:Seminario
ATTACH;FMTTYPE=application/pdf:https://www.unitus.it/wp-content/uploads/2025/03/Locandina-Teatro-per-linclusione-2.pdf
END:VEVENT
BEGIN:VEVENT
DTSTART;TZID=Europe/Rome:20250402T140000
DTEND;TZID=Europe/Rome:20250402T150000
DTSTAMP:20260423T054215
CREATED:20250326T164720Z
LAST-MODIFIED:20250403T054638Z
UID:10000922-1743602400-1743606000@www.unitus.it
SUMMARY:Spring DEBates - first webinar
DESCRIPTION:Effetti dei “Forever Chemicals” sul comportamento animale negli ecosistemi acquatici: due casi di studio\nSpeaker: Dr Bianca Melita Palmas \nParticipation is open to everyone. \nPhD students in Ecology and Sustainable Management of Environmental Resources can earn 1 CFU\, provided they attend at least 8 out of 10 seminars. To receive a certificate of participation\, registration is required via  Porta Futuro Lazio (PFL)Porta Futuro Lazio (PFL) at least 24 hours before the seminar starts (the link will also be available on this page on the morning of the event). \nSign up here to receive the link and the certificate of participation (by 12:00 PM on April 2nd). \nFor assistance with registration\, contact us here. \nDownload the flyer here
URL:https://www.unitus.it/en/evento/spring-debates-first-webinar/
LOCATION:Viterbo
CATEGORIES:Eventi giornalieri,Webinar
ATTACH;FMTTYPE=image/jpeg:https://www.unitus.it/wp-content/uploads/2025/03/springDEB-PFAS.jpg
END:VEVENT
BEGIN:VEVENT
DTSTART;TZID=Europe/Rome:20250409T140000
DTEND;TZID=Europe/Rome:20250409T150000
DTSTAMP:20260423T054215
CREATED:20250403T054529Z
LAST-MODIFIED:20250409T083222Z
UID:10000944-1744207200-1744210800@www.unitus.it
SUMMARY:Spring DEBates - second webinar
DESCRIPTION:Microbial communities in Antarctic deserts\nSpeaker: Dr Fabiana Canini \nParticipation is open to everyone. \nPhD students in Ecology and Sustainable Management of Environmental Resources can earn 1 CFU\, provided they attend at least 8 out of 10 seminars. To receive a certificate of participation\, registration is required via  Porta Futuro Lazio (PFL)Porta Futuro Lazio (PFL) at least 24 hours before the seminar starts (the link will also be available on this page on the morning of the event). \nSign up here to receive the link and the certificate of participation (by 00:00 on April 9th). \nFor assistance with registration\, contact us here. \nDownload the flyer here \nJOIN THE SEMINAR HERE
URL:https://www.unitus.it/en/evento/spring-debates-second-webinar/
LOCATION:Viterbo
CATEGORIES:Eventi giornalieri,Webinar
ATTACH;FMTTYPE=image/jpeg:https://www.unitus.it/wp-content/uploads/2025/04/WhatsApp-Image-2025-03-18-at-15.11.44-scaled.jpeg
END:VEVENT
BEGIN:VEVENT
DTSTART;TZID=Europe/Rome:20250416T140000
DTEND;TZID=Europe/Rome:20250416T150000
DTSTAMP:20260423T054215
CREATED:20250403T053652Z
LAST-MODIFIED:20250416T082318Z
UID:10000958-1744812000-1744815600@www.unitus.it
SUMMARY:Spring DEBates - third webinar
DESCRIPTION:Diversità nascosta e gestione delle specie marine: collegare genetica\, ecologia e conservazione\nSpeaker: Prof.  Paolo Momigliano \nParticipation is open to everyone. \nPhD students in Ecology and Sustainable Management of Environmental Resources can earn 1 CFU\, provided they attend at least 8 out of 10 seminars. To receive a certificate of participation\, registration is required via  Porta Futuro Lazio (PFL) at least 24 hours before the seminar starts (the link will also be available on this page on the morning of the event). \nSign up here to receive the link and the certificate of participation (by 00:00 on April 16th). \nFor assistance with registration\, contact us here. \nDownload the flyer here \nJOIN THE SEMINAR HERE \n 
URL:https://www.unitus.it/en/evento/spring-debates-third-webinar-2/
LOCATION:online\, Italy
CATEGORIES:Eventi giornalieri,Recurring event,Webinar
ATTACH;FMTTYPE=image/jpeg:https://www.unitus.it/wp-content/uploads/2025/04/image004.jpg
END:VEVENT
END:VCALENDAR