BEGIN:VCALENDAR
VERSION:2.0
PRODID:-//Unitus - ECPv6.15.20//NONSGML v1.0//EN
CALSCALE:GREGORIAN
METHOD:PUBLISH
X-WR-CALNAME:Unitus
X-ORIGINAL-URL:https://www.unitus.it/en/
X-WR-CALDESC:Events for Unitus
REFRESH-INTERVAL;VALUE=DURATION:PT1H
X-Robots-Tag:noindex
X-PUBLISHED-TTL:PT1H
BEGIN:VTIMEZONE
TZID:Europe/Rome
BEGIN:DAYLIGHT
TZOFFSETFROM:+0100
TZOFFSETTO:+0200
TZNAME:CEST
DTSTART:20240331T010000
END:DAYLIGHT
BEGIN:STANDARD
TZOFFSETFROM:+0200
TZOFFSETTO:+0100
TZNAME:CET
DTSTART:20241027T010000
END:STANDARD
BEGIN:DAYLIGHT
TZOFFSETFROM:+0100
TZOFFSETTO:+0200
TZNAME:CEST
DTSTART:20250330T010000
END:DAYLIGHT
BEGIN:STANDARD
TZOFFSETFROM:+0200
TZOFFSETTO:+0100
TZNAME:CET
DTSTART:20251026T010000
END:STANDARD
BEGIN:DAYLIGHT
TZOFFSETFROM:+0100
TZOFFSETTO:+0200
TZNAME:CEST
DTSTART:20260329T010000
END:DAYLIGHT
BEGIN:STANDARD
TZOFFSETFROM:+0200
TZOFFSETTO:+0100
TZNAME:CET
DTSTART:20261025T010000
END:STANDARD
END:VTIMEZONE
BEGIN:VEVENT
DTSTART;TZID=Europe/Rome:20250618T140000
DTEND;TZID=Europe/Rome:20250618T150000
DTSTAMP:20260423T210924
CREATED:20250611T122757Z
LAST-MODIFIED:20250611T123227Z
UID:10001089-1750255200-1750258800@www.unitus.it
SUMMARY:Spring DEBates - last webinar
DESCRIPTION:Modeling salinization processes in coastal aquifers\nSpeaker: Dott. Mattia Gaiolini \nPhD students in Ecology and Sustainable Management of Environmental Resources can earn 1 CFU\, provided they attend at least 8 out of 10 seminars. To receive a certificate of participation\, registration is required via  Porta Futuro Lazio (PFL) at least 24 hours before the seminar starts (the link will also be available on this page on the morning of the event). \nSign up here to receive the link and the certificate of participation (by 00:00 on June 4th). \nFor assistance with registration\, contact us here. \nDownload the flyer here \n  \n 
URL:https://www.unitus.it/en/evento/spring-debates-ultimo-incontro-2/
LOCATION:online\, Italy
CATEGORIES:Eventi giornalieri,Webinar
ATTACH;FMTTYPE=image/jpeg:https://www.unitus.it/wp-content/uploads/2025/05/stellabn-scaled.jpg
END:VEVENT
BEGIN:VEVENT
DTSTART;TZID=Europe/Rome:20250611T150000
DTEND;TZID=Europe/Rome:20250611T180000
DTSTAMP:20260423T210924
CREATED:20250603T094013Z
LAST-MODIFIED:20250603T094534Z
UID:10001078-1749654000-1749664800@www.unitus.it
SUMMARY:POPLAR CULTIVATION AS AN INNOVATIVE STRATEGY TO ADDRESS CLIMATE CHANGE THROUGH NEW CROPPING MODELS SUITABLE FOR THE PRODUCTION OF WOODY RAW MATERIALS FOR THE INDUSTRIAL AND ENERGY SECTORS
DESCRIPTION: JUNE 11 | 3:00 PM\n Registration:   https://seminaricreaunitus.crea.gov.it/ \nPoplar wood-based supply chains and their derivatives represent a hallmark of Italian excellence in both the agricultural and industrial sectors\, recognized internationally as well. Poplar cultivation provides high-quality raw material\, supported by intensive clonal selection and the promotion of sound cultivation techniques. These techniques rely on significantly fewer external inputs compared to major agricultural crops that typically share the same growing areas. Producing wood also means sequestering atmospheric carbon\, thereby contributing to key societal goals such as climate change mitigation and the environmental and landscape enhancement of rural areas. Among the viable approaches are agroforestry systems\, which combine tree-based forestry crops with agricultural cultivation and/or livestock farming\, thus creating multifunctional agricultural systems. \n The webinar is part of the training project “Towards Green Horizons”\, organized within the framework of the excellence project D.I.Ve.r.So.\nThe Order of Agronomists and Foresters of Viterbo will grant 0.25 Professional Training Credits (CFP) for each seminar; the Territorial College of Graduate Agricultural Experts of the Province of Rome will grant 2 CFP per seminar; the National College of Agrotechnicians will also grant 2 CFP per seminar.\nThe training project counts toward the annual 40-hour training performance target outlined in the Directive of the Minister for Public Administration dated January 16\, 2025. Credit recognition is subject to passing a final assessment test administered at the end of each event. \nLocandina Evento \n 
URL:https://www.unitus.it/en/evento/poplar-cultivation-as-an-innovative-strategy-to-address-climate-change-through-new-cropping-models-suitable-for-the-production-of-woody-raw-materials-for-the-industrial-and-energy-sectors/
CATEGORIES:Seminario,Webinar
ATTACH;FMTTYPE=image/png:https://www.unitus.it/wp-content/uploads/2025/06/Pioppicoltura.png
END:VEVENT
BEGIN:VEVENT
DTSTART;TZID=Europe/Rome:20250611T140000
DTEND;TZID=Europe/Rome:20250611T150000
DTSTAMP:20260423T210924
CREATED:20250529T113323Z
LAST-MODIFIED:20250529T114440Z
UID:10001049-1749650400-1749654000@www.unitus.it
SUMMARY:Spring DEBates - last webinar
DESCRIPTION:Risposte delle comunità microbiche dei suoli ai cambiamenti climatici\nSpeaker: Dott.ssa Francesca Contemori \nPhD students in Ecology and Sustainable Management of Environmental Resources can earn 1 CFU\, provided they attend at least 8 out of 10 seminars. To receive a certificate of participation\, registration is required via  Porta Futuro Lazio (PFL) at least 24 hours before the seminar starts (the link will also be available on this page on the morning of the event). \nSign up here to receive the link and the certificate of participation (by 00:00 on June 11th). \nFor assistance with registration\, contact us here. \nDownload the flyer here \n 
URL:https://www.unitus.it/en/evento/spring-debates-ultimo-incontro/
LOCATION:online\, Italy
CATEGORIES:Eventi giornalieri,Webinar
ATTACH;FMTTYPE=image/jpeg:https://www.unitus.it/wp-content/uploads/2025/05/Rettangolare-scaled.jpg
END:VEVENT
BEGIN:VEVENT
DTSTART;TZID=Europe/Rome:20250604T140000
DTEND;TZID=Europe/Rome:20250604T150000
DTSTAMP:20260423T210924
CREATED:20250521T112911Z
LAST-MODIFIED:20250604T095433Z
UID:10001037-1749045600-1749049200@www.unitus.it
SUMMARY:CANCELLED | Spring DEBates - ninth webinar
DESCRIPTION:Modeling salinization processes in coastal aquifers\nWe inform you that today’s seminar has been cancelled. We will communicate the new date shortly. \nSpeaker: Dott. Mattia Gaiolini \nPhD students in Ecology and Sustainable Management of Environmental Resources can earn 1 CFU\, provided they attend at least 8 out of 10 seminars. To receive a certificate of participation\, registration is required via  Porta Futuro Lazio (PFL) at least 24 hours before the seminar starts (the link will also be available on this page on the morning of the event). \nSign up here to receive the link and the certificate of participation (by 00:00 on June 4th). \nFor assistance with registration\, contact us here. \nDownload the flyer here \n  \n 
URL:https://www.unitus.it/en/evento/spring-debates-nono-incontro/
LOCATION:online\, Italy
CATEGORIES:Eventi giornalieri,Webinar
ATTACH;FMTTYPE=image/jpeg:https://www.unitus.it/wp-content/uploads/2025/05/stellabn-scaled.jpg
END:VEVENT
BEGIN:VEVENT
DTSTART;TZID=Europe/Rome:20250528T140000
DTEND;TZID=Europe/Rome:20250528T150000
DTSTAMP:20260423T210924
CREATED:20250514T123341Z
LAST-MODIFIED:20250515T074351Z
UID:10001023-1748440800-1748444400@www.unitus.it
SUMMARY:Spring DEBates - eighth webinar
DESCRIPTION:Predittori ambientali di misure di biodiversità floristica in Appennino\nSpeaker: Prof. Goffredo Filibeck \nParticipation is open to everyone. \nPhD students in Ecology and Sustainable Management of Environmental Resources can earn 1 CFU\, provided they attend at least 8 out of 10 seminars. To receive a certificate of participation\, registration is required via  Porta Futuro Lazio (PFL) at least 24 hours before the seminar starts (the link will also be available on this page on the morning of the event). \nSign up here to receive the link and the certificate of participation (by 00:00 on May 28th). \nFor assistance with registration\, contact us here. \nDownload the flyer here \n 
URL:https://www.unitus.it/en/evento/spring-debates-ottavo-incontro/
LOCATION:online\, Italy
CATEGORIES:Eventi giornalieri,Webinar
ATTACH;FMTTYPE=image/jpeg:https://www.unitus.it/wp-content/uploads/2025/05/Foto-seminario-filibeck-scaled.jpg
END:VEVENT
BEGIN:VEVENT
DTSTART;TZID=Europe/Rome:20250521T140000
DTEND;TZID=Europe/Rome:20250521T150000
DTSTAMP:20260423T210924
CREATED:20250505T163835Z
LAST-MODIFIED:20250521T113312Z
UID:10001000-1747836000-1747839600@www.unitus.it
SUMMARY:Spring DEBates - seventh webinar
DESCRIPTION:Rilevamento dei parassiti tramite eDNA e loro utilizzo come indicatori ecologici negli ecosistemi marini e di transizione\nSpeaker: Dr. Martina Mazzetti \nParticipation is open to everyone. \nPhD students in Ecology and Sustainable Management of Environmental Resources can earn 1 CFU\, provided they attend at least 8 out of 10 seminars. To receive a certificate of participation\, registration is required via  Porta Futuro Lazio (PFL) at least 24 hours before the seminar starts (the link will also be available on this page on the morning of the event). \nSign up here to receive the link and the certificate of participation (by 00:00 on May 21th). \nFor assistance with registration\, contact us here. \nDownload the flyer here \nJOIN THE SEMINAR HERE
URL:https://www.unitus.it/en/evento/spring-debates-settimo-incontro/
LOCATION:online\, Italy
CATEGORIES:Eventi giornalieri,Webinar
ATTACH;FMTTYPE=image/jpeg:https://www.unitus.it/wp-content/uploads/2025/05/IMG_7491-scaled.jpg
END:VEVENT
BEGIN:VEVENT
DTSTART;TZID=Europe/Rome:20250514T140000
DTEND;TZID=Europe/Rome:20250514T150000
DTSTAMP:20260423T210924
CREATED:20250428T084223Z
LAST-MODIFIED:20250521T113232Z
UID:10000980-1747231200-1747234800@www.unitus.it
SUMMARY:Spring DEBates - sixth webinar
DESCRIPTION: Il ruolo dei micovirus nelle interazioni fungo-pianta: impatti ecologici e applicazioni sostenibili\nSpeaker: Dott. Matteo Fiaschetti \nParticipation is open to everyone. \nPhD students in Ecology and Sustainable Management of Environmental Resources can earn 1 CFU\, provided they attend at least 8 out of 10 seminars. To receive a certificate of participation\, registration is required via  Porta Futuro Lazio (PFL) at least 24 hours before the seminar starts (the link will also be available on this page on the morning of the event). \nSign up here to receive the link and the certificate of participation (by 00:00 on May 14th). \nFor assistance with registration\, contact us here. \nDownload the flyer here \nJOIN THE SEMINAR HERE \n  \n 
URL:https://www.unitus.it/en/evento/spring-debates-sesto-incontro/
LOCATION:online\, Italy
CATEGORIES:Eventi giornalieri,Webinar
ATTACH;FMTTYPE=image/png:https://www.unitus.it/wp-content/uploads/2025/04/Plant-funghi-interaction.png
END:VEVENT
BEGIN:VEVENT
DTSTART;TZID=Europe/Rome:20250507T140000
DTEND;TZID=Europe/Rome:20250507T150000
DTSTAMP:20260423T210924
CREATED:20250414T104402Z
LAST-MODIFIED:20250507T100244Z
UID:10000965-1746626400-1746630000@www.unitus.it
SUMMARY:Spring DEBates - fifth webinar
DESCRIPTION:La lunga coda di una “Stella”: compromissione del differenziamento cellulare e anomalie delle dinamiche citoscheletriche nella sindrome di STAR\nSpeaker: Dr. Elena Paccosi \nParticipation is open to everyone. \nPhD students in Ecology and Sustainable Management of Environmental Resources can earn 1 CFU\, provided they attend at least 8 out of 10 seminars. To receive a certificate of participation\, registration is required via  Porta Futuro Lazio (PFL) at least 24 hours before the seminar starts (the link will also be available on this page on the morning of the event). \nSign up here to receive the link and the certificate of participation (by 00:00 on May 7th). \nFor assistance with registration\, contact us here. \nDownload the flyer here \nJOIN THE SEMINAR HERE \n 
URL:https://www.unitus.it/en/evento/spring-debates-quinto-incontro/
LOCATION:online\, Italy
CATEGORIES:Eventi giornalieri,Webinar
ATTACH;FMTTYPE=image/png:https://www.unitus.it/wp-content/uploads/2025/04/Screenshot-2025-03-20-alle-11.58.48.png
END:VEVENT
BEGIN:VEVENT
DTSTART;TZID=Europe/Rome:20250430T140000
DTEND;TZID=Europe/Rome:20250430T150000
DTSTAMP:20260423T210924
CREATED:20250414T101736Z
LAST-MODIFIED:20250430T075703Z
UID:10000963-1746021600-1746025200@www.unitus.it
SUMMARY:Spring DEBates - fourth webinar
DESCRIPTION:Biomonitoraggio di specie ittiche delle acque interne attraverso l’analisi del DNA ambientale\nSpeaker: Dott. Gerardo Petrosino \nParticipation is open to everyone. \nPhD students in Ecology and Sustainable Management of Environmental Resources can earn 1 CFU\, provided they attend at least 8 out of 10 seminars. To receive a certificate of participation\, registration is required via  Porta Futuro Lazio (PFL) at least 24 hours before the seminar starts (the link will also be available on this page on the morning of the event). \nSign up here to receive the link and the certificate of participation (by 00:00 on April 30th). \nFor assistance with registration\, contact us here. \nDownload the flyer here \nJOIN THE SEMINAR HERE \n 
URL:https://www.unitus.it/en/evento/spring-debates-quarto-incontro/
LOCATION:online\, Italy
CATEGORIES:Eventi giornalieri,Webinar
ATTACH;FMTTYPE=image/jpeg:https://www.unitus.it/wp-content/uploads/2025/04/Workflow.jpg
END:VEVENT
BEGIN:VEVENT
DTSTART;TZID=Europe/Rome:20250416T140000
DTEND;TZID=Europe/Rome:20250416T150000
DTSTAMP:20260423T210924
CREATED:20250403T053652Z
LAST-MODIFIED:20250416T082318Z
UID:10000958-1744812000-1744815600@www.unitus.it
SUMMARY:Spring DEBates - third webinar
DESCRIPTION:Diversità nascosta e gestione delle specie marine: collegare genetica\, ecologia e conservazione\nSpeaker: Prof.  Paolo Momigliano \nParticipation is open to everyone. \nPhD students in Ecology and Sustainable Management of Environmental Resources can earn 1 CFU\, provided they attend at least 8 out of 10 seminars. To receive a certificate of participation\, registration is required via  Porta Futuro Lazio (PFL) at least 24 hours before the seminar starts (the link will also be available on this page on the morning of the event). \nSign up here to receive the link and the certificate of participation (by 00:00 on April 16th). \nFor assistance with registration\, contact us here. \nDownload the flyer here \nJOIN THE SEMINAR HERE \n 
URL:https://www.unitus.it/en/evento/spring-debates-third-webinar-2/
LOCATION:online\, Italy
CATEGORIES:Eventi giornalieri,Recurring event,Webinar
ATTACH;FMTTYPE=image/jpeg:https://www.unitus.it/wp-content/uploads/2025/04/image004.jpg
END:VEVENT
BEGIN:VEVENT
DTSTART;VALUE=DATE:20250402
DTEND;VALUE=DATE:20250612
DTSTAMP:20260423T210924
CREATED:20250324T094531Z
LAST-MODIFIED:20250416T082258Z
UID:10000957-1743552000-1749686399@www.unitus.it
SUMMARY:The Spring DEBates are back: it’s kicking off the fourth edition of the series of seminars run by DEB’s young researchers
DESCRIPTION:The Spring DEBates are coming back\, a well-established format from the Department of Ecological and Biological Sciences (DEB) that has been running for four years. The series features professors\, research fellows\, and researchers from the University of Tuscia and their collaborators. \nThe series of seminar\, coordinated by Dr. Giovanni Polverino and sponsored by Porta Futuro Lazio (PFL)\, consists of ten weekly meetings and will begin on April 2nd and end on June 11th. The seminars will be held online every Wednesday from 2:00 PM to 3:00 PM\, and will be streamed live on the Google Meet platform. \nThe new edition will be inaugurated by Bianca Melita Palmas\, research assistant at Tuscia\, with a seminar titled: “Effetti dei “Forever Chemicals” sul comportamento animale negli ecosistemi acquatici: due casi di studio”. Sign up here. \nAll PhD students in Ecology and Sustainable Management of Environmental Resources will be awarded 1 CFU for attending at least 8 out of 10 seminars. To receive the certificate of participation\, it is necessary to register through Porta Futuro Lazio (PFL) at least 24 hours before the start of the seminar (the link will also be made available on this page on the morning of the seminar). \nParticipation is open to the entire community and offers a unique opportunity to deepen individual knowledge of the latest scientific topics. \nThe full seminar program can be found here. \nFor assistance during the booking process\, contact us here. \nJOIN THE SEMINAR HERE \n 
URL:https://www.unitus.it/en/evento/the-spring-debates-are-back-its-kicking-off-the-fourth-edition-of-the-series-of-seminars-run-by-debs-young-researchers-2/
LOCATION:online\, Italy
CATEGORIES:Recurring event,Webinar
ATTACH;FMTTYPE=image/jpeg:https://www.unitus.it/wp-content/uploads/2024/01/DEB_SPRING-DEBATES-1-scaled.jpg
END:VEVENT
END:VCALENDAR