BEGIN:VCALENDAR
VERSION:2.0
PRODID:-//Unitus - ECPv6.15.20//NONSGML v1.0//EN
CALSCALE:GREGORIAN
METHOD:PUBLISH
X-WR-CALNAME:Unitus
X-ORIGINAL-URL:https://www.unitus.it/en/
X-WR-CALDESC:Events for Unitus
REFRESH-INTERVAL;VALUE=DURATION:PT1H
X-Robots-Tag:noindex
X-PUBLISHED-TTL:PT1H
BEGIN:VTIMEZONE
TZID:Europe/Rome
BEGIN:DAYLIGHT
TZOFFSETFROM:+0100
TZOFFSETTO:+0200
TZNAME:CEST
DTSTART:20250330T010000
END:DAYLIGHT
BEGIN:STANDARD
TZOFFSETFROM:+0200
TZOFFSETTO:+0100
TZNAME:CET
DTSTART:20251026T010000
END:STANDARD
BEGIN:DAYLIGHT
TZOFFSETFROM:+0100
TZOFFSETTO:+0200
TZNAME:CEST
DTSTART:20260329T010000
END:DAYLIGHT
BEGIN:STANDARD
TZOFFSETFROM:+0200
TZOFFSETTO:+0100
TZNAME:CET
DTSTART:20261025T010000
END:STANDARD
BEGIN:DAYLIGHT
TZOFFSETFROM:+0100
TZOFFSETTO:+0200
TZNAME:CEST
DTSTART:20270328T010000
END:DAYLIGHT
BEGIN:STANDARD
TZOFFSETFROM:+0200
TZOFFSETTO:+0100
TZNAME:CET
DTSTART:20271031T010000
END:STANDARD
END:VTIMEZONE
BEGIN:VEVENT
DTSTART;VALUE=DATE:20260219
DTEND;VALUE=DATE:20260529
DTSTAMP:20260421T123147
CREATED:20260212T123210Z
LAST-MODIFIED:20260414T100606Z
UID:10001451-1771459200-1780012799@www.unitus.it
SUMMARY:Spring DEBates 2026: the fifth edition of DEB’s historic seminar series is renewed\, ready to offer you stimulating sessions and outstanding speakersSince 2022\, every spring the Department of Ecological and Biological Sciences (DEB) has offered a seminar series focused on scientific dialogue.
DESCRIPTION:Since 2022\, the Department of Ecological and Biological Sciences (DEB) has offered a spring seminar series focused on scientific dialogue. This year\, the Spring DEBates return in a completely renewed format: national and international professors and researchers will share their work\, ideas\, and perspectives on the most current scientific issues. \nThe series\, coordinated by Prof. Giovanni Polverino\, is part of the training activities of the PhD program in “Ecology and Sustainable Management of Environmental Resources\,” but participation is open to everyone. It consists of eight independent talks and will begin on February 19 and conclude on May 28. The seminars will be held in a hybrid format (in-person at the DEB classrooms and/or online via live Zoom streaming) on Thursday afternoons\, from 2:00 PM to 3:00 PM\, biweekly. \nThe fifth edition will be inaugurated by Prof. Nicolò Colombani\, Associate Professor at the Department of Sciences and Engineering of Matter\, Environment\, and Urban Planning at the Polytechnic University of Marche\, with a talk titled “Salinity origins and patterns in shallow groundwater bodies of the Po River lowland.” \nAll PhD students in Ecology and Sustainable Management of Environmental Resources will earn 1 ECTS credit upon attending all the seminars. \nParticipation does not require registration: links for online seminars will be published on the DEB website and social media channels one week before each event. \nYou can check out the full schedule of the seminar series here. \nDownload the poster for the first seminar here. Link to join: https://unitus.zoom.us/j/87184857245
URL:https://www.unitus.it/en/evento/spring-debates-2026-la-quinta-edizione-della-storica-rassegna-di-seminari-del-deb-si-rinnova-pronta-a-offrirvi-incontri-stimolanti-e-speaker-deccellenza-2/
CATEGORIES:Seminario
ATTACH;FMTTYPE=image/jpeg:https://www.unitus.it/wp-content/uploads/2026/02/20240527_093848-scaled.jpg
END:VEVENT
BEGIN:VEVENT
DTSTART;TZID=Europe/Rome:20260415T090000
DTEND;TZID=Europe/Rome:20260415T130000
DTSTAMP:20260421T123147
CREATED:20260410T141720Z
LAST-MODIFIED:20260410T144148Z
UID:10001563-1776243600-1776258000@www.unitus.it
SUMMARY:Breathe. Perform. Connect. A workshop for those who want to make reading aloud an engaging\, smooth\, and authentic experience.
DESCRIPTION:The workshop will provide a space and time for investigating\, reflecting on and experimenting with the expressive and communicative potential of reading aloud. The aim is to learn how to read in an engaging way that is not tiring for the listener\, and thus facilitate comprehension of content and meaning. Breathing exercises\, improvisation in acting and further study of the main sentence struction techniques will allow participants to refine their communication skills \ninfo\n\n\nmassimoroberto.beato@unitus.it
URL:https://www.unitus.it/en/evento/breathe-perform-connect-a-workshop-for-those-who-want-to-make-reading-aloud-an-engaging-smooth-and-authentic-experience/
LOCATION:Aula Magna – Complesso San Carlo
CATEGORIES:Seminario
ATTACH;FMTTYPE=image/png:https://www.unitus.it/wp-content/uploads/2026/04/Beato-e1775830688440.png
END:VEVENT
BEGIN:VEVENT
DTSTART;TZID=Europe/Rome:20260415T110000
DTEND;TZID=Europe/Rome:20260415T130000
DTSTAMP:20260421T123147
CREATED:20260409T110530Z
LAST-MODIFIED:20260409T110530Z
UID:10001572-1776250800-1776258000@www.unitus.it
SUMMARY:Seminario: Dalla performance all'empatia: il segreto di una comunicazione autentica
DESCRIPTION:Dalla performance all’empatia: il segreto di una comunicazione autentica\nCiclo di Seminari “Comunicazione: strumenti e professioni” (L-20 e LM-91) \nINTERVIENE\nGiada Pari – conduttrice radiofonica e podcast producer \nDISCUTONO\nChiara Moroni e Luigi Di Gregorio
URL:https://www.unitus.it/en/evento/seminario-dalla-performance-allempatia-il-segreto-di-una-comunicazione-autentica/
LOCATION:Aula 6 – Santa Maria in Gradi\, Italy
CATEGORIES:Seminario
ATTACH;FMTTYPE=image/png:https://www.unitus.it/wp-content/uploads/2026/04/Dalla-performance-allempatia-Giada-Pari.png
END:VEVENT
BEGIN:VEVENT
DTSTART;TZID=Europe/Rome:20260416T140000
DTEND;TZID=Europe/Rome:20260416T150000
DTSTAMP:20260421T123147
CREATED:20260409T122644Z
LAST-MODIFIED:20260414T095708Z
UID:10001558-1776348000-1776351600@www.unitus.it
SUMMARY:Spring DEBates 2026 - V meeting
DESCRIPTION:Drugs in the environment: nature’s high?\nSpeaker: Prof. Bob Wong\, full professor\, Monash University\, Australia. \nParticipation is open to everyone. \nAward of 1 CFUs for PhD students in Ecology and Sustainable Management of Environmental Resources\, upon attendance of the entire seminar series. \nThe seminar will be streamed online and conducted in English \nZoom Link: https://unitus.zoom.us/j/87184857245 \nDownload here the poster \n 
URL:https://www.unitus.it/en/evento/spring-debates-2026-v-incontro/
LOCATION:online\, Italy
CATEGORIES:Seminario
ATTACH;FMTTYPE=image/jpeg:https://www.unitus.it/wp-content/uploads/2026/04/poecilia.jpg
END:VEVENT
END:VCALENDAR