BEGIN:VCALENDAR
VERSION:2.0
PRODID:-//Unitus - ECPv6.15.20//NONSGML v1.0//EN
CALSCALE:GREGORIAN
METHOD:PUBLISH
X-WR-CALNAME:Unitus
X-ORIGINAL-URL:https://www.unitus.it/en/
X-WR-CALDESC:Events for Unitus
REFRESH-INTERVAL;VALUE=DURATION:PT1H
X-Robots-Tag:noindex
X-PUBLISHED-TTL:PT1H
BEGIN:VTIMEZONE
TZID:Europe/Rome
BEGIN:DAYLIGHT
TZOFFSETFROM:+0100
TZOFFSETTO:+0200
TZNAME:CEST
DTSTART:20240331T010000
END:DAYLIGHT
BEGIN:STANDARD
TZOFFSETFROM:+0200
TZOFFSETTO:+0100
TZNAME:CET
DTSTART:20241027T010000
END:STANDARD
BEGIN:DAYLIGHT
TZOFFSETFROM:+0100
TZOFFSETTO:+0200
TZNAME:CEST
DTSTART:20250330T010000
END:DAYLIGHT
BEGIN:STANDARD
TZOFFSETFROM:+0200
TZOFFSETTO:+0100
TZNAME:CET
DTSTART:20251026T010000
END:STANDARD
BEGIN:DAYLIGHT
TZOFFSETFROM:+0100
TZOFFSETTO:+0200
TZNAME:CEST
DTSTART:20260329T010000
END:DAYLIGHT
BEGIN:STANDARD
TZOFFSETFROM:+0200
TZOFFSETTO:+0100
TZNAME:CET
DTSTART:20261025T010000
END:STANDARD
BEGIN:DAYLIGHT
TZOFFSETFROM:+0100
TZOFFSETTO:+0200
TZNAME:CEST
DTSTART:20270328T010000
END:DAYLIGHT
BEGIN:STANDARD
TZOFFSETFROM:+0200
TZOFFSETTO:+0100
TZNAME:CET
DTSTART:20271031T010000
END:STANDARD
END:VTIMEZONE
BEGIN:VEVENT
DTSTART;TZID=Europe/Rome:20260422T100000
DTEND;TZID=Europe/Rome:20260422T130000
DTSTAMP:20260422T223700
CREATED:20260415T083725Z
LAST-MODIFIED:20260415T112235Z
UID:10001584-1776852000-1776862800@www.unitus.it
SUMMARY:L’impresa è donna
DESCRIPTION:Iniziative per la diffusione della Cultura d’Impresa \nL’impresa è donna\nPROGRAMMA \nSaluti Istituzionali\nSonia Melchiorre\nPresidente del CUG (Centro Unico di Garanzia) di Ateneo \nInterverranno\nChiara Moroni\nProfessore di Sociologia dei processi culturali e della comunicazione – Università degli Studi della Tuscia\, Componente Comitato Impresa Donna \nVincenza Frasca – autrice del libro “L’impresa è donna” Edizioni Ultra\nImprenditrice\, Vice Presidente Nazionale Confimi Industria\, Vice Presidente Comitato Impresa Donna \nIlaria Caporali\nCHO e Founder Balance Consulting \nSCARICA LA LOCANDINA
URL:https://www.unitus.it/en/evento/limpresa-e-donna/
LOCATION:Aula Radulet\, Complesso Santa Maria in Gradi\, Viterbo\, 01100\, Italy
CATEGORIES:Convegno
ATTACH;FMTTYPE=image/png:https://www.unitus.it/wp-content/uploads/2026/04/limpresa-e-donna-Locandina.png
END:VEVENT
BEGIN:VEVENT
DTSTART;TZID=Europe/Rome:20260416T150000
DTEND;TZID=Europe/Rome:20260417T130000
DTSTAMP:20260422T223700
CREATED:20260409T093239Z
LAST-MODIFIED:20260409T093239Z
UID:10001555-1776351600-1776430800@www.unitus.it
SUMMARY:Shields and Bridges: Immunity of International Organizations and the Diversity of Legal Systems
DESCRIPTION:16 April | 3:00 p.m. – 6:00 p.m.\nSala Spinelli \nPresentation of the project\n“Shields and Bridges: Immunity of International Organizations and the Diversity of Legal Systems”\n(PRIN 2022 – 2022AJA5NS) \nPresentation of the IO-IMMUNITY Database \nPresentation of the Guide to Practice \nBeatrice Bonafè\, Eleonora Castro\, Valentina Chabert\, Matteo Bassetti De Angelis\, Alessandro Bufalini\, Federica Passarini\, Franco Di Pede\, Maurizio Arcari\, Bernardo Mageste\, Castelar Campos\, Rafael Melo Fonseca \n  \n17 April | 9:00 a.m. – 1:00 p.m.\nRoom 6 \nProf. Carlo Sotis\nDean of DIKE Department\nWelcome and Opening Greetings \nProf. Beatrice Bonafè\nSapienza University of Rome\, Paris-Panthéon-Assas University\nChair \nProf. Catherine Brölmann\nUniversity of Amsterdam\nThe Quest for Restrictive IO Immunity: Between The Hague and Strasbourg \nProf. August Reinisch\nUniversity of Vienna\nTreatment of the Immunity Problem in the work of the ILC \nProf. Frédéric Dopagne\nUniversity of Louvain\nImmunity of International Organizations and the Right of Access to a Court: the Role of the Host State’s Executive Branch \nProf. Paolo Palchetti\nParis 1 – Panthéon Sorbonne University\nThe Waite and Kennedy Approach: What We Know About It (and What We Don’t) \nDiscussants\nProf. Riccardo Pavoni\nUniversity of Siena \nProf. Pierfrancesco Rossi\nUniversity of Teramo \nPOSTER
URL:https://www.unitus.it/en/evento/shields-and-bridges-immunity-of-international-organizations-and-the-diversity-of-legal-systems/
LOCATION:Rettorato – Santa Maria in Gradi\, Via Santa Maria in Gradi\, 4\, Viterbo\, 01100
CATEGORIES:Convegno
ATTACH;FMTTYPE=image/png:https://www.unitus.it/wp-content/uploads/2026/04/Shields-and-Bridges-Immunity-of-International-Organizations-and-the-Diversity-of-Legal-Systems.png
END:VEVENT
BEGIN:VEVENT
DTSTART;TZID=Europe/Rome:20251205T103000
DTEND;TZID=Europe/Rome:20251205T120000
DTSTAMP:20260422T223700
CREATED:20251128T095631Z
LAST-MODIFIED:20251128T100201Z
UID:10001360-1764930600-1764936000@www.unitus.it
SUMMARY:The Quality Assurance System and the Student Community
DESCRIPTION:The University invites students to attend the event “The Quality Assurance System and the Student Community”\, dedicated to introducing the role of students within the University Quality Assurance (QA) system. \nThe event aims to explain how the QA system works\, highlight the importance of student involvement in evaluation and continuous improvement processes\, and present the main tools\, services and activities offered by the University in support of students. \n📅 Date and time\nMorning session (Italian – for the italian speaker student community)\n5 December 2025\, from 10:30 a.m. to 12:00 p.m.\n❗ Teaching activities will be suspended from 10:00 a.m. to 12:00 p.m. \nAfternoon session (English – for international students / Welcome Day)\n5 December 2025\, starting from 2:00 p.m – Auditorium \n📡 A remote connection will be available for off-campus locations. \nThe initiative is organised by the University Quality Assurance Board and the Quality Assurance Office\, with the participation of student representatives within the University governing bodies.
URL:https://www.unitus.it/en/evento/the-quality-assurance-system-and-the-student-community/
CATEGORIES:Convegno
ATTACH;FMTTYPE=image/png:https://www.unitus.it/wp-content/uploads/2025/11/Il-Sistema-di-Assicurazione-della-Qualita-la-Comunita-Studentesca.png
END:VEVENT
BEGIN:VEVENT
DTSTART;TZID=Europe/Rome:20251025T160000
DTEND;TZID=Europe/Rome:20251025T180000
DTSTAMP:20260422T223700
CREATED:20251013T105507Z
LAST-MODIFIED:20251013T110609Z
UID:10001275-1761408000-1761415200@www.unitus.it
SUMMARY:DEB | The Montagu’s Harrier: A Twenty-Year Research Journey
DESCRIPTION:We would like to inform our students about the public meeting “Montagu’s Harrier\, a story spanning twenty years!”\, organized by LIPU BirdLife Italy – Montagu’s Harrier Study and Conservation Group (GSCA). The event will take place on Saturday\, October 25\, at 4:00 PM at the Church of Santa Maria della Salute\, via della Pescheria\, Viterbo. \nThis event represents an important opportunity for outreach and discussion focused on the protection of the Montagu’s Harrier\, one of the most emblematic species of Italian avifauna\, and to present the research and conservation activities carried out over the past twenty years. \nProf. David Costantini\, a professor of our Department\, will participate in the meeting. Other speakers will include Luciano Proietti (President of Archeotuscia)\, Alessandro Polinori (President of LIPU BirdLife Italy)\, Marco Gustin (LIPU Species and Research)\, Martina Colopardi (veterinarian\, GSCA)\, Richard Thompson (liaison with LIPU UK)\, Enzo Calevi (LIPU Viterbo delegate and GSCA coordinator)\, and Martina Anfuso (liaison with LIPU UK). \nFor information: viterbo@lipu.it  \nBROCHURE
URL:https://www.unitus.it/en/evento/deb-albanella-minore-un-racconto-lungo-ventanni/
CATEGORIES:Convegno,Eventi giornalieri
ATTACH;FMTTYPE=image/jpeg:https://www.unitus.it/wp-content/uploads/2025/10/Picture1.jpg
END:VEVENT
BEGIN:VEVENT
DTSTART;TZID=Europe/Rome:20251013T180000
DTEND;TZID=Europe/Rome:20251013T193000
DTSTAMP:20260422T223700
CREATED:20251008T073058Z
LAST-MODIFIED:20251007T094911Z
UID:10001266-1760378400-1760383800@www.unitus.it
SUMMARY:Ceremony for the Conferment of the University Seal to Maestro Mogol
DESCRIPTION:The University of Tuscia will confer the University Seal on Maestro Mogol\, one of the most influential figures in Italian music and culture.\nThe ceremony will take place on Monday\, 13 October 2025\, at 6:00 p.m.\, in the “Carlo Azeglio Ciampi” Auditorium. \nThe event will open with an introduction by Rector Stefano Ubertini\, followed by the laudatio and the presentation of the University Seal to Maestro Mogol.\nAfterwards\, Rector Ubertini and Carlo Galeotti\, Director of Tusciaweb\, will engage in a conversation with Mogol\, retracing the milestones of his extraordinary career and reflecting on the meaning of creativity and artistic expression. \nThe evening will continue with the performance “Music and Words”\, during which Mogol will share stories\, memories\, and insights about his most iconic songs\, accompanied on the piano by Maestro Giuseppe Barbera.\nThe event will conclude with a special finale\, filled with those “Emotions” that have marked the history of Italian music. \nAdmission is free until full capacity is reached.
URL:https://www.unitus.it/en/evento/conferimento-sigillo-al-maestro-mogol/
LOCATION:Auditorium\, Via Santa Maria in gradi 4\, Viterbo\, Viterbo\, 01100\, Italia
CATEGORIES:Convegno
ATTACH;FMTTYPE=image/png:https://www.unitus.it/wp-content/uploads/2025/10/Sigillo-Mogol.png
END:VEVENT
BEGIN:VEVENT
DTSTART;VALUE=DATE:20251003
DTEND;VALUE=DATE:20251026
DTSTAMP:20260422T223700
CREATED:20250828T065658Z
LAST-MODIFIED:20250828T070102Z
UID:10001189-1759449600-1761436799@www.unitus.it
SUMMARY:Artificial Intelligence Workshops
DESCRIPTION:The initiatives promoted by Regione Lazio and Lazio Innova to foster digital skills and innovation continue.On October 3\, 2025\, the workshop “AI Overview: Exploring the Potential of Artificial Intelligence” will take place\, both in person at the FabLabs in Viterbo and Rieti\, and online.On October 25\, 2025\, the online workshop “Generative AI: Practical Applications for Promotion and Communication” will be held\, focusing on the use of AI in business and creative processes. \nThe workshops are open to all interested students. \n  \nProgramme
URL:https://www.unitus.it/en/evento/workshop-sullintelligenza-artificiale-nei-fablab-del-lazio/
CATEGORIES:Convegno
ATTACH;FMTTYPE=image/jpeg:https://www.unitus.it/wp-content/uploads/2025/08/pexels-tara-winstead-8386440-1-scaled.jpg
END:VEVENT
BEGIN:VEVENT
DTSTART;TZID=Europe/Rome:20251001T093000
DTEND;TZID=Europe/Rome:20251003T200000
DTSTAMP:20260422T223700
CREATED:20250909T095858Z
LAST-MODIFIED:20250909T100557Z
UID:10001225-1759311000-1759521600@www.unitus.it
SUMMARY:International conference on Old-Growth Forests
DESCRIPTION:Here is an opportunity for Unitus young researchers (Students\, PhDs\, and post-docs) to participate in an international conference on Old-Growth Forests. \nThe conference is being organized in Italy by the Biodiversity group of the Carabinieri Forestry Corps\, led by General Raffaele Manicone\, whom I would like to thank for their generous support. \nYour participation will be almost fully covered\, including transport\, accommodation\, and some meals (lunch). \nThe event will take place from October 1-3 in Florence (Palazzo Vecchio\, Hall of the 500) and Vallombrosa (Reggello – FI). You can find more details at this link. \n  \nThis conference\, which is being supported by prof. Piovesan and other colleagues\, will feature top global scientists like David Lyndmayer and Sandra Diaz. \nIf you’re interested in attending\, please fill out this form as soon as possible. \n  \n 
URL:https://www.unitus.it/en/evento/international-conference-on-old-growth-forests/
LOCATION:Firenze – Palazzo Vecchio
CATEGORIES:Convegno
ATTACH;FMTTYPE=image/jpeg:https://www.unitus.it/wp-content/uploads/2025/09/logo-Foreste-Vetuste-e-Antichi-Alberi-Un-Tesoro-di-Natura-Vita-e-Cultura.jpg
END:VEVENT
BEGIN:VEVENT
DTSTART;TZID=Europe/Rome:20250910T100000
DTEND;TZID=Europe/Rome:20250917T130000
DTSTAMP:20260422T223700
CREATED:20250804T112940Z
LAST-MODIFIED:20250828T113004Z
UID:10001194-1757498400-1758114000@www.unitus.it
SUMMARY:Open Days | september 2025
DESCRIPTION:On September 10\, 11\, 16\, and 17\, 2025\, Unitus will open its doors to everyone who wants to get to know the University up close. \nIf you’re interested in enrolling in one of our degree programs\, becoming part of the Unitus community\, or simply want to explore our facilities\, this is the perfect opportunity: you can visit classrooms and laboratories\, and meet tutors\, professors\, and administrative staff\, all ready to welcome you and answer your questions! \nCheck the program and register on the page!
URL:https://www.unitus.it/en/evento/open-day-settembre-2025/
CATEGORIES:Conference,Convegno
ATTACH;FMTTYPE=image/jpeg:https://www.unitus.it/wp-content/uploads/2025/08/unitus_POSTER_6x3-2-scaled.jpg
END:VEVENT
BEGIN:VEVENT
DTSTART;TZID=Europe/Rome:20250909T090000
DTEND;TZID=Europe/Rome:20250912T200000
DTSTAMP:20260422T223700
CREATED:20250828T082518Z
LAST-MODIFIED:20250828T085048Z
UID:10001193-1757408400-1757707200@www.unitus.it
SUMMARY:LXVIII Annual Congress of the Italian Society of Agricultural Genetics (SIGA)
DESCRIPTION:From September 9 to 12\, 2025\, the LXVIII Annual Congress of the Italian Society of Agricultural Genetics (SIGA) will be held in Viterbo. The venue of the Congress will be the Auditorium of the Monumental Complex of Santa Maria in Gradi\, University of Tuscia\, Via Santa Maria in Gradi 4. The official language of the Congress will be English. The Congress will include seven oral sessions and a workshop\, as detailed in the attached programme. Each session will feature talks by invited international experts\, as well as oral and poster presentations. \nProgram \nFlyer \n 
URL:https://www.unitus.it/en/evento/lxviii-congresso-annuale-della-societa-italiana-di-genetica-agraria-siga/
LOCATION:Auditorium di Santa Maria in Gradi\, Via Santa Maria in Gradi\, 4\, Viterbo\, 01100\, Italy
CATEGORIES:Convegno
ATTACH;FMTTYPE=image/png:https://www.unitus.it/wp-content/uploads/2025/08/Annual-congress-italian-society-of-agricultral-genetics.png
END:VEVENT
BEGIN:VEVENT
DTSTART;TZID=Europe/Rome:20250901T170000
DTEND;TZID=Europe/Rome:20250911T193000
DTSTAMP:20260422T223700
CREATED:20250821T110256Z
LAST-MODIFIED:20250821T113316Z
UID:10001184-1756746000-1757619000@www.unitus.it
SUMMARY:Between Emotions and Relationships: Strategies for Wellbeing in Contemporary Complexity
DESCRIPTION:The series of meetings will consist of lectures by experts Dr. Stefano Eleuteri\, Dr. Maria Fascetti\, Dr. Valentina Panetti\, Dr. Edgardo Reali\, and Dr. Silvia Allegro\, taking place from September 1 to 11 both online and in person\, according to the program available in this flyer. \nTo register\, please fill out the form at this link. \n> Schedule of the meetings \n\nPro-Ben is a project funded by the Ministry of Research\, aimed at creating a unified and shared model for promoting the psychophysical well-being of the university community and focused on reducing the psychological distress of students during their university years and throughout their personal growth and path to self-determination. \nThe project is coordinated by the University of Rome “La Sapienza” and involves 8 different universities and AFAM institutions\, including the University of Tuscia under the coordination of Dr. Martina Galli.
URL:https://www.unitus.it/en/evento/between-emotions-and-relationships-strategies-for-wellbeing-in-contemporary-complexity/
CATEGORIES:Convegno,Webinar,Workshops
ATTACH;FMTTYPE=image/png:https://www.unitus.it/wp-content/uploads/2025/08/Loghi-ProBen-sito.png
END:VEVENT
BEGIN:VEVENT
DTSTART;TZID=Europe/Rome:20250716T090000
DTEND;TZID=Europe/Rome:20250717T170000
DTSTAMP:20260422T223700
CREATED:20250708T104922Z
LAST-MODIFIED:20250708T110329Z
UID:10001153-1752656400-1752771600@www.unitus.it
SUMMARY:Workshop From Words to Action
DESCRIPTION:From Words to Action: Interdisciplinary Workshop on Hate Speech\, Extremism and Radicalisation \nAs part of the Horizon Europe project design initiatives\, the international workshop “From Words to Action” will take place on July 16-17\, 2025 at DISTU (Room 6\, Via S. Carlo 32). The event will focus on hate speech\, extremism\, and radicalisation\, and will feature contributions from scholars from various European and South American universities. \n\n\nDownload the flyer – English version (PDF) \nFor more information: a.cifariello@unitus.it – g.fiordaliso@unitus.it
URL:https://www.unitus.it/en/evento/workshop-from-words-to-action/
LOCATION:Aula 6 – Complesso San Carlo
CATEGORIES:Convegno
ATTACH;FMTTYPE=image/jpeg:https://www.unitus.it/wp-content/uploads/2025/07/Wokshop-Horizon-Hate.jpg
END:VEVENT
END:VCALENDAR